BEGIN:VCALENDAR
VERSION:2.0
PRODID:-//Gotta Be Superior - ECPv6.15.18//NONSGML v1.0//EN
CALSCALE:GREGORIAN
METHOD:PUBLISH
X-WR-CALNAME:Gotta Be Superior
X-ORIGINAL-URL:https://gottabesuperior.com
X-WR-CALDESC:Events for Gotta Be Superior
REFRESH-INTERVAL;VALUE=DURATION:PT1H
X-Robots-Tag:noindex
X-PUBLISHED-TTL:PT1H
BEGIN:VTIMEZONE
TZID:America/Chicago
BEGIN:DAYLIGHT
TZOFFSETFROM:-0600
TZOFFSETTO:-0500
TZNAME:CDT
DTSTART:20250309T080000
END:DAYLIGHT
BEGIN:STANDARD
TZOFFSETFROM:-0500
TZOFFSETTO:-0600
TZNAME:CST
DTSTART:20251102T070000
END:STANDARD
BEGIN:DAYLIGHT
TZOFFSETFROM:-0600
TZOFFSETTO:-0500
TZNAME:CDT
DTSTART:20260308T080000
END:DAYLIGHT
BEGIN:STANDARD
TZOFFSETFROM:-0500
TZOFFSETTO:-0600
TZNAME:CST
DTSTART:20261101T070000
END:STANDARD
BEGIN:DAYLIGHT
TZOFFSETFROM:-0600
TZOFFSETTO:-0500
TZNAME:CDT
DTSTART:20270314T080000
END:DAYLIGHT
BEGIN:STANDARD
TZOFFSETFROM:-0500
TZOFFSETTO:-0600
TZNAME:CST
DTSTART:20271107T070000
END:STANDARD
END:VTIMEZONE
BEGIN:VEVENT
DTSTART;TZID=America/Chicago:20260420T180000
DTEND;TZID=America/Chicago:20260420T193000
DTSTAMP:20260420T013525
CREATED:20260401T234409Z
LAST-MODIFIED:20260401T234409Z
UID:10018960-1776708000-1776713400@gottabesuperior.com
SUMMARY:Free Movie: "Hamnet" @ Superior Public Library - Superior
DESCRIPTION:The library will offer a free showing of the Oscar-winning film\, “Hamnet\,” on April 20 at 6 p.m. Set in late 16th-century England\, this film starts Jessie Buckley as Agnes\, a healer sensitive to the world around her\, who builds a home with William (Paul Mescal)\, a local tutor and aspiring playwright. As their lives fracture\, they are tested by distance\, silence\, and grief. This movie is rated PG-13 and closed captions will be enabled.
URL:https://gottabesuperior.com/event/free-movie-hamnet-superior-public-library-superior/
LOCATION:Superior Public Library\, 1530 Tower Ave\, Superior\, WI\, 54880\, United States
CATEGORIES:Community Gathering,Event/Game/Sports Spectator,Free,Movies/Film
ATTACH;FMTTYPE=image/jpeg:https://gottabesuperior.com/wp-content/uploads/2026/04/Hamnet.jpg
END:VEVENT
BEGIN:VEVENT
DTSTART;TZID=America/Chicago:20260420T180000
DTEND;TZID=America/Chicago:20260420T210000
DTSTAMP:20260420T013525
CREATED:20260110T214301Z
LAST-MODIFIED:20260110T214301Z
UID:10017869-1776708000-1776718800@gottabesuperior.com
SUMMARY:Digimon Mondays @ Level UP - Superior
DESCRIPTION:Calling all Digi-Destined!Looking for an exciting way to kick off your week? Step into the Digital World every Monday at 6 PM for our weekly Digimon Card Game night!\nBring your best deck\, meet fellow Digi-Destined\, and forge lasting friendships as you battle for glory. Whether you’re a seasoned Tamer or brand-new to the game\, our friendly staff will be there to help you learn\, play\, and have a blast.\nExclusive prizes and bonuses await so come ready to unleash your Digimon’s true potential!\nJoin us\, and make Monday nights your gateway to the Digiverse!
URL:https://gottabesuperior.com/event/digimon-mondays-level-up-superior/2026-04-20/
LOCATION:Level Up\, 525 Tower Ave\, Superior\, WI\, 54880\, United States
CATEGORIES:Community Gathering,Culture,Event/Game/Sport Participation
ATTACH;FMTTYPE=image/jpeg:https://gottabesuperior.com/wp-content/uploads/2026/01/Digimon.jpg
END:VEVENT
BEGIN:VEVENT
DTSTART;TZID=America/Chicago:20260420T190000
DTEND;TZID=America/Chicago:20260420T203000
DTSTAMP:20260420T013525
CREATED:20250921T165931Z
LAST-MODIFIED:20250921T165931Z
UID:10016483-1776711600-1776717000@gottabesuperior.com
SUMMARY:DJ Bingo @ Superior Tavern - Superior
DESCRIPTION:Love Music?\nCome play DJ Bingo\, the hottest Music Bingo game!\nFree to Play.Win Prizes.Progressive Jackpot!\nWe’ll play a song clip and show details on the TV. You will have limited time to figure out what the song is and use that magnificent brain of yours to match for a DJ Bingo.\nUnlike traditional bingo\, there are no balls\, no lengthy cards\, no free spaces and no snoozing!\nDJ Bingo allows you to sing and dance your way to a win\, if that’s your thing\, it’s a ton of fun!
URL:https://gottabesuperior.com/event/dj-bingo-superior-tavern-superior/2026-04-20/
LOCATION:Superior Tavern\, 1224 Tower Ave.\, Superior\, WI\, 54880\, United States
CATEGORIES:Event/Game/Sport Participation,Live Entertainment
ATTACH;FMTTYPE=image/jpeg:https://gottabesuperior.com/wp-content/uploads/2025/09/514416300_1242121307710877_4418092358682648572_n.jpg
END:VEVENT
END:VCALENDAR