BEGIN:VCALENDAR
VERSION:2.0
PRODID:-//Gotta Be Superior - ECPv6.15.18//NONSGML v1.0//EN
CALSCALE:GREGORIAN
METHOD:PUBLISH
X-WR-CALNAME:Gotta Be Superior
X-ORIGINAL-URL:https://gottabesuperior.com
X-WR-CALDESC:Events for Gotta Be Superior
REFRESH-INTERVAL;VALUE=DURATION:PT1H
X-Robots-Tag:noindex
X-PUBLISHED-TTL:PT1H
BEGIN:VTIMEZONE
TZID:America/Chicago
BEGIN:DAYLIGHT
TZOFFSETFROM:-0600
TZOFFSETTO:-0500
TZNAME:CDT
DTSTART:20250309T080000
END:DAYLIGHT
BEGIN:STANDARD
TZOFFSETFROM:-0500
TZOFFSETTO:-0600
TZNAME:CST
DTSTART:20251102T070000
END:STANDARD
BEGIN:DAYLIGHT
TZOFFSETFROM:-0600
TZOFFSETTO:-0500
TZNAME:CDT
DTSTART:20260308T080000
END:DAYLIGHT
BEGIN:STANDARD
TZOFFSETFROM:-0500
TZOFFSETTO:-0600
TZNAME:CST
DTSTART:20261101T070000
END:STANDARD
BEGIN:DAYLIGHT
TZOFFSETFROM:-0600
TZOFFSETTO:-0500
TZNAME:CDT
DTSTART:20270314T080000
END:DAYLIGHT
BEGIN:STANDARD
TZOFFSETFROM:-0500
TZOFFSETTO:-0600
TZNAME:CST
DTSTART:20271107T070000
END:STANDARD
END:VTIMEZONE
BEGIN:VEVENT
DTSTART;TZID=America/Chicago:20260421T100000
DTEND;TZID=America/Chicago:20260421T120000
DTSTAMP:20260421T012857
CREATED:20260108T002501Z
LAST-MODIFIED:20260108T002501Z
UID:10017648-1776765600-1776772800@gottabesuperior.com
SUMMARY:Local History Help @ Superior Public Library - Superior
DESCRIPTION:Are you starting out making a family tree? Curious about local history? Want someone to teach you how to load and operate a microfilm reader? Our local history librarian is available twice a week for drop-in visits helping patrons connect with the local history and genealogical resources available at Superior Public Library.\nDrop in on Tuesdays from 10 a.m. – 12 p.m. and Thursdays from 1-3 p.m. to meet with our local history librarian and get the help you need! No appointment required!
URL:https://gottabesuperior.com/event/local-history-help-superior-public-library-superior/2026-04-21/
LOCATION:Superior Public Library\, 1530 Tower Ave\, Superior\, WI\, 54880\, United States
CATEGORIES:Community Education,Discussion Group,Free,History/Museum
ATTACH;FMTTYPE=image/jpeg:https://gottabesuperior.com/wp-content/uploads/2026/01/Local-History-Help.jpg
END:VEVENT
BEGIN:VEVENT
DTSTART;TZID=America/Chicago:20260421T100000
DTEND;TZID=America/Chicago:20260421T140000
DTSTAMP:20260421T012857
CREATED:20250825T013934Z
LAST-MODIFIED:20250825T013934Z
UID:10016032-1776765600-1776780000@gottabesuperior.com
SUMMARY:Click & Learn w/Ethan: Digital Navigator @ Superior Public Library - Superior
DESCRIPTION:Come to the library for tech help and meet with Ethan\, a digital navigator who can help you become familiar with the technology that can improve your life\, from sending emails to accessing your online healthcare portal!\n\n\nMeet with Ethan at Superior Public Library on Tuesdays from 10 a.m. to 2 p.m. during the months of August and September. He also visits our branch libraries to provide assistance to our Lake Nebagamon and Solon Springs patrons. Stop by the Imogene McGrath Memorial Library in Lake Nebagamon on Mondays in August and September from 10 a.m. to 12 p.m. and the Joan Salmen Memorial Library in Solon Springs on Mondays in August and September from 1 p.m. to 3 p.m. Laptop checkouts are also available! No library card or appointment is required.\n\n\n** Please note: there will be NO CLICK & Learn on Monday\, September 1 due to the Labor Day holiday. **
URL:https://gottabesuperior.com/event/click-learn-w-ethan-digital-navigator-superior-public-library-superior/2026-04-21/
LOCATION:Superior Public Library\, 1530 Tower Ave\, Superior\, WI\, 54880\, United States
CATEGORIES:Community Education,Free
ATTACH;FMTTYPE=image/jpeg:https://gottabesuperior.com/wp-content/uploads/2025/08/Click-Learn.jpg
END:VEVENT
BEGIN:VEVENT
DTSTART;TZID=America/Chicago:20260421T103000
DTEND;TZID=America/Chicago:20260421T113000
DTSTAMP:20260421T012857
CREATED:20260108T004723Z
LAST-MODIFIED:20260108T004723Z
UID:10017754-1776767400-1776771000@gottabesuperior.com
SUMMARY:Storytime! @ Superior Public Library - Superior
DESCRIPTION:Come to library storytime on Tuesdays at 10:30 a.m. and enjoy stories\, songs\, crafts\, and FUN with your little one!\nStorytime is a GREAT activity for your child! It promotes early literacy and language development\, helps develop social and communication skills\, and encourages imagination and creativity while also building their appreciation for books! It’s also a great way to bond with your little one!
URL:https://gottabesuperior.com/event/storytime-superior-public-library-superior/2026-04-21/
LOCATION:Superior Public Library\, 1530 Tower Ave\, Superior\, WI\, 54880\, United States
CATEGORIES:Free,Kids & Family,Youth Activity
ATTACH;FMTTYPE=image/jpeg:https://gottabesuperior.com/wp-content/uploads/2026/01/Storytime.jpg
END:VEVENT
BEGIN:VEVENT
DTSTART;TZID=America/Chicago:20260421T140000
DTEND;TZID=America/Chicago:20260421T150000
DTSTAMP:20260421T012857
CREATED:20260108T010308Z
LAST-MODIFIED:20260117T192307Z
UID:10017965-1776780000-1776783600@gottabesuperior.com
SUMMARY:Senior Bingo @ Lew Martin Senior Center - Superior
DESCRIPTION:Come to the Lew Martin Senior Center for Senior Bingo and play bingo with other seniors for a chance to win great prizes! No registration required.
URL:https://gottabesuperior.com/event/senior-bingo-lew-martin-senior-center-superior/2026-04-21/
LOCATION:Lew Martin Senior Center\, 1527 Tower Ave\, Superior\, WI\, 54880\, United States
CATEGORIES:Event/Game/Sport Participation,Free,Seniors
ATTACH;FMTTYPE=image/jpeg:https://gottabesuperior.com/wp-content/uploads/2026/01/Senior-Bingo.jpg
END:VEVENT
BEGIN:VEVENT
DTSTART;TZID=America/Chicago:20260421T140000
DTEND;TZID=America/Chicago:20260421T150000
DTSTAMP:20260421T012857
CREATED:20260414T182837Z
LAST-MODIFIED:20260414T182837Z
UID:10019077-1776780000-1776783600@gottabesuperior.com
SUMMARY:Senior Bingo @ Lew Martin Senior Center - Superior
DESCRIPTION:Join library staff at the Lew Martin Senior Center on April 21 at 2 p.m. for our monthly Senior Bingo! Play bingo\, make new friends\, and win prizes! No registration required.
URL:https://gottabesuperior.com/event/senior-bingo-lew-martin-senior-center-superior-2/
LOCATION:Lew Martin Senior Center\, 1527 Tower Ave\, Superior\, WI\, 54880\, United States
CATEGORIES:Community Gathering,Event/Game/Sport Participation,Free
ATTACH;FMTTYPE=image/jpeg:https://gottabesuperior.com/wp-content/uploads/2026/04/Senior-Bingo.jpg
END:VEVENT
BEGIN:VEVENT
DTSTART;TZID=America/Chicago:20260421T140000
DTEND;TZID=America/Chicago:20260421T180000
DTSTAMP:20260421T012857
CREATED:20250710T215224Z
LAST-MODIFIED:20250710T215224Z
UID:10015146-1776780000-1776794400@gottabesuperior.com
SUMMARY:Farmer's and Crafters Market @ Gravel Pit Tavern - Poplar WI
DESCRIPTION:Join us at our twice weekly markets\, Tuesdays at Gravel Pit and Thursday’s across from Kro Bar.We have a lot of great vendors selling some great stuff\, Including smoked and candied nuts\, fresh pico\, baked goods\, quilted items\, homemade cards\, canned goods\, and a lot of other goodies!
URL:https://gottabesuperior.com/event/farmers-and-crafters-market-gravel-pit-tavern-poplar-wi/2026-04-21/
LOCATION:The Gravel Pit Tavern\, 5781 South County Road P\, Poplar\, WI\, 54864\, United States
CATEGORIES:Community Gathering,Markets/Sales
ATTACH;FMTTYPE=image/jpeg:https://gottabesuperior.com/wp-content/uploads/2025/07/Gravel-Pit-Tavern.jpg
END:VEVENT
BEGIN:VEVENT
DTSTART;TZID=America/Chicago:20260421T190000
DTEND;TZID=America/Chicago:20260421T203000
DTSTAMP:20260421T012857
CREATED:20250921T170640Z
LAST-MODIFIED:20250921T170640Z
UID:10016524-1776798000-1776803400@gottabesuperior.com
SUMMARY:Trivia Night! @ Superior Tavern - Superior
DESCRIPTION:
URL:https://gottabesuperior.com/event/trivia-night-superior-tavern-superior/2026-04-21/
LOCATION:Superior Tavern\, 1224 Tower Ave.\, Superior\, WI\, 54880\, United States
CATEGORIES:Event/Game/Sport Participation
ATTACH;FMTTYPE=image/jpeg:https://gottabesuperior.com/wp-content/uploads/2025/09/518277040_721406753980688_5789109079016772384_n.jpg
END:VEVENT
END:VCALENDAR