BEGIN:VCALENDAR
VERSION:2.0
PRODID:-//Gotta Be Superior - ECPv6.15.18//NONSGML v1.0//EN
CALSCALE:GREGORIAN
METHOD:PUBLISH
X-ORIGINAL-URL:https://gottabesuperior.com
X-WR-CALDESC:Events for Gotta Be Superior
REFRESH-INTERVAL;VALUE=DURATION:PT1H
X-Robots-Tag:noindex
X-PUBLISHED-TTL:PT1H
BEGIN:VTIMEZONE
TZID:America/Chicago
BEGIN:DAYLIGHT
TZOFFSETFROM:-0600
TZOFFSETTO:-0500
TZNAME:CDT
DTSTART:20250309T080000
END:DAYLIGHT
BEGIN:STANDARD
TZOFFSETFROM:-0500
TZOFFSETTO:-0600
TZNAME:CST
DTSTART:20251102T070000
END:STANDARD
BEGIN:DAYLIGHT
TZOFFSETFROM:-0600
TZOFFSETTO:-0500
TZNAME:CDT
DTSTART:20260308T080000
END:DAYLIGHT
BEGIN:STANDARD
TZOFFSETFROM:-0500
TZOFFSETTO:-0600
TZNAME:CST
DTSTART:20261101T070000
END:STANDARD
BEGIN:DAYLIGHT
TZOFFSETFROM:-0600
TZOFFSETTO:-0500
TZNAME:CDT
DTSTART:20270314T080000
END:DAYLIGHT
BEGIN:STANDARD
TZOFFSETFROM:-0500
TZOFFSETTO:-0600
TZNAME:CST
DTSTART:20271107T070000
END:STANDARD
END:VTIMEZONE
BEGIN:VEVENT
DTSTART;TZID=America/Chicago:20260427T173000
DTEND;TZID=America/Chicago:20260427T203000
DTSTAMP:20260424T135533
CREATED:20260411T194911Z
LAST-MODIFIED:20260411T194911Z
UID:10019030-1777311000-1777321800@gottabesuperior.com
SUMMARY:Homegrown Music Festival @ Dovetail Cafe and Marketplace - Duluth
DESCRIPTION:5:30pm – 6:30pm        Salt and Pine \n6:30pm – 7:30pm        Wetland Willows \n7:30pm – 8:30pm      Jon Edwards \n21+ Show \nDuring Homegrown\, admission wristbands can be purchased at any venue that requires them. Advance tickets are available at Globe News (Superior\, WI)\, and Zenith Bookstore (Duluth\, MN)\, and remain on sale throughout the week of Homegrown. Wristband does not guarantee entry to venues at capacity — if you want to see a specific band\, get there early! \nWeeklong Wristband: All eight days – $40 \nSingle-day Wristband: Friday or Saturday – $25 \nSingle-night: Monday through Thursday – $15 \n 
URL:https://gottabesuperior.com/event/homegrown-music-festival-dovetail-cafe-and-marketplace-duluth/
LOCATION:Dovetail Cafe & Marketplace\, 1917 W Superior St\, Duluth\, MN\, 55806\, United States
CATEGORIES:Art,Community Gathering,Event/Game/Sports Spectator,Live Entertainment
ATTACH;FMTTYPE=image/jpeg:https://gottabesuperior.com/wp-content/uploads/2023/02/DuluthHomegrownBanner.jpg
END:VEVENT
BEGIN:VEVENT
DTSTART;TZID=America/Chicago:20260427T173000
DTEND;TZID=America/Chicago:20260427T210000
DTSTAMP:20260424T135533
CREATED:20260411T195633Z
LAST-MODIFIED:20260411T195633Z
UID:10019031-1777311000-1777323600@gottabesuperior.com
SUMMARY:Homegrown Music Festival @ Legacy Cannabis - Duluth
DESCRIPTION:5:45pm – 6:45pm    The Lindula Brothers \n6:45pm – 7:45pm    Stel \n7:45pm – 8:45pm    EddieDition \n21+ Show \nDuring Homegrown\, admission wristbands can be purchased at any venue that requires them. Advance tickets are available at Globe News (Superior\, WI)\, and Zenith Bookstore (Duluth\, MN)\, and remain on sale throughout the week of Homegrown. Wristband does not guarantee entry to venues at capacity — if you want to see a specific band\, get there early! \nWeeklong Wristband: All eight days – $40 \nSingle-day Wristband: Friday or Saturday – $25 \nSingle-night: Monday through Thursday – $15
URL:https://gottabesuperior.com/event/homegrown-music-festival-legacy-cannabis-duluth/
LOCATION:Legacy Cannabis\, 1906 W Superior St\, Duluth\, MN\, United States
CATEGORIES:Community Gathering,Event/Game/Sports Spectator,Live Entertainment
ATTACH;FMTTYPE=image/jpeg:https://gottabesuperior.com/wp-content/uploads/2023/02/DuluthHomegrownBanner.jpg
END:VEVENT
BEGIN:VEVENT
DTSTART;TZID=America/Chicago:20260427T180000
DTEND;TZID=America/Chicago:20260427T210000
DTSTAMP:20260424T135533
CREATED:20260110T214301Z
LAST-MODIFIED:20260110T214301Z
UID:10017870-1777312800-1777323600@gottabesuperior.com
SUMMARY:Digimon Mondays @ Level UP - Superior
DESCRIPTION:Calling all Digi-Destined!Looking for an exciting way to kick off your week? Step into the Digital World every Monday at 6 PM for our weekly Digimon Card Game night!\nBring your best deck\, meet fellow Digi-Destined\, and forge lasting friendships as you battle for glory. Whether you’re a seasoned Tamer or brand-new to the game\, our friendly staff will be there to help you learn\, play\, and have a blast.\nExclusive prizes and bonuses await so come ready to unleash your Digimon’s true potential!\nJoin us\, and make Monday nights your gateway to the Digiverse!
URL:https://gottabesuperior.com/event/digimon-mondays-level-up-superior/2026-04-27/
LOCATION:Level Up\, 525 Tower Ave\, Superior\, WI\, 54880\, United States
CATEGORIES:Community Gathering,Culture,Event/Game/Sport Participation
ATTACH;FMTTYPE=image/jpeg:https://gottabesuperior.com/wp-content/uploads/2026/01/Digimon.jpg
END:VEVENT
BEGIN:VEVENT
DTSTART;TZID=America/Chicago:20260427T180000
DTEND;TZID=America/Chicago:20260427T210000
DTSTAMP:20260424T135533
CREATED:20260411T200809Z
LAST-MODIFIED:20260411T200809Z
UID:10019033-1777312800-1777323600@gottabesuperior.com
SUMMARY:Homegrown Music Festival @ Ursa Minor Brewing - Duluth
DESCRIPTION:6:15pm – 7:15pm        John Louis \n7:15pm – 8:15pm          Horse Fzce \n8:15pm – 9:15pm      Casiosa \n21+ Show \n  \nDuring Homegrown\, admission wristbands can be purchased at any venue that requires them. Advance tickets are available at Globe News (Superior\, WI)\, and Zenith Bookstore (Duluth\, MN)\, and remain on sale throughout the week of Homegrown. Wristband does not guarantee entry to venues at capacity — if you want to see a specific band\, get there early! \nWeeklong Wristband: All eight days – $40 \nSingle-day Wristband: Friday or Saturday – $25 \nSingle-night: Monday through Thursday – $15
URL:https://gottabesuperior.com/event/homegrown-music-festival-ursa-minor-brewing-duluth/
LOCATION:Ursa Minor Brewery\, 2415 West Superior St\, Duluth\, MN\, United States
CATEGORIES:Art,Event/Game/Sports Spectator,Live Entertainment
ATTACH;FMTTYPE=image/jpeg:https://gottabesuperior.com/wp-content/uploads/2023/02/DuluthHomegrownBanner.jpg
END:VEVENT
BEGIN:VEVENT
DTSTART;TZID=America/Chicago:20260427T180000
DTEND;TZID=America/Chicago:20260427T220000
DTSTAMP:20260424T135533
CREATED:20260411T200303Z
LAST-MODIFIED:20260411T200303Z
UID:10019032-1777312800-1777327200@gottabesuperior.com
SUMMARY:Homegrown Music Festival @ Wild State Cider - Duluth
DESCRIPTION:6:00pm – 7:00pm    The Trash Cats \n7:00pm – 8:00pm      Remote Viewfinder \n9:00pm – 10:00pm    WICKIE \n21+ Show \nDuring Homegrown\, admission wristbands can be purchased at any venue that requires them. Advance tickets are available at Globe News (Superior\, WI)\, and Zenith Bookstore (Duluth\, MN)\, and remain on sale throughout the week of Homegrown. Wristband does not guarantee entry to venues at capacity — if you want to see a specific band\, get there early! \nWeeklong Wristband: All eight days – $40 \nSingle-day Wristband: Friday or Saturday – $25 \nSingle-night: Monday through Thursday – $15
URL:https://gottabesuperior.com/event/homegrown-music-festival-wild-state-cider-duluth/
LOCATION:Wild State Cider\, 2515 West Superior Street\,\, Duluth\, United States
CATEGORIES:Community Gathering,Event/Game/Sports Spectator,Live Entertainment
ATTACH;FMTTYPE=image/jpeg:https://gottabesuperior.com/wp-content/uploads/2023/02/DuluthHomegrownBanner.jpg
END:VEVENT
BEGIN:VEVENT
DTSTART;TZID=America/Chicago:20260427T183000
DTEND;TZID=America/Chicago:20260427T213000
DTSTAMP:20260424T135533
CREATED:20260411T201320Z
LAST-MODIFIED:20260411T201320Z
UID:10019034-1777314600-1777325400@gottabesuperior.com
SUMMARY:Homegrown Music Festival @ Duluth Cider - Duluth
DESCRIPTION:6:30pm – 7:30pm      Gnarwals \n7:30pm – 8:30pm      Lovehouse \n8:30pm – 9:30pm    Life Parade \n21+ Show \nDuring Homegrown\, admission wristbands can be purchased at any venue that requires them. Advance tickets are available at Globe News (Superior\, WI)\, and Zenith Bookstore (Duluth\, MN)\, and remain on sale throughout the week of Homegrown. Wristband does not guarantee entry to venues at capacity — if you want to see a specific band\, get there early! \nWeeklong Wristband: All eight days – $40 \nSingle-day Wristband: Friday or Saturday – $25 \nSingle-night: Monday through Thursday – $15
URL:https://gottabesuperior.com/event/homegrown-music-festival-duluth-cider-duluth/
LOCATION:Duluth Cider\, 2307 West Superior St\, Duluth\, MN\, United States
CATEGORIES:Art,Event/Game/Sports Spectator,Live Entertainment
ATTACH;FMTTYPE=image/jpeg:https://gottabesuperior.com/wp-content/uploads/2023/02/DuluthHomegrownBanner.jpg
END:VEVENT
BEGIN:VEVENT
DTSTART;TZID=America/Chicago:20260427T190000
DTEND;TZID=America/Chicago:20260427T203000
DTSTAMP:20260424T135533
CREATED:20250921T165931Z
LAST-MODIFIED:20250921T165931Z
UID:10016484-1777316400-1777321800@gottabesuperior.com
SUMMARY:DJ Bingo @ Superior Tavern - Superior
DESCRIPTION:Love Music?\nCome play DJ Bingo\, the hottest Music Bingo game!\nFree to Play.Win Prizes.Progressive Jackpot!\nWe’ll play a song clip and show details on the TV. You will have limited time to figure out what the song is and use that magnificent brain of yours to match for a DJ Bingo.\nUnlike traditional bingo\, there are no balls\, no lengthy cards\, no free spaces and no snoozing!\nDJ Bingo allows you to sing and dance your way to a win\, if that’s your thing\, it’s a ton of fun!
URL:https://gottabesuperior.com/event/dj-bingo-superior-tavern-superior/2026-04-27/
LOCATION:Superior Tavern\, 1224 Tower Ave.\, Superior\, WI\, 54880\, United States
CATEGORIES:Event/Game/Sport Participation,Live Entertainment
ATTACH;FMTTYPE=image/jpeg:https://gottabesuperior.com/wp-content/uploads/2025/09/514416300_1242121307710877_4418092358682648572_n.jpg
END:VEVENT
BEGIN:VEVENT
DTSTART;TZID=America/Chicago:20260427T190000
DTEND;TZID=America/Chicago:20260427T220000
DTSTAMP:20260424T135533
CREATED:20260411T201912Z
LAST-MODIFIED:20260411T201912Z
UID:10019035-1777316400-1777327200@gottabesuperior.com
SUMMARY:Homegrown Music Festival @ All American Club - Duluth
DESCRIPTION:7:00pm – 8:00pm     Sugar on the Roof \n8:00pm – 9:00pm     The Jambronies \n9:00pm – 10:00pm      Big Wave Dave and the Ripples \n21+ Show \nDuring Homegrown\, admission wristbands can be purchased at any venue that requires them. Advance tickets are available at Globe News (Superior\, WI)\, and Zenith Bookstore (Duluth\, MN)\, and remain on sale throughout the week of Homegrown. Wristband does not guarantee entry to venues at capacity — if you want to see a specific band\, get there early! \nWeeklong Wristband: All eight days – $40 \nSingle-day Wristband: Friday or Saturday – $25 \nSingle-night: Monday through Thursday – $15 \n 
URL:https://gottabesuperior.com/event/homegrown-music-festival-all-american-club-duluth/
LOCATION:All American Club\, 1931 W Michigan St\, Duluth\, MI\, 55806\, United States
CATEGORIES:Art,Event/Game/Sports Spectator,Live Entertainment
ATTACH;FMTTYPE=image/jpeg:https://gottabesuperior.com/wp-content/uploads/2023/02/DuluthHomegrownBanner.jpg
END:VEVENT
BEGIN:VEVENT
DTSTART;TZID=America/Chicago:20260427T193000
DTEND;TZID=America/Chicago:20260427T223000
DTSTAMP:20260424T135533
CREATED:20260411T202544Z
LAST-MODIFIED:20260411T202544Z
UID:10019036-1777318200-1777329000@gottabesuperior.com
SUMMARY:Homegrown Music Festival @ Bent Paddle Brewing Company Taproom - Duluth
DESCRIPTION:7:45p – 8:45pm        Winzige Hosen \n8:45pm – 9:45pm    Stardust Collective \n9:45pm – 10:45pm    So What \n21+ Show \nDuring Homegrown\, admission wristbands can be purchased at any venue that requires them. Advance tickets are available at Globe News (Superior\, WI)\, and Zenith Bookstore (Duluth\, MN)\, and remain on sale throughout the week of Homegrown. Wristband does not guarantee entry to venues at capacity — if you want to see a specific band\, get there early! \nWeeklong Wristband: All eight days – $40 \nSingle-day Wristband: Friday or Saturday – $25 \nSingle-night: Monday through Thursday – $15
URL:https://gottabesuperior.com/event/homegrown-music-festival-bent-paddle-brewing-company-taproom-duluth/
LOCATION:Bent Paddle Brewing Company\, 1832 W Michigan St\, Duluth\, MN\, 55806\, United States
CATEGORIES:Art,Event/Game/Sports Spectator,Live Entertainment
ATTACH;FMTTYPE=image/jpeg:https://gottabesuperior.com/wp-content/uploads/2023/02/DuluthHomegrownBanner.jpg
END:VEVENT
BEGIN:VEVENT
DTSTART;TZID=America/Chicago:20260427T200000
DTEND;TZID=America/Chicago:20260427T233000
DTSTAMP:20260424T135533
CREATED:20260411T203039Z
LAST-MODIFIED:20260411T203039Z
UID:10019037-1777320000-1777332600@gottabesuperior.com
SUMMARY:Homegrown Music Festival @ Caddy Shack Indoor Golf & Pub - Duluth
DESCRIPTION:8:15pm – 9:15pm          Sidestreet Detour \n9:15pm – 10:15pm          C U Next Tuesday \n10:15pm – 11:15pm      Boxcar \n21+ Show \nDuring Homegrown\, admission wristbands can be purchased at any venue that requires them. Advance tickets are available at Globe News (Superior\, WI)\, and Zenith Bookstore (Duluth\, MN)\, and remain on sale throughout the week of Homegrown. Wristband does not guarantee entry to venues at capacity — if you want to see a specific band\, get there early! \nWeeklong Wristband: All eight days – $40 \nSingle-day Wristband: Friday or Saturday – $25 \nSingle-night: Monday through Thursday – $15
URL:https://gottabesuperior.com/event/homegrown-music-festival-caddy-shack-indoor-golf-pub-duluth/
LOCATION:Caddy Shack\, 2023 W Superior St\, Duluth\, MN\, United States
CATEGORIES:Art,Community Gathering,Event/Game/Sports Spectator,Live Entertainment
ATTACH;FMTTYPE=image/jpeg:https://gottabesuperior.com/wp-content/uploads/2023/02/DuluthHomegrownBanner.jpg
END:VEVENT
END:VCALENDAR