BEGIN:VCALENDAR
VERSION:2.0
PRODID:-//Gotta Be Superior - ECPv6.15.18//NONSGML v1.0//EN
CALSCALE:GREGORIAN
METHOD:PUBLISH
X-WR-CALNAME:Gotta Be Superior
X-ORIGINAL-URL:https://gottabesuperior.com
X-WR-CALDESC:Events for Gotta Be Superior
REFRESH-INTERVAL;VALUE=DURATION:PT1H
X-Robots-Tag:noindex
X-PUBLISHED-TTL:PT1H
BEGIN:VTIMEZONE
TZID:America/Chicago
BEGIN:DAYLIGHT
TZOFFSETFROM:-0600
TZOFFSETTO:-0500
TZNAME:CDT
DTSTART:20250309T080000
END:DAYLIGHT
BEGIN:STANDARD
TZOFFSETFROM:-0500
TZOFFSETTO:-0600
TZNAME:CST
DTSTART:20251102T070000
END:STANDARD
BEGIN:DAYLIGHT
TZOFFSETFROM:-0600
TZOFFSETTO:-0500
TZNAME:CDT
DTSTART:20260308T080000
END:DAYLIGHT
BEGIN:STANDARD
TZOFFSETFROM:-0500
TZOFFSETTO:-0600
TZNAME:CST
DTSTART:20261101T070000
END:STANDARD
BEGIN:DAYLIGHT
TZOFFSETFROM:-0600
TZOFFSETTO:-0500
TZNAME:CDT
DTSTART:20270314T080000
END:DAYLIGHT
BEGIN:STANDARD
TZOFFSETFROM:-0500
TZOFFSETTO:-0600
TZNAME:CST
DTSTART:20271107T070000
END:STANDARD
END:VTIMEZONE
BEGIN:VEVENT
DTSTART;TZID=America/Chicago:20260430T103000
DTEND;TZID=America/Chicago:20260430T120000
DTSTAMP:20260424T135219
CREATED:20260414T174325Z
LAST-MODIFIED:20260414T174325Z
UID:10019065-1777545000-1777550400@gottabesuperior.com
SUMMARY:Genealogy for Beginners @ Superior Public Library - Superior
DESCRIPTION:Genealogy for Beginners is a series of free classes led by Marie Mattson\, Certified Professional Genealogist®.\nLearn how to research & discover your ancestors! Sessions begin Thursday\, April 16 and will continue every Thursday through May 7!\nUpcoming topics include:Thursday\, April 16: What Is Genealogy? How To Avoid Common PitfallsThursday\, April 23: FamilySearch & The U.S. CensusThursday\, April 30: DNA: How It Can Help Trace Elusive AncestorsThursday\, May 7: Breaking Down Brick Walls: Using FamilySearch & the Wisconsin Historical Society Website\nSessions will begin at 10:30 a.m. and run for approximately 1 1/2 hours. No registration is required.
URL:https://gottabesuperior.com/event/genealogy-for-beginners-superior-public-library-superior/2026-04-30/
LOCATION:Superior Public Library\, 1530 Tower Ave\, Superior\, WI\, 54880\, United States
CATEGORIES:Community Education,Discussion Group,Event/Game/Sport Participation,Free
ATTACH;FMTTYPE=image/jpeg:https://gottabesuperior.com/wp-content/uploads/2026/04/Geneology.jpg
END:VEVENT
BEGIN:VEVENT
DTSTART;TZID=America/Chicago:20260430T130000
DTEND;TZID=America/Chicago:20260430T150000
DTSTAMP:20260424T135219
CREATED:20260108T002906Z
LAST-MODIFIED:20260108T002906Z
UID:10017701-1777554000-1777561200@gottabesuperior.com
SUMMARY:Local History Help @ Superior Public Library - Superior
DESCRIPTION:Are you starting out making a family tree? Curious about local history? Want someone to teach you how to load and operate a microfilm reader? Our local history librarian is available twice a week for drop-in visits helping patrons connect with the local history and genealogical resources available at Superior Public Library.\nDrop in on Tuesdays from 10 a.m. – 12 p.m. and Thursdays from 1-3 p.m. to meet with our local history librarian and get the help you need! No appointment required!
URL:https://gottabesuperior.com/event/local-history-help-superior-public-library-superior-2/2026-04-30/
LOCATION:Superior Public Library\, 1530 Tower Ave\, Superior\, WI\, 54880\, United States
CATEGORIES:Community Education,Free,History/Museum
ATTACH;FMTTYPE=image/jpeg:https://gottabesuperior.com/wp-content/uploads/2026/01/Local-History-Help.jpg
END:VEVENT
BEGIN:VEVENT
DTSTART;TZID=America/Chicago:20260430T150000
DTEND;TZID=America/Chicago:20260430T190000
DTSTAMP:20260424T135219
CREATED:20260416T171019Z
LAST-MODIFIED:20260416T171019Z
UID:10019104-1777561200-1777575600@gottabesuperior.com
SUMMARY:The Senior Capstone Art Exhibition @ Holden Fine Arts Building - Superior
DESCRIPTION:Come celebrate the achievements of our graduating seniors on May 1st from 5–7pm in the Experimental Gallery! Enjoy some refreshments\, good company\, and great art!\nThe Senior Capstone Art Exhibition will be on view in the Experimental Gallery from April 30 to May 15. Gallery hours are from 3–7pm\, Monday–Friday with free admission!
URL:https://gottabesuperior.com/event/the-senior-capstone-art-exhibition-holden-fine-arts-building-superior/2026-04-30/
LOCATION:Holden Fine and Applied Arts Center\, 1805 Catlin Ave\, Superior\, WI\, 54880\, United States
CATEGORIES:Art,Community Education,Community Gathering,Culture,Event/Game/Sports Spectator,Free
ATTACH;FMTTYPE=image/jpeg:https://gottabesuperior.com/wp-content/uploads/2026/04/Capstone.jpg
END:VEVENT
BEGIN:VEVENT
DTSTART;TZID=America/Chicago:20260430T160000
DTEND;TZID=America/Chicago:20260430T180000
DTSTAMP:20260424T135219
CREATED:20250802T213204Z
LAST-MODIFIED:20250802T213204Z
UID:10015682-1777564800-1777572000@gottabesuperior.com
SUMMARY:Tarot w/ Barbi @ Alchemy - Superior
DESCRIPTION:  \n  \n 
URL:https://gottabesuperior.com/event/tarot-w-barbi-alchemy-superior/2026-04-30/
LOCATION:Alchemy\, 2724 N 21st St\, Superior\, WI\, United States
CATEGORIES:Self Care
ATTACH;FMTTYPE=image/jpeg:https://gottabesuperior.com/wp-content/uploads/2025/01/Alchemy-logo.jpg
ORGANIZER;CN="Alchemy":MAILTO:anndreasart@gmail.com
END:VEVENT
BEGIN:VEVENT
DTSTART;TZID=America/Chicago:20260430T173000
DTEND;TZID=America/Chicago:20260430T183000
DTSTAMP:20260424T135219
CREATED:20260108T005418Z
LAST-MODIFIED:20260108T005418Z
UID:10017758-1777570200-1777573800@gottabesuperior.com
SUMMARY:4-H Clovers Club @ Superior Public Library - Superior
DESCRIPTION:Join us for fun exploring 4-H activities including: art\, science\, games and more!Grades: Kindergarten- 8th gradeDates: Last Thursday of the Month: Jan. 29\, Feb. 26\, March 26\, April 30\, May 28 & June 25Time: 5:30-6:30 p.m.Where: Superior Public Library Meeting RoomCost: FREE for all!\nPARENTS/CAREGIVERS MUST ACCOMPANY CHILDREN\nREGISTER AT: https://go.wisc.edu/zsf484Questions? Contact Katie Stenroos at katelin.stenroos@wisc.edu
URL:https://gottabesuperior.com/event/4-h-clovers-club-superior-public-library-superior/2026-04-30/
LOCATION:Superior Public Library\, 1530 Tower Ave\, Superior\, WI\, 54880\, United States
CATEGORIES:Community Education,Event/Game/Sport Participation,Kids & Family,Youth Activity
ATTACH;FMTTYPE=image/jpeg:https://gottabesuperior.com/wp-content/uploads/2026/01/4H.jpg
END:VEVENT
BEGIN:VEVENT
DTSTART;TZID=America/Chicago:20260430T180000
DTEND;TZID=America/Chicago:20260430T190000
DTSTAMP:20260424T135219
CREATED:20260328T013055Z
LAST-MODIFIED:20260328T013055Z
UID:10018875-1777572000-1777575600@gottabesuperior.com
SUMMARY:Page Turners Book Club: "Good Dirt" by Charmaine Wilkerson @ Superior Public Library - Superior
DESCRIPTION:Join our Page Turners Book Club and enjoy lively discussion with other eager readers! Our book selection for April is Good Dirt by Charmaine Wilkerson\, a moving novel about the daughter of an affluent Black family who pieces together the connection between a childhood tragedy and a beloved heirloom.\nBook club will meet April 2 at 10:30 a.m. and April 30 at 6 p.m. Please pick the time that works best for your schedule. Request a copy of the book using our online catalog or by calling the library.\nIf you’d like to participate virtually from home\, please email mehlel@superiorlibrary.org for more information.
URL:https://gottabesuperior.com/event/page-turners-book-club-good-dirt-by-charmaine-wilkerson-superior-public-library-superior/2026-04-30/
LOCATION:Superior Public Library\, 1530 Tower Ave\, Superior\, WI\, 54880\, United States
CATEGORIES:Book Club/Discussion,Community Gathering,Discussion Group,Free
ATTACH;FMTTYPE=image/jpeg:https://gottabesuperior.com/wp-content/uploads/2026/03/Good-Dirt.jpg
END:VEVENT
BEGIN:VEVENT
DTSTART;TZID=America/Chicago:20260430T180000
DTEND;TZID=America/Chicago:20260430T190000
DTSTAMP:20260424T135219
CREATED:20260412T224648Z
LAST-MODIFIED:20260412T224648Z
UID:10019047-1777572000-1777575600@gottabesuperior.com
SUMMARY:Homegrown Music Festival: Superior Mayor Proclimation @ Superior Tavern - Superior
DESCRIPTION:The annual “Souptown Night” of Homegrown at Superior venues commences with an official proclamation from Mayor of Superior Jim Payne. With the debauchery approved in writing by the municipality\, for the rest of the evening Superior will party like it’s 1999 (which is not just a phrase but also the first year of Homegrown).
URL:https://gottabesuperior.com/event/homegrown-music-festival-superior-mayor-proclimation-superior-tavern-superior/
LOCATION:Superior Tavern\, 1224 Tower Ave.\, Superior\, WI\, 54880\, United States
CATEGORIES:Community Gathering,Event/Game/Sports Spectator
ATTACH;FMTTYPE=image/jpeg:https://gottabesuperior.com/wp-content/uploads/2024/04/Homegrown.jpeg
END:VEVENT
BEGIN:VEVENT
DTSTART;TZID=America/Chicago:20260430T180000
DTEND;TZID=America/Chicago:20260430T210000
DTSTAMP:20260424T135219
CREATED:20260110T211813Z
LAST-MODIFIED:20260110T211813Z
UID:10017804-1777572000-1777582800@gottabesuperior.com
SUMMARY:One Piece! @ Level UP - Superior
DESCRIPTION: Set Sail for One Piece TCG Night! Ready to become King of the Pirates? Join us every Thursday at 6 PM for our weekly One-Piece Trading Card Game event!\nIt’s FREE to play!Every player gets promo cards just for participating.Meet fellow fans\, test your skills\, and build your crew as you battle across the Grand Line.\nWhether you’re a seasoned TCG veteran or brand-new to One Piece\, our community is friendly\, welcoming\, and always excited to help new players get started.\nSo grab your deck\, gather your crew\, and join the adventure this Thursday!
URL:https://gottabesuperior.com/event/one-piece-level-up-superior/2026-04-30/
LOCATION:Level Up\, 525 Tower Ave\, Superior\, WI\, 54880\, United States
CATEGORIES:Culture,Event/Game/Sport Participation,Free
ATTACH;FMTTYPE=image/jpeg:https://gottabesuperior.com/wp-content/uploads/2026/01/One-Piece.jpg
END:VEVENT
BEGIN:VEVENT
DTSTART;TZID=America/Chicago:20260430T180000
DTEND;TZID=America/Chicago:20260430T210000
DTSTAMP:20260424T135219
CREATED:20260413T165153Z
LAST-MODIFIED:20260413T165153Z
UID:10019049-1777572000-1777582800@gottabesuperior.com
SUMMARY:Homegrown Music Festival @ Superior Tavern - Superior
DESCRIPTION:6:00pm    Mayor’s Proclamation \n6:15pm    Gavin St. Clair Quartet \n7:15pm    ​​The Casualty Company \n8:15pm    Darren Sipity \n21+ Show \nDuring Homegrown\, admission wristbands can be purchased at any venue that requires them. Advance tickets are available at Globe News (Superior\, WI)\, and Zenith Bookstore (Duluth\, MN)\, and remain on sale throughout the week of Homegrown. Wristband does not guarantee entry to venues at capacity — if you want to see a specific band\, get there early! \nWeeklong Wristband: All eight days – $40 \nSingle-day Wristband: Friday or Saturday – $25 \nSingle-night: Monday through Thursday – $15 \n  \n 
URL:https://gottabesuperior.com/event/homegrown-music-festival-superior-tavern-superior/
LOCATION:Superior Tavern\, 1224 Tower Ave.\, Superior\, WI\, 54880\, United States
CATEGORIES:Art,Community Gathering,Live Entertainment
ATTACH;FMTTYPE=image/jpeg:https://gottabesuperior.com/wp-content/uploads/2024/04/Homegrown.jpeg
END:VEVENT
BEGIN:VEVENT
DTSTART;TZID=America/Chicago:20260430T190000
DTEND;TZID=America/Chicago:20260430T210000
DTSTAMP:20260424T135219
CREATED:20260306T184956Z
LAST-MODIFIED:20260306T184956Z
UID:10018744-1777575600-1777582800@gottabesuperior.com
SUMMARY:Foghat and Nazareth @ DECC - Duluth
DESCRIPTION:follow link for tickets  https://www.ticketmaster.com/event/060063677B258851
URL:https://gottabesuperior.com/event/foghat-and-nazareth-decc-duluth/
LOCATION:DECC\, 350 Harbor Drive\, Duluth\, MN\, 55802\, United States
CATEGORIES:Event/Game/Sports Spectator,Live Entertainment
ATTACH;FMTTYPE=image/jpeg:https://gottabesuperior.com/wp-content/uploads/2026/03/foghat.jpg
END:VEVENT
BEGIN:VEVENT
DTSTART;TZID=America/Chicago:20260430T190000
DTEND;TZID=America/Chicago:20260430T210000
DTSTAMP:20260424T135219
CREATED:20260413T170208Z
LAST-MODIFIED:20260413T170208Z
UID:10019051-1777575600-1777582800@gottabesuperior.com
SUMMARY:Homegrown Music Festival @ Average Joe’s Pub - Superior
DESCRIPTION:7:00pm        Nikki Lemire \n8:00pm        Teague Alexy & The Common Thread \n9:00pm      Babie Eyes \n21+  Show \nDuring Homegrown\, admission wristbands can be purchased at any venue that requires them. Advance tickets are available at Globe News (Superior\, WI)\, and Zenith Bookstore (Duluth\, MN)\, and remain on sale throughout the week of Homegrown. Wristband does not guarantee entry to venues at capacity — if you want to see a specific band\, get there early! \nWeeklong Wristband: All eight days – $40 \nSingle-day Wristband: Friday or Saturday – $25 \nSingle-night: Monday through Thursday – $15 \n 
URL:https://gottabesuperior.com/event/homegrown-music-festival-average-joes-pub-superior/
LOCATION:Average Joe’s Pub\, 1310 N. 5th Street\, Superior\, WI\, 54880\, United States
CATEGORIES:Art,Community Gathering,Live Entertainment
ATTACH;FMTTYPE=image/jpeg:https://gottabesuperior.com/wp-content/uploads/2024/04/Homegrown.jpeg
END:VEVENT
BEGIN:VEVENT
DTSTART;TZID=America/Chicago:20260430T193000
DTEND;TZID=America/Chicago:20260430T223000
DTSTAMP:20260424T135219
CREATED:20260413T170724Z
LAST-MODIFIED:20260413T170724Z
UID:10019052-1777577400-1777588200@gottabesuperior.com
SUMMARY:Homegrown Music Festival @ Havana’s - Superior
DESCRIPTION:7:30pm      Israel Malachi Orchestra \n8:30pm      The Crunchy Bunch \n9:30pm      Moxen \n21+ Show \nDuring Homegrown\, admission wristbands can be purchased at any venue that requires them. Advance tickets are available at Globe News (Superior\, WI)\, and Zenith Bookstore (Duluth\, MN)\, and remain on sale throughout the week of Homegrown. Wristband does not guarantee entry to venues at capacity — if you want to see a specific band\, get there early! \nWeeklong Wristband: All eight days – $40 \nSingle-day Wristband: Friday or Saturday – $25 \nSingle-night: Monday through Thursday – $15 \n 
URL:https://gottabesuperior.com/event/homegrown-music-festival-havanas-superior/
LOCATION:Havana’s\, 1623 Broadway St\, Superior\, WI\, United States
CATEGORIES:Art,Community Gathering,Live Entertainment
ATTACH;FMTTYPE=image/jpeg:https://gottabesuperior.com/wp-content/uploads/2024/04/Homegrown.jpeg
END:VEVENT
BEGIN:VEVENT
DTSTART;TZID=America/Chicago:20260430T200000
DTEND;TZID=America/Chicago:20260430T220000
DTSTAMP:20260424T135219
CREATED:20260418T185810Z
LAST-MODIFIED:20260418T185810Z
UID:10019146-1777579200-1777586400@gottabesuperior.com
SUMMARY:Alan Sparhawk @ Cedar Lounge - Superior
DESCRIPTION:follow link for tickets \nhttps://www.eventbrite.com/e/alan-sparhawk-solo-band-tickets-1985471373325?aff=ebdsoporgprofile
URL:https://gottabesuperior.com/event/alan-sparhawk-cedar-lounge-superior/
LOCATION:Cedar Lounge\, 1715 N. 3rd St.\, Superior\, WI\, 54880\, United States
CATEGORIES:Live Entertainment
ATTACH;FMTTYPE=image/jpeg:https://gottabesuperior.com/wp-content/uploads/2026/02/Alan-Sparhawk.jpg
END:VEVENT
BEGIN:VEVENT
DTSTART;TZID=America/Chicago:20260430T200000
DTEND;TZID=America/Chicago:20260430T230000
DTSTAMP:20260424T135219
CREATED:20260413T171931Z
LAST-MODIFIED:20260413T171931Z
UID:10019053-1777579200-1777590000@gottabesuperior.com
SUMMARY:Homegrown Music Festival @ Tower Avenue Tavern - Superior
DESCRIPTION:8:15pm    Rory Van James \n9:15pm      Joy and Melancholy \n10:15pm      Mr. Kickass \n21+  Show \nDuring Homegrown\, admission wristbands can be purchased at any venue that requires them. Advance tickets are available at Globe News (Superior\, WI)\, and Zenith Bookstore (Duluth\, MN)\, and remain on sale throughout the week of Homegrown. Wristband does not guarantee entry to venues at capacity — if you want to see a specific band\, get there early! \nWeeklong Wristband: All eight days – $40 \nSingle-day Wristband: Friday or Saturday – $25 \nSingle-night: Monday through Thursday – $15 \n 
URL:https://gottabesuperior.com/event/homegrown-music-festival-tower-avenue-tavern-superior/
LOCATION:Tower Avenue Tavern\, 405 Tower Ave\, Superior\, WI\, United States
CATEGORIES:Art,Community Gathering,Live Entertainment
ATTACH;FMTTYPE=image/jpeg:https://gottabesuperior.com/wp-content/uploads/2024/04/Homegrown.jpeg
END:VEVENT
BEGIN:VEVENT
DTSTART;TZID=America/Chicago:20260430T203000
DTEND;TZID=America/Chicago:20260430T230000
DTSTAMP:20260424T135219
CREATED:20260413T172541Z
LAST-MODIFIED:20260413T172541Z
UID:10019054-1777581000-1777590000@gottabesuperior.com
SUMMARY:Homegrown Music Festival @ The Main Club - Superior
DESCRIPTION:8:45pm      The Lonely Loons \n9:45pm      Brinn Major \n10:45pm    The Brothers Burn Mountain \n21+ show \nDuring Homegrown\, admission wristbands can be purchased at any venue that requires them. Advance tickets are available at Globe News (Superior\, WI)\, and Zenith Bookstore (Duluth\, MN)\, and remain on sale throughout the week of Homegrown. Wristband does not guarantee entry to venues at capacity — if you want to see a specific band\, get there early! \nWeeklong Wristband: All eight days – $40 \nSingle-day Wristband: Friday or Saturday – $25 \nSingle-night: Monday through Thursday – $15 \n 
URL:https://gottabesuperior.com/event/homegrown-music-festival-the-main-club-superior/
LOCATION:Main Club\, 1217 Tower Ave.\, Superior\, WI\, 54880\, United States
CATEGORIES:Art,Community Gathering,Live Entertainment
ATTACH;FMTTYPE=image/jpeg:https://gottabesuperior.com/wp-content/uploads/2024/04/Homegrown.jpeg
END:VEVENT
END:VCALENDAR