BEGIN:VCALENDAR
VERSION:2.0
PRODID:-//Gotta Be Superior - ECPv6.15.18//NONSGML v1.0//EN
CALSCALE:GREGORIAN
METHOD:PUBLISH
X-WR-CALNAME:Gotta Be Superior
X-ORIGINAL-URL:https://gottabesuperior.com
X-WR-CALDESC:Events for Gotta Be Superior
REFRESH-INTERVAL;VALUE=DURATION:PT1H
X-Robots-Tag:noindex
X-PUBLISHED-TTL:PT1H
BEGIN:VTIMEZONE
TZID:America/Chicago
BEGIN:DAYLIGHT
TZOFFSETFROM:-0600
TZOFFSETTO:-0500
TZNAME:CDT
DTSTART:20250309T080000
END:DAYLIGHT
BEGIN:STANDARD
TZOFFSETFROM:-0500
TZOFFSETTO:-0600
TZNAME:CST
DTSTART:20251102T070000
END:STANDARD
BEGIN:DAYLIGHT
TZOFFSETFROM:-0600
TZOFFSETTO:-0500
TZNAME:CDT
DTSTART:20260308T080000
END:DAYLIGHT
BEGIN:STANDARD
TZOFFSETFROM:-0500
TZOFFSETTO:-0600
TZNAME:CST
DTSTART:20261101T070000
END:STANDARD
BEGIN:DAYLIGHT
TZOFFSETFROM:-0600
TZOFFSETTO:-0500
TZNAME:CDT
DTSTART:20270314T080000
END:DAYLIGHT
BEGIN:STANDARD
TZOFFSETFROM:-0500
TZOFFSETTO:-0600
TZNAME:CST
DTSTART:20271107T070000
END:STANDARD
END:VTIMEZONE
BEGIN:VEVENT
DTSTART;TZID=America/Chicago:20260508T080000
DTEND;TZID=America/Chicago:20260509T170000
DTSTAMP:20260424T165132
CREATED:20260228T151206Z
LAST-MODIFIED:20260228T151206Z
UID:10018702-1778227200-1778346000@gottabesuperior.com
SUMMARY:Cryptids\, Anomalies and Paranormal Convention @ Fond Du Lac WI
DESCRIPTION:This year our event will feature room for over 40 vendors ALL INDOORS\, TWO Speaker rooms\, Workshops/Classes\, a Psychic Gallery Reading\, and a Bigfoot Expedition!\nThe 2026 Cryptids\, Anomalies\, and Paranormal Convention comes to you May 9th 2026\, doors open at 10am!\nPresented by:Cryptids\, Anomalies\, and the Paranormal Society\nSponsored By:Phantasm ParanormalSasquatch’s Variety Shop – Princeton\, WIHanger 1 PublishingUrban Cryptids\n\nSpeaker Line ups(SUBJECT TO CHANGE WITHOUT NOTIFICATION)\nSpeaker Room #1#111:00AM Jay Bachochin – Wisconsin Bigfoot – The Kettle Connection\n12:00 PM Lee Hampel – Wisconsin’s Skinwalker Ranch – Beast of Bray Road\n1:00 PM LUNCH BREAK\n2:00 PM Terry Cullen – First hand witness of the Minnesota iceman\n3:00 PM Tobias Wayland – Great Lakes Mothman phenomenon\n4:00 PM Ken Gerhard – Cryptids of the Seas & Lakes\n7:00 PM Terry Flick – Psychic Gallery Reading\nSpeaker Room #2#2\n10:30 AM Christopher Duncan – Remote Viewing & Expedition Bigfoot\n11:30 AM Lauren Smith – Little Footers\n12:00 PM Kelly Milner Halls – Research and kids\n12:30 PM Jeff Finup – Urban Legends for Kids\n1:30 PM LUNCH BREAK\n2:30 PM UFO/UAP Pannel\nHost: Jeff Finup with Dustin Schutta\, Jeremy Socha\,  Zach Skrede\, Ian DeGraff\n3:30 PM Larry Eissler III – Scariest Locations Expedition Entity\n4:30 PM Sylvia Shults – Paranormal Vacation\n6:00 PM Kristina Bloom SEANCE\nWORKSHOPS:(Additional Fees Apply)10:00 AM – Casting make and take – with Dan Nedrelo\n11:00 AM – Spirit Photography: Spirits\, Dust\, and You! with Larry Eissler III\n12:00 PM – Everyday Tools for Spirit Communication & Energetic Protection with Ellie Weisensel\n1:00 PM LUNCH\n2:00 PM – Survival 101 “Don’t die in the Woods” with Chris McCreary\n3:00 PM – The Science of the Paranormal with Barnaby Jones\n5:00 PM – Remote Viewing Workshop – with Christopher Duncan\nVIRTUAL TICKETS:\nThe event will NOT be LIVE streamed\, but we will be uploading all presentations for later viewing to those who purchase a Virtual Ticket or a VIP ticket! \nfollow link for tickets    https://events.ticketleap.com/tickets/cryptids-anomalies-and-the-paranormal-society/wisconsin-cryptids-anomalies-and-paranormal-convention-capcon-2026-1370766566?fbclid=IwY2xjawQP5ChleHRuA2FlbQIxMABicmlkETFhY0pQN2owWUs1NkREMzNic3J0YwZhcHBfaWQQMjIyMDM5MTc4ODIwMDg5MgABHp4sdPSZNekv3qeHhl5VETI2R2dQfY7XrqX-N-WTPiZ-g04yWOfEmaPQ8AlE_aem_zD_8FMtfV3Xj8hOnSLPw3A
URL:https://gottabesuperior.com/event/cryptids-anomalies-and-paranormal-convention-fond-du-lac-wi/
LOCATION:Radisson Hotel and Conference Center\, 625 W Rolling Meadows Dr.\, Fond du Lac\, 54937\, United States
CATEGORIES:Community Education,Community Gathering,Culture,Discussion Group,Event/Game/Sport Participation,Event/Game/Sports Spectator,Festivals,Kids & Family,Live Entertainment,Markets/Sales,Meet/Greet
ATTACH;FMTTYPE=image/jpeg:https://gottabesuperior.com/wp-content/uploads/2026/02/8-x-11-poster-scaled.jpg
ORGANIZER;CN="CAPS":MAILTO:wisconsincaps@gmail.com
END:VEVENT
BEGIN:VEVENT
DTSTART;TZID=America/Chicago:20260508T090000
DTEND;TZID=America/Chicago:20260508T100000
DTSTAMP:20260424T165132
CREATED:20240503T153626Z
LAST-MODIFIED:20240503T153626Z
UID:10013954-1778230800-1778234400@gottabesuperior.com
SUMMARY:Richard I Bong American Legion Post #435: Flag of Honor Ceremony
DESCRIPTION:Every Friday Morning at 9am American Legion Post #435 performs a Flag of Honor Ceremony.  Each ceremony is dedicated to the memory of a veteran who has passed. \nIf you know a veteran who you think you would like to be honored please contact American Legion Post #435.  Ceremony happens rain or snow or shine.  If the weather is good\, ceremony is outside the Richard I Bong Veterans Historical Center.  If the weather is not so good\, ceremony is inside the building.
URL:https://gottabesuperior.com/event/richard-i-bong-american-legion-post-435-flag-of-honor-ceremony/2026-05-08/
LOCATION:Richard I Bong Veterans Historical Center\, 305 Harbor View Pkwy\, Superior\, WI\, 54880
CATEGORIES:Community Gathering
ATTACH;FMTTYPE=image/jpeg:https://gottabesuperior.com/wp-content/uploads/2024/05/Legion.jpg
ORGANIZER;CN="Richard I Bong American Legion Post #435":MAILTO:ALPost435@gmail.com
END:VEVENT
BEGIN:VEVENT
DTSTART;TZID=America/Chicago:20260508T120000
DTEND;TZID=America/Chicago:20260508T160000
DTSTAMP:20260424T165132
CREATED:20250802T213746Z
LAST-MODIFIED:20250802T213746Z
UID:10015739-1778241600-1778256000@gottabesuperior.com
SUMMARY:Tarot w/Orin @ Alchemy - Superior
DESCRIPTION:
URL:https://gottabesuperior.com/event/tarot-w-orin-alchemy-superior/2026-05-08/
LOCATION:Alchemy\, 2724 N 21st St\, Superior\, WI\, United States
CATEGORIES:Self Care
ATTACH;FMTTYPE=image/jpeg:https://gottabesuperior.com/wp-content/uploads/2025/01/Alchemy-logo.jpg
ORGANIZER;CN="Alchemy":MAILTO:anndreasart@gmail.com
END:VEVENT
BEGIN:VEVENT
DTSTART;TZID=America/Chicago:20260508T160000
DTEND;TZID=America/Chicago:20260508T220000
DTSTAMP:20260424T165132
CREATED:20260419T155359Z
LAST-MODIFIED:20260419T155359Z
UID:10019149-1778256000-1778277600@gottabesuperior.com
SUMMARY:Gondik Law Speedway: 65th Annual Season Opener - Superior
DESCRIPTION:WISSOTA Late Model\nWISSOTA Modifieds\nWISSOTA Super Stock\nWISSOTA Midwest Mods\nWISSOTA Pure Stock\nWISSOTA Hornet\n\n\nPits Open4:00 PM\nGates Open5:00 PM\nHot Laps At6:30 PM\nRacing Starts 7:00pm
URL:https://gottabesuperior.com/event/gondik-law-speedway-65th-annual-season-opener-superior/
LOCATION:Gondik Law Speedway\, 4700 Tower Ave\, Superior\, WI\, 54880\, United States
CATEGORIES:Car Show/Racing,Community Gathering,Culture,Event/Game/Sports Spectator,Live Entertainment
ATTACH;FMTTYPE=image/jpeg:https://gottabesuperior.com/wp-content/uploads/2024/05/gondik-law-speedway.jpg
ORGANIZER;CN="Gondik Law Speedway":MAILTO:joe@gondiklawspeedway.com
END:VEVENT
BEGIN:VEVENT
DTSTART;TZID=America/Chicago:20260508T190000
DTEND;TZID=America/Chicago:20260508T220000
DTSTAMP:20260424T165132
CREATED:20260103T221510Z
LAST-MODIFIED:20260103T221510Z
UID:10017546-1778266800-1778277600@gottabesuperior.com
SUMMARY:Tommy Wotruba @ Belknap Liquor & Lounge - Superior
DESCRIPTION:
URL:https://gottabesuperior.com/event/tommy-wotruba-belknap-liquor-lounge-superior/2026-05-08/
CATEGORIES:Live Entertainment
ATTACH;FMTTYPE=image/jpeg:https://gottabesuperior.com/wp-content/uploads/2025/05/Tommy-Wotruba.jpg
END:VEVENT
END:VCALENDAR