BEGIN:VCALENDAR
VERSION:2.0
PRODID:-//Gotta Be Superior - ECPv6.15.18//NONSGML v1.0//EN
CALSCALE:GREGORIAN
METHOD:PUBLISH
X-WR-CALNAME:Gotta Be Superior
X-ORIGINAL-URL:https://gottabesuperior.com
X-WR-CALDESC:Events for Gotta Be Superior
REFRESH-INTERVAL;VALUE=DURATION:PT1H
X-Robots-Tag:noindex
X-PUBLISHED-TTL:PT1H
BEGIN:VTIMEZONE
TZID:America/Chicago
BEGIN:DAYLIGHT
TZOFFSETFROM:-0600
TZOFFSETTO:-0500
TZNAME:CDT
DTSTART:20250309T080000
END:DAYLIGHT
BEGIN:STANDARD
TZOFFSETFROM:-0500
TZOFFSETTO:-0600
TZNAME:CST
DTSTART:20251102T070000
END:STANDARD
BEGIN:DAYLIGHT
TZOFFSETFROM:-0600
TZOFFSETTO:-0500
TZNAME:CDT
DTSTART:20260308T080000
END:DAYLIGHT
BEGIN:STANDARD
TZOFFSETFROM:-0500
TZOFFSETTO:-0600
TZNAME:CST
DTSTART:20261101T070000
END:STANDARD
BEGIN:DAYLIGHT
TZOFFSETFROM:-0600
TZOFFSETTO:-0500
TZNAME:CDT
DTSTART:20270314T080000
END:DAYLIGHT
BEGIN:STANDARD
TZOFFSETFROM:-0500
TZOFFSETTO:-0600
TZNAME:CST
DTSTART:20271107T070000
END:STANDARD
END:VTIMEZONE
BEGIN:VEVENT
DTSTART;TZID=America/Chicago:20260523T070000
DTEND;TZID=America/Chicago:20260523T153000
DTSTAMP:20260424T153329
CREATED:20260423T195457Z
LAST-MODIFIED:20260423T195457Z
UID:10019200-1779519600-1779550200@gottabesuperior.com
SUMMARY:Believers Church Rummage Sale - Duluth
DESCRIPTION:It’s that time of year again—rummage season! Join us for our Annual Rummage Sale where you can hunt for treasures\, sip an espresso\, and enjoy lunch with your neighbors. Saturday\, May 23 7 AM – 3 PM 30 N. 58th Ave W.We’ll have clothing\, books\, toys and more. Come for the deals\, stay for the coffee.  We’ll have espresso drinks\, plus lunch to keep you fueled while you browse! Bring a friend!
URL:https://gottabesuperior.com/event/believers-church-rummage-sale-duluth/
LOCATION:Believers Church – Duluth\, 30 N 58th Ave W\, Duluth\, MN\, United States
CATEGORIES:Community Gathering,Event/Game/Sport Participation,Fundraiser,Markets/Sales
ATTACH;FMTTYPE=image/jpeg:https://gottabesuperior.com/wp-content/uploads/2026/04/Believers-church-rummage.jpg
ORGANIZER;CN="Belivers Church":MAILTO:office@jfbduluth.com
END:VEVENT
BEGIN:VEVENT
DTSTART;TZID=America/Chicago:20260523T090000
DTEND;TZID=America/Chicago:20260523T100000
DTSTAMP:20260424T153329
CREATED:20250718T183519Z
LAST-MODIFIED:20250718T183519Z
UID:10015363-1779526800-1779530400@gottabesuperior.com
SUMMARY:Coffee & Guitar w/ Darin Bergsven Livestream
DESCRIPTION:Jazz guitarist Darin Bergsven performs a livestream show every Saturday morning on his YouTube channel\, sometimes with guest musicians. \nhttps://www.youtube.com/channel/UCy810FRxbrv5kJ6ShcTzODQ
URL:https://gottabesuperior.com/event/coffee-guitar-w-darin-bergsven-livestream/2026-05-23/
LOCATION:Online
CATEGORIES:Free,Live Entertainment,Online or Radio Event
ATTACH;FMTTYPE=image/jpeg:https://gottabesuperior.com/wp-content/uploads/2025/07/Coffee-and-Guitar-with-Darin-Bergsven.jpg
END:VEVENT
BEGIN:VEVENT
DTSTART;TZID=America/Chicago:20260523T100000
DTEND;TZID=America/Chicago:20260523T160000
DTSTAMP:20260424T153329
CREATED:20260328T022549Z
LAST-MODIFIED:20260328T022549Z
UID:10018885-1779530400-1779552000@gottabesuperior.com
SUMMARY:Life in Bloom Market @ KindredHeart - Superior
DESCRIPTION:Get ready to experience life in bloom! Where canvas meets the cosmos  Join us for Life in Bloom\, an immersive art show and metaphysical experience. We will have over 60 vendors involved in this event! Both indoors and outdoors.​Join us for a day filled with: Handcrafted treasures from local artisans Empowering metaphysical insights and tools Wellness services to nourish your mind\, body\, and spirit Interactive activities to plant intentions and spark joy\nMore information to come!
URL:https://gottabesuperior.com/event/life-in-bloom-market-kindredheart-superior/
LOCATION:Kindred Heart\, 820 Tower Ave\, Superior\, WI\, United States
CATEGORIES:Community Gathering,Event/Game/Sport Participation,Markets/Sales
ATTACH;FMTTYPE=image/jpeg:https://gottabesuperior.com/wp-content/uploads/2026/03/lifeinbloom.jpg
ORGANIZER;CN="KinderedHeart":MAILTO:readingsbykls@gmail.com
END:VEVENT
BEGIN:VEVENT
DTSTART;TZID=America/Chicago:20260523T110000
DTEND;TZID=America/Chicago:20260523T133000
DTSTAMP:20260424T153329
CREATED:20260415T184227Z
LAST-MODIFIED:20260415T184227Z
UID:10019103-1779534000-1779543000@gottabesuperior.com
SUMMARY:Sidewalk Chalk Art Contest @ Richard I Bong Veterans Historical Center - Superior
DESCRIPTION:May 23rd is our Memorial Day event\, and at it we will be having our Sidewalk Chalk Art Contest! If you’d like to guarantee a spot before the event\, please fill out an application and send it to the Bong Center! \nfollow link for application….. https://www.facebook.com/BongVeteransCenter
URL:https://gottabesuperior.com/event/sidewalk-chalk-art-contest-richard-i-bong-veterans-historical-center-superior/
LOCATION:Richard I Bong Veterans Historical Center\, 305 Harbor View Pkwy\, Superior\, WI\, 54880
CATEGORIES:Art,Community Gathering,Event/Game/Sport Participation,Free
ATTACH;FMTTYPE=image/jpeg:https://gottabesuperior.com/wp-content/uploads/2026/04/chalk-art.jpg
END:VEVENT
BEGIN:VEVENT
DTSTART;TZID=America/Chicago:20260523T110000
DTEND;TZID=America/Chicago:20260523T150000
DTSTAMP:20260424T153329
CREATED:20260416T202945Z
LAST-MODIFIED:20260416T202945Z
UID:10019115-1779534000-1779548400@gottabesuperior.com
SUMMARY:Memorial Day @ Richard I Bong Veterans Historical Center - Superior
DESCRIPTION:Join us on Memorial Day\, Saturday May 23 from 11-3\, for a celebration!  $1 Admission\, proceeds go to the Flora Oveson Memorial Scholarship Fund for Femail Aviators.  There will also be a sidewalk chalk art contest\, food trucks\, tank tours\, K-9 demonstrations\, Municipal Vehcle Display\, Douglas County Animal Shelter\, Army Recruiters\, raffles and more! \nfollow link for more information    https://bongcenter.org/events/
URL:https://gottabesuperior.com/event/memorial-day-richard-i-bong-veterans-historical-center-superior/
LOCATION:Richard I Bong Veterans Historical Center\, 305 Harbor View Pkwy\, Superior\, WI\, 54880
CATEGORIES:Community Gathering,Event/Game/Sport Participation,Event/Game/Sports Spectator,Food & Drink,Kids & Family
ATTACH;FMTTYPE=image/png:https://gottabesuperior.com/wp-content/uploads/2026/04/MDay-1-Madness3-scaled-1.png
END:VEVENT
BEGIN:VEVENT
DTSTART;TZID=America/Chicago:20260523T120000
DTEND;TZID=America/Chicago:20260523T200000
DTSTAMP:20260424T153329
CREATED:20250805T135556Z
LAST-MODIFIED:20250805T135556Z
UID:10015799-1779537600-1779566400@gottabesuperior.com
SUMMARY:MTG Casual Commander @ Globe News - Superior
DESCRIPTION:
URL:https://gottabesuperior.com/event/mtg-casual-commander-globe-news-superior/2026-05-23/
LOCATION:Globe News
CATEGORIES:Community Gathering,Event/Game/Sport Participation
ATTACH;FMTTYPE=image/jpeg:https://gottabesuperior.com/wp-content/uploads/2023/01/globe-news-sign.jpg
END:VEVENT
END:VCALENDAR