BEGIN:VCALENDAR
VERSION:2.0
PRODID:-//Gotta Be Superior - ECPv6.15.18//NONSGML v1.0//EN
CALSCALE:GREGORIAN
METHOD:PUBLISH
X-ORIGINAL-URL:https://gottabesuperior.com
X-WR-CALDESC:Events for Gotta Be Superior
REFRESH-INTERVAL;VALUE=DURATION:PT1H
X-Robots-Tag:noindex
X-PUBLISHED-TTL:PT1H
BEGIN:VTIMEZONE
TZID:America/Chicago
BEGIN:DAYLIGHT
TZOFFSETFROM:-0600
TZOFFSETTO:-0500
TZNAME:CDT
DTSTART:20250309T080000
END:DAYLIGHT
BEGIN:STANDARD
TZOFFSETFROM:-0500
TZOFFSETTO:-0600
TZNAME:CST
DTSTART:20251102T070000
END:STANDARD
BEGIN:DAYLIGHT
TZOFFSETFROM:-0600
TZOFFSETTO:-0500
TZNAME:CDT
DTSTART:20260308T080000
END:DAYLIGHT
BEGIN:STANDARD
TZOFFSETFROM:-0500
TZOFFSETTO:-0600
TZNAME:CST
DTSTART:20261101T070000
END:STANDARD
BEGIN:DAYLIGHT
TZOFFSETFROM:-0600
TZOFFSETTO:-0500
TZNAME:CDT
DTSTART:20270314T080000
END:DAYLIGHT
BEGIN:STANDARD
TZOFFSETFROM:-0500
TZOFFSETTO:-0600
TZNAME:CST
DTSTART:20271107T070000
END:STANDARD
END:VTIMEZONE
BEGIN:VEVENT
DTSTART;TZID=America/Chicago:20260711T090000
DTEND;TZID=America/Chicago:20260711T100000
DTSTAMP:20260424T195730
CREATED:20250718T183519Z
LAST-MODIFIED:20250718T183519Z
UID:10015370-1783760400-1783764000@gottabesuperior.com
SUMMARY:Coffee & Guitar w/ Darin Bergsven Livestream
DESCRIPTION:Jazz guitarist Darin Bergsven performs a livestream show every Saturday morning on his YouTube channel\, sometimes with guest musicians. \nhttps://www.youtube.com/channel/UCy810FRxbrv5kJ6ShcTzODQ
URL:https://gottabesuperior.com/event/coffee-guitar-w-darin-bergsven-livestream/2026-07-11/
LOCATION:Online
CATEGORIES:Free,Live Entertainment,Online or Radio Event
ATTACH;FMTTYPE=image/jpeg:https://gottabesuperior.com/wp-content/uploads/2025/07/Coffee-and-Guitar-with-Darin-Bergsven.jpg
END:VEVENT
BEGIN:VEVENT
DTSTART;TZID=America/Chicago:20260711T120000
DTEND;TZID=America/Chicago:20260711T200000
DTSTAMP:20260424T195730
CREATED:20250805T135556Z
LAST-MODIFIED:20250805T135556Z
UID:10015806-1783771200-1783800000@gottabesuperior.com
SUMMARY:MTG Casual Commander @ Globe News - Superior
DESCRIPTION:
URL:https://gottabesuperior.com/event/mtg-casual-commander-globe-news-superior/2026-07-11/
LOCATION:Globe News
CATEGORIES:Community Gathering,Event/Game/Sport Participation
ATTACH;FMTTYPE=image/jpeg:https://gottabesuperior.com/wp-content/uploads/2023/01/globe-news-sign.jpg
END:VEVENT
BEGIN:VEVENT
DTSTART;TZID=America/Chicago:20260711T130000
DTEND;TZID=America/Chicago:20260711T133000
DTSTAMP:20260424T195730
CREATED:20260421T145103Z
LAST-MODIFIED:20260421T145103Z
UID:10019173-1783774800-1783776600@gottabesuperior.com
SUMMARY:Annual Children's Memorial Garden Dedication - Superior
DESCRIPTION:
URL:https://gottabesuperior.com/event/annual-childrens-memorial-garden-dedication-superior/
LOCATION:Children’s Memorial Garden\, 2nd Point\, Billings Park\, Superior\, United States
CATEGORIES:Community Gathering,Event/Game/Sport Participation,Free,Kids & Family
ATTACH;FMTTYPE=image/jpeg:https://gottabesuperior.com/wp-content/uploads/2026/04/Childrens-memorial-garden.jpg
ORGANIZER;CN="Friends of Children's Memorial Garden":MAILTO:katelynbaumann@gmail.com
END:VEVENT
END:VCALENDAR