BEGIN:VCALENDAR
VERSION:2.0
PRODID:-//Gotta Be Superior - ECPv6.15.18//NONSGML v1.0//EN
CALSCALE:GREGORIAN
METHOD:PUBLISH
X-ORIGINAL-URL:https://gottabesuperior.com
X-WR-CALDESC:Events for Gotta Be Superior
REFRESH-INTERVAL;VALUE=DURATION:PT1H
X-Robots-Tag:noindex
X-PUBLISHED-TTL:PT1H
BEGIN:VTIMEZONE
TZID:America/Chicago
BEGIN:DAYLIGHT
TZOFFSETFROM:-0600
TZOFFSETTO:-0500
TZNAME:CDT
DTSTART:20250309T080000
END:DAYLIGHT
BEGIN:STANDARD
TZOFFSETFROM:-0500
TZOFFSETTO:-0600
TZNAME:CST
DTSTART:20251102T070000
END:STANDARD
BEGIN:DAYLIGHT
TZOFFSETFROM:-0600
TZOFFSETTO:-0500
TZNAME:CDT
DTSTART:20260308T080000
END:DAYLIGHT
BEGIN:STANDARD
TZOFFSETFROM:-0500
TZOFFSETTO:-0600
TZNAME:CST
DTSTART:20261101T070000
END:STANDARD
BEGIN:DAYLIGHT
TZOFFSETFROM:-0600
TZOFFSETTO:-0500
TZNAME:CDT
DTSTART:20270314T080000
END:DAYLIGHT
BEGIN:STANDARD
TZOFFSETFROM:-0500
TZOFFSETTO:-0600
TZNAME:CST
DTSTART:20271107T070000
END:STANDARD
END:VTIMEZONE
BEGIN:VEVENT
DTSTART;TZID=America/Chicago:20260713T080000
DTEND;TZID=America/Chicago:20260720T170000
DTSTAMP:20260424T213641
CREATED:20260117T220236Z
LAST-MODIFIED:20260117T220236Z
UID:10017978-1783929600-1784566800@gottabesuperior.com
SUMMARY:
DESCRIPTION:Date: July 13th – July 20th\, 2026\nLocation: Northern MN Resort on the edge of the Boundary Waters Canoe Area \n7 Days at a Northern Minnesota Resort\nFishing • Relaxing • Sightseeing • Boating • Hiking\nPeace and reflection near the Boundary Waters Canoe Area \nFree Trip for Veterans\nAn amazing opportunity to unplug\, recharge\, and reconnect with yourself and fellow veterans in the tranquility of Northern Minnesota. \nWhat to Expect: \n\nBoating: Glide through the calm and crystal-clear waters of the BWCA\, exploring its secluded waterways and breathtaking landscapes.\nFishing: Cast your line into the abundant waters\, rich with local fish species. Whether you’re a seasoned angler or a novice\, the serene environment provides the perfect backdrop for fishing.\nLodge Life: Enjoy yourself in the tranquility of the lake. Sleep in the lodge\, surrounded by the soothing sounds of nature\, and wake up to the crisp\, fresh air each morning.\nHiking & Scenic Tours: Hike the unspoiled BWCA lakes or take a walk through the charming towns in the area\, where there are museums\, shopping\, art\, and more!\nCampfires & Relaxation: Disconnect and unwind. Soak in peace\, find solace\, and enjoy the chance to reflect and rejuvenate.\n\nThis trip is not just about exploring the great upnorth; it’s an opportunity to connect with fellow veterans\, share stories\, and build camaraderie in a setting that honors your service and sacrifices. \nHow to Prepare: No previous experience is necessary. Participants will receive a comprehensive guide on what to bring and how to prepare for the trip\, ensuring everyone is ready for this unforgettable adventure. \nSecure Your Spot: Spaces are limited to maintain an intimate and supportive group experience. Apply now for your spot on this transformative journey. \n2026 Veterans Lakeside Retreat
URL:https://gottabesuperior.com/event/36099/
LOCATION:Boundary Waters Canoe Area
CATEGORIES:Community Gathering,Culture,Event/Game/Sport Participation,Nature,Outdoors,Veterans
ATTACH;FMTTYPE=image/jpeg:https://gottabesuperior.com/wp-content/uploads/2026/01/26Veterans-Lakeside-Retreat-Header-2048x1152-1.jpg
END:VEVENT
BEGIN:VEVENT
DTSTART;TZID=America/Chicago:20260714T100000
DTEND;TZID=America/Chicago:20260714T140000
DTSTAMP:20260424T213641
CREATED:20250825T013934Z
LAST-MODIFIED:20250825T013934Z
UID:10016044-1784023200-1784037600@gottabesuperior.com
SUMMARY:Click & Learn w/Ethan: Digital Navigator @ Superior Public Library - Superior
DESCRIPTION:Come to the library for tech help and meet with Ethan\, a digital navigator who can help you become familiar with the technology that can improve your life\, from sending emails to accessing your online healthcare portal!\n\n\nMeet with Ethan at Superior Public Library on Tuesdays from 10 a.m. to 2 p.m. during the months of August and September. He also visits our branch libraries to provide assistance to our Lake Nebagamon and Solon Springs patrons. Stop by the Imogene McGrath Memorial Library in Lake Nebagamon on Mondays in August and September from 10 a.m. to 12 p.m. and the Joan Salmen Memorial Library in Solon Springs on Mondays in August and September from 1 p.m. to 3 p.m. Laptop checkouts are also available! No library card or appointment is required.\n\n\n** Please note: there will be NO CLICK & Learn on Monday\, September 1 due to the Labor Day holiday. **
URL:https://gottabesuperior.com/event/click-learn-w-ethan-digital-navigator-superior-public-library-superior/2026-07-14/
LOCATION:Superior Public Library\, 1530 Tower Ave\, Superior\, WI\, 54880\, United States
CATEGORIES:Community Education,Free
ATTACH;FMTTYPE=image/jpeg:https://gottabesuperior.com/wp-content/uploads/2025/08/Click-Learn.jpg
END:VEVENT
BEGIN:VEVENT
DTSTART;TZID=America/Chicago:20260714T140000
DTEND;TZID=America/Chicago:20260714T180000
DTSTAMP:20260424T213641
CREATED:20250710T215224Z
LAST-MODIFIED:20250710T215224Z
UID:10015158-1784037600-1784052000@gottabesuperior.com
SUMMARY:Farmer's and Crafters Market @ Gravel Pit Tavern - Poplar WI
DESCRIPTION:Join us at our twice weekly markets\, Tuesdays at Gravel Pit and Thursday’s across from Kro Bar.We have a lot of great vendors selling some great stuff\, Including smoked and candied nuts\, fresh pico\, baked goods\, quilted items\, homemade cards\, canned goods\, and a lot of other goodies!
URL:https://gottabesuperior.com/event/farmers-and-crafters-market-gravel-pit-tavern-poplar-wi/2026-07-14/
LOCATION:The Gravel Pit Tavern\, 5781 South County Road P\, Poplar\, WI\, 54864\, United States
CATEGORIES:Community Gathering,Markets/Sales
ATTACH;FMTTYPE=image/jpeg:https://gottabesuperior.com/wp-content/uploads/2025/07/Gravel-Pit-Tavern.jpg
END:VEVENT
END:VCALENDAR