BEGIN:VCALENDAR
VERSION:2.0
PRODID:-//Gotta Be Superior - ECPv6.15.18//NONSGML v1.0//EN
CALSCALE:GREGORIAN
METHOD:PUBLISH
X-ORIGINAL-URL:https://gottabesuperior.com
X-WR-CALDESC:Events for Gotta Be Superior
REFRESH-INTERVAL;VALUE=DURATION:PT1H
X-Robots-Tag:noindex
X-PUBLISHED-TTL:PT1H
BEGIN:VTIMEZONE
TZID:America/Chicago
BEGIN:DAYLIGHT
TZOFFSETFROM:-0600
TZOFFSETTO:-0500
TZNAME:CDT
DTSTART:20250309T080000
END:DAYLIGHT
BEGIN:STANDARD
TZOFFSETFROM:-0500
TZOFFSETTO:-0600
TZNAME:CST
DTSTART:20251102T070000
END:STANDARD
BEGIN:DAYLIGHT
TZOFFSETFROM:-0600
TZOFFSETTO:-0500
TZNAME:CDT
DTSTART:20260308T080000
END:DAYLIGHT
BEGIN:STANDARD
TZOFFSETFROM:-0500
TZOFFSETTO:-0600
TZNAME:CST
DTSTART:20261101T070000
END:STANDARD
BEGIN:DAYLIGHT
TZOFFSETFROM:-0600
TZOFFSETTO:-0500
TZNAME:CDT
DTSTART:20270314T080000
END:DAYLIGHT
BEGIN:STANDARD
TZOFFSETFROM:-0500
TZOFFSETTO:-0600
TZNAME:CST
DTSTART:20271107T070000
END:STANDARD
END:VTIMEZONE
BEGIN:VEVENT
DTSTART;TZID=America/Chicago:20260806T160000
DTEND;TZID=America/Chicago:20260806T180000
DTSTAMP:20260424T213605
CREATED:20250802T213204Z
LAST-MODIFIED:20250802T213204Z
UID:10015696-1786032000-1786039200@gottabesuperior.com
SUMMARY:Tarot w/ Barbi @ Alchemy - Superior
DESCRIPTION:  \n  \n 
URL:https://gottabesuperior.com/event/tarot-w-barbi-alchemy-superior/2026-08-06/
LOCATION:Alchemy\, 2724 N 21st St\, Superior\, WI\, United States
CATEGORIES:Self Care
ATTACH;FMTTYPE=image/jpeg:https://gottabesuperior.com/wp-content/uploads/2025/01/Alchemy-logo.jpg
ORGANIZER;CN="Alchemy":MAILTO:anndreasart@gmail.com
END:VEVENT
BEGIN:VEVENT
DTSTART;TZID=America/Chicago:20260806T180000
DTEND;TZID=America/Chicago:20260806T200000
DTSTAMP:20260424T213605
CREATED:20260423T165420Z
LAST-MODIFIED:20260423T165420Z
UID:10019196-1786039200-1786046400@gottabesuperior.com
SUMMARY:2026 Superior Porchfest East End Night - Superior
DESCRIPTION:Rad music and solid food. you know the drill!
URL:https://gottabesuperior.com/event/2026-superior-porchfest-east-end-night-superior/
LOCATION:East End Neighborhood\, East 5th Street & 22nd Ave E\, Superior\, WI\, United States
CATEGORIES:Art,Community Gathering,Culture,Event/Game/Sport Participation,Event/Game/Sports Spectator,Free,Kids & Family,Live Entertainment
ATTACH;FMTTYPE=image/jpeg:https://gottabesuperior.com/wp-content/uploads/2026/04/Porchfest-2026-logo.jpg
END:VEVENT
END:VCALENDAR