BEGIN:VCALENDAR
VERSION:2.0
PRODID:-//Gotta Be Superior - ECPv6.15.18//NONSGML v1.0//EN
CALSCALE:GREGORIAN
METHOD:PUBLISH
X-ORIGINAL-URL:https://gottabesuperior.com
X-WR-CALDESC:Events for Gotta Be Superior
REFRESH-INTERVAL;VALUE=DURATION:PT1H
X-Robots-Tag:noindex
X-PUBLISHED-TTL:PT1H
BEGIN:VTIMEZONE
TZID:America/Chicago
BEGIN:DAYLIGHT
TZOFFSETFROM:-0600
TZOFFSETTO:-0500
TZNAME:CDT
DTSTART:20250309T080000
END:DAYLIGHT
BEGIN:STANDARD
TZOFFSETFROM:-0500
TZOFFSETTO:-0600
TZNAME:CST
DTSTART:20251102T070000
END:STANDARD
BEGIN:DAYLIGHT
TZOFFSETFROM:-0600
TZOFFSETTO:-0500
TZNAME:CDT
DTSTART:20260308T080000
END:DAYLIGHT
BEGIN:STANDARD
TZOFFSETFROM:-0500
TZOFFSETTO:-0600
TZNAME:CST
DTSTART:20261101T070000
END:STANDARD
BEGIN:DAYLIGHT
TZOFFSETFROM:-0600
TZOFFSETTO:-0500
TZNAME:CDT
DTSTART:20270314T080000
END:DAYLIGHT
BEGIN:STANDARD
TZOFFSETFROM:-0500
TZOFFSETTO:-0600
TZNAME:CST
DTSTART:20271107T070000
END:STANDARD
END:VTIMEZONE
BEGIN:VEVENT
DTSTART;TZID=America/Chicago:20260828T090000
DTEND;TZID=America/Chicago:20260828T100000
DTSTAMP:20260424T213638
CREATED:20240503T153626Z
LAST-MODIFIED:20240503T153626Z
UID:10016321-1787907600-1787911200@gottabesuperior.com
SUMMARY:Richard I Bong American Legion Post #435: Flag of Honor Ceremony
DESCRIPTION:Every Friday Morning at 9am American Legion Post #435 performs a Flag of Honor Ceremony.  Each ceremony is dedicated to the memory of a veteran who has passed. \nIf you know a veteran who you think you would like to be honored please contact American Legion Post #435.  Ceremony happens rain or snow or shine.  If the weather is good\, ceremony is outside the Richard I Bong Veterans Historical Center.  If the weather is not so good\, ceremony is inside the building.
URL:https://gottabesuperior.com/event/richard-i-bong-american-legion-post-435-flag-of-honor-ceremony/2026-08-28/
LOCATION:Richard I Bong Veterans Historical Center\, 305 Harbor View Pkwy\, Superior\, WI\, 54880
CATEGORIES:Community Gathering
ATTACH;FMTTYPE=image/jpeg:https://gottabesuperior.com/wp-content/uploads/2024/05/Legion.jpg
ORGANIZER;CN="Richard I Bong American Legion Post #435":MAILTO:ALPost435@gmail.com
END:VEVENT
BEGIN:VEVENT
DTSTART;TZID=America/Chicago:20260828T120000
DTEND;TZID=America/Chicago:20260828T160000
DTSTAMP:20260424T213638
CREATED:20250802T213746Z
LAST-MODIFIED:20250802T213746Z
UID:10015755-1787918400-1787932800@gottabesuperior.com
SUMMARY:Tarot w/Orin @ Alchemy - Superior
DESCRIPTION:
URL:https://gottabesuperior.com/event/tarot-w-orin-alchemy-superior/2026-08-28/
LOCATION:Alchemy\, 2724 N 21st St\, Superior\, WI\, United States
CATEGORIES:Self Care
ATTACH;FMTTYPE=image/jpeg:https://gottabesuperior.com/wp-content/uploads/2025/01/Alchemy-logo.jpg
ORGANIZER;CN="Alchemy":MAILTO:anndreasart@gmail.com
END:VEVENT
BEGIN:VEVENT
DTSTART;TZID=America/Chicago:20260828T170000
DTEND;TZID=America/Chicago:20260828T220000
DTSTAMP:20260424T213638
CREATED:20260419T164647Z
LAST-MODIFIED:20260419T164647Z
UID:10019165-1787936400-1787954400@gottabesuperior.com
SUMMARY:Gondik Law Speedway: Championship Night/Kids Box Car Series - Superior
DESCRIPTION:Event Times\n\n\nPits Open4:00 PM\nGates Open5:00 PM\nHot Laps At6:30 PM\nRacing Starts7:00 PM\n\n\n\n\n\n\n\n\nClasses\n\n\nWISSOTA Late Model\nWISSOTA Modifieds\nWISSOTA Super Stock\nWISSOTA Midwest Mods\nWISSOTA Pure Stock\nWISSOTA Hornet
URL:https://gottabesuperior.com/event/gondik-law-speedway-championship-night-kids-box-car-series-superior/
LOCATION:Gondik Law Speedway\, 4700 Tower Ave\, Superior\, WI\, 54880\, United States
CATEGORIES:Car Show/Racing,Community Gathering,Event/Game/Sports Spectator,Live Entertainment
ATTACH;FMTTYPE=image/jpeg:https://gottabesuperior.com/wp-content/uploads/2024/05/gondik-law-speedway.jpg
ORGANIZER;CN="Gondik Law Speedway":MAILTO:joe@gondiklawspeedway.com
END:VEVENT
END:VCALENDAR