BEGIN:VCALENDAR
VERSION:2.0
PRODID:-//Gotta Be Superior - ECPv6.15.18//NONSGML v1.0//EN
CALSCALE:GREGORIAN
METHOD:PUBLISH
X-ORIGINAL-URL:https://gottabesuperior.com
X-WR-CALDESC:Events for Gotta Be Superior
REFRESH-INTERVAL;VALUE=DURATION:PT1H
X-Robots-Tag:noindex
X-PUBLISHED-TTL:PT1H
BEGIN:VTIMEZONE
TZID:America/Chicago
BEGIN:DAYLIGHT
TZOFFSETFROM:-0600
TZOFFSETTO:-0500
TZNAME:CDT
DTSTART:20260308T080000
END:DAYLIGHT
BEGIN:STANDARD
TZOFFSETFROM:-0500
TZOFFSETTO:-0600
TZNAME:CST
DTSTART:20261101T070000
END:STANDARD
BEGIN:DAYLIGHT
TZOFFSETFROM:-0600
TZOFFSETTO:-0500
TZNAME:CDT
DTSTART:20270314T080000
END:DAYLIGHT
BEGIN:STANDARD
TZOFFSETFROM:-0500
TZOFFSETTO:-0600
TZNAME:CST
DTSTART:20271107T070000
END:STANDARD
BEGIN:DAYLIGHT
TZOFFSETFROM:-0600
TZOFFSETTO:-0500
TZNAME:CDT
DTSTART:20280312T080000
END:DAYLIGHT
BEGIN:STANDARD
TZOFFSETFROM:-0500
TZOFFSETTO:-0600
TZNAME:CST
DTSTART:20281105T070000
END:STANDARD
END:VTIMEZONE
BEGIN:VEVENT
DTSTART;TZID=America/Chicago:20270129T080000
DTEND;TZID=America/Chicago:20270129T170000
DTSTAMP:20260425T054203
CREATED:20260324T201834Z
LAST-MODIFIED:20260324T201834Z
UID:10018867-1801209600-1801242000@gottabesuperior.com
SUMMARY:Lake Superior Ice Festival @ Barkers Island - Superior
DESCRIPTION:
URL:https://gottabesuperior.com/event/lake-superior-ice-festival-barkers-island-superior/2027-01-29/
LOCATION:Barkers Island
ATTACH;FMTTYPE=image/jpeg:https://gottabesuperior.com/wp-content/uploads/2026/03/download-5.jpeg
ORGANIZER;CN="Lake Superior Ice Fesitval":MAILTO:lakesuperioricefestival@gmail.com
END:VEVENT
BEGIN:VEVENT
DTSTART;TZID=America/Chicago:20270129T090000
DTEND;TZID=America/Chicago:20270129T100000
DTSTAMP:20260425T054203
CREATED:20240503T153626Z
LAST-MODIFIED:20240503T153626Z
UID:10018089-1801213200-1801216800@gottabesuperior.com
SUMMARY:Richard I Bong American Legion Post #435: Flag of Honor Ceremony
DESCRIPTION:Every Friday Morning at 9am American Legion Post #435 performs a Flag of Honor Ceremony.  Each ceremony is dedicated to the memory of a veteran who has passed. \nIf you know a veteran who you think you would like to be honored please contact American Legion Post #435.  Ceremony happens rain or snow or shine.  If the weather is good\, ceremony is outside the Richard I Bong Veterans Historical Center.  If the weather is not so good\, ceremony is inside the building.
URL:https://gottabesuperior.com/event/richard-i-bong-american-legion-post-435-flag-of-honor-ceremony/2027-01-29/
LOCATION:Richard I Bong Veterans Historical Center\, 305 Harbor View Pkwy\, Superior\, WI\, 54880
CATEGORIES:Community Gathering
ATTACH;FMTTYPE=image/jpeg:https://gottabesuperior.com/wp-content/uploads/2024/05/Legion.jpg
ORGANIZER;CN="Richard I Bong American Legion Post #435":MAILTO:ALPost435@gmail.com
END:VEVENT
END:VCALENDAR