BEGIN:VCALENDAR
VERSION:2.0
PRODID:-//Gotta Be Superior - ECPv6.15.18//NONSGML v1.0//EN
CALSCALE:GREGORIAN
METHOD:PUBLISH
X-WR-CALNAME:Gotta Be Superior
X-ORIGINAL-URL:https://gottabesuperior.com
X-WR-CALDESC:Events for Gotta Be Superior
REFRESH-INTERVAL;VALUE=DURATION:PT1H
X-Robots-Tag:noindex
X-PUBLISHED-TTL:PT1H
BEGIN:VTIMEZONE
TZID:America/Chicago
BEGIN:DAYLIGHT
TZOFFSETFROM:-0600
TZOFFSETTO:-0500
TZNAME:CDT
DTSTART:20250309T080000
END:DAYLIGHT
BEGIN:STANDARD
TZOFFSETFROM:-0500
TZOFFSETTO:-0600
TZNAME:CST
DTSTART:20251102T070000
END:STANDARD
BEGIN:DAYLIGHT
TZOFFSETFROM:-0600
TZOFFSETTO:-0500
TZNAME:CDT
DTSTART:20260308T080000
END:DAYLIGHT
BEGIN:STANDARD
TZOFFSETFROM:-0500
TZOFFSETTO:-0600
TZNAME:CST
DTSTART:20261101T070000
END:STANDARD
BEGIN:DAYLIGHT
TZOFFSETFROM:-0600
TZOFFSETTO:-0500
TZNAME:CDT
DTSTART:20270314T080000
END:DAYLIGHT
BEGIN:STANDARD
TZOFFSETFROM:-0500
TZOFFSETTO:-0600
TZNAME:CST
DTSTART:20271107T070000
END:STANDARD
END:VTIMEZONE
BEGIN:VEVENT
DTSTART;TZID=America/Chicago:20260320T160000
DTEND;TZID=America/Chicago:20260320T230000
DTSTAMP:20260419T084818
CREATED:20260306T165233Z
LAST-MODIFIED:20260306T165233Z
UID:10018726-1774022400-1774047600@gottabesuperior.com
SUMMARY:Kindredheart After Dark - Superior
DESCRIPTION:Come shop after dark at KindredHeart! This event is perfect for those that love books\, poetry\, and the arts.\nWe will have tarot and astrology vendors\, creators doing custom work (TBD)\, bookmark painting\, mocktails\, gothic/classical book trivia\, and poetry open mic! This event is for all ages and for all that love the “dark academia” and gothic vibes.\nAre you a vendor that either does on the spot custom work or readings? Contact Mikinzie today at 218.590.6377 or readingsbykls@gmail.com to inquire! We are especially looking for unique vendors that offer custom work services like tattooing\, portraits\, etc.
URL:https://gottabesuperior.com/event/kindredheart-after-dark-superior/
LOCATION:Kindred Heart\, 820 Tower Ave\, Superior\, WI\, United States
CATEGORIES:Art,Community Gathering,Culture,Event/Game/Sport Participation,Food & Drink,Markets/Sales
ATTACH;FMTTYPE=image/jpeg:https://gottabesuperior.com/wp-content/uploads/2026/03/644944229_122205394970360996_5273145673417600327_n.jpg
END:VEVENT
BEGIN:VEVENT
DTSTART;TZID=America/Chicago:20260321T110000
DTEND;TZID=America/Chicago:20260321T133000
DTSTAMP:20260419T084818
CREATED:20260212T022058Z
LAST-MODIFIED:20260212T022058Z
UID:10018508-1774090800-1774099800@gottabesuperior.com
SUMMARY:Create Driftwood Chimes @ Shannon's Stained Glassery - Superior
DESCRIPTION:03-21-26 Driftwood Wind ChimesSaturday 11 am – 1:30pmCombine glass fusing with the beauty of natural driftwood to create a one of a kind wind chime. There are several ideas for chimes to choose from\, but wind chimes open the door for creativity and the possibilities are endless. Class is one day\, and fee of $40 includes instruction\, use of tools\, wire and kiln firing. Other materials are additional. There will be several pieces of drift wood available for you to choose from\, otherwise use this class as an excuse to comb the beaches.Price: $40.00 \nFollow link for tickets  https://checkout.square.site/merchant/RZVWBMX9QD3M3/checkout/AA5UEMFXP3KAR3RPC3CHN7EX?fbclid=IwY2xjawP6F_NleHRuA2FlbQIxMABicmlkETEwOGNvQjdVRjZnRGpsMEt1c3J0YwZhcHBfaWQQMjIyMDM5MTc4ODIwMDg5MgABHqrZLaV-KSWkzNCGN7CPhE4THNlSOOjrtwQfwl146LOKeqZEDujdOedULxmE_aem_KyFREOvsEkkiFfU7BFKaXQ
URL:https://gottabesuperior.com/event/create-driftwood-chimes-shannons-stained-glassery-superior/
LOCATION:Shannon’s Stained Glassery\, 5904 TOWER AVE\, Superior\, 54880\, United States
CATEGORIES:Art,Community Education,Event/Game/Sport Participation,Makers Class
ATTACH;FMTTYPE=image/jpeg:https://gottabesuperior.com/wp-content/uploads/2026/02/633195066_1502794535184515_4771464279907308503_n.jpg
ORGANIZER;CN="Shannon's Stained Glassery":MAILTO:SHANNONSSTAINEDGLASSERY@GMAIL.COM
END:VEVENT
BEGIN:VEVENT
DTSTART;TZID=America/Chicago:20260321T130000
DTEND;TZID=America/Chicago:20260321T150000
DTSTAMP:20260419T084818
CREATED:20260314T162002Z
LAST-MODIFIED:20260314T162002Z
UID:10018775-1774098000-1774105200@gottabesuperior.com
SUMMARY:Author Ruby Gregorich @ Foxes & Fireflies - Superior
DESCRIPTION:Duluth author Ruby Gregorich will launch her book\, “Barney.” The 11-year-old based the story on a beloved pet. Told through a dog’s eyes\, it follows the journey of a pup as he seeks his forever family.Learn about Ruby’s author journey\, enjoy snacks and get signed copies of her new book.Bring a picture of your own pet for 10% off your book purchase.
URL:https://gottabesuperior.com/event/author-ruby-gregorich-foxes-fireflies-superior/
LOCATION:Fox and Fireflies Booksellers\, 1401 Tower Avenue\, Superior\, WI\, 54880\, United States
CATEGORIES:Art,Book Club/Discussion,Community Gathering,Culture,Event/Game/Sport Participation,Free,Kids & Family,Meet/Greet
ATTACH;FMTTYPE=image/jpeg:https://gottabesuperior.com/wp-content/uploads/2026/03/Ruby-Gregorich.jpg
ORGANIZER;CN="Fox and Fireflies Booksellers":MAILTO:foxesandfirefliesbooksellers@gmail.com
END:VEVENT
BEGIN:VEVENT
DTSTART;TZID=America/Chicago:20260321T130000
DTEND;TZID=America/Chicago:20260321T153000
DTSTAMP:20260419T084818
CREATED:20260220T000232Z
LAST-MODIFIED:20260220T000232Z
UID:10018534-1774098000-1774107000@gottabesuperior.com
SUMMARY:Hippity Hop Paint Class w/ Nana's Paint Nook @ Winter White Winery - Iron River
DESCRIPTION:Get ready to add a splash of color to your spring! Nana’s Paint Nook will be here for a special Hippity Hop Paint Class.Whether you’re looking for a festive porch decoration or a beautiful piece of seasonal art\, we have three adorable projects to choose from.\nGrab a glass of mead or cider and let your creativity bloom!\n Choose Your Project\n*The “Hello” Bunny & Egg Display: A large\, colorful statement piece for your home. ($55)\n*Floral Cross Canvas: A beautiful\, scalloped edge design featuring bright spring flowerss. ($38)\n*Wood Block Bunnies: A whimsical duo with fabric ears and glasses—perfect for a mantle or shelf! ($38)\n Important: Space is limited and projects are prepped in advance\, so you must pre-register to secure your spot!\nCome enjoy a creative afternoon at White Winter. We can’t wait to see what you create!\nfollow link to register    https://whitewinter.com/events/hippity-hop/?fbclid=IwY2xjawQEgqRleHRuA2FlbQIxMABicmlkETI3VFZiVTZ6U1FIanZZR05Jc3J0YwZhcHBfaWQQMjIyMDM5MTc4ODIwMDg5MgABHposr2ljYaDa2DPxaWP7142YHXAJI9aPfZUhkJiBD4CdoNrd3EEK8sUjGKS6_aem_RzvhPdZGvjB4jTllinWAng
URL:https://gottabesuperior.com/event/hippity-hop-paint-class-w-nanas-paint-nook-winter-white-winery-iron-river/
LOCATION:White Winter Winery\, 68323A Lea Street\, Iron River\, WI\, United States
CATEGORIES:Art,Community Education,Community Gathering,Event/Game/Sport Participation,Makers Class,Registration Required
ATTACH;FMTTYPE=image/jpeg:https://gottabesuperior.com/wp-content/uploads/2026/02/white-winter-hippty.jpg
ORGANIZER;CN="Nannas Paint Nook%3A Noreen Knight%2C":MAILTO:paintnook@hotmail.com
END:VEVENT
BEGIN:VEVENT
DTSTART;TZID=America/Chicago:20260321T190000
DTEND;TZID=America/Chicago:20260321T210000
DTSTAMP:20260419T084818
CREATED:20260306T174440Z
LAST-MODIFIED:20260306T174440Z
UID:10018732-1774119600-1774126800@gottabesuperior.com
SUMMARY:DSSO Masterworks 5 – Beethoven & Bizet @ DECC - Duluth
DESCRIPTION:Michael Abels’ More Seasons is a modern interpretation of Vivaldi’s The Four Seasons\, specifically “Spring” and “Summer\,” but with a “maniacal\, Minimalist abuse” of the original themes\, as Abels himself has stated. It’s often described as “Vivaldi in a Mixmaster.” A review of the first performance stated that Beethoven’s Fourth Piano Concerto “is the most admirable\, singular\, artistic and complex Beethoven concerto ever.” Written in 1855 at the age of 17 and never played during his lifetime\, Bizet’s Symphony in C was “discovered” in 1933. It has been in the symphonic repertoire ever since due to its beautiful melodies\, rich orchestration\, and elegant charm. \nfollow link for tickets  https://dsso.com/concert/beethoven-bizet/
URL:https://gottabesuperior.com/event/dsso-masterworks-5-beethoven-bizet-decc-duluth/
LOCATION:DECC\, 350 Harbor Drive\, Duluth\, MN\, 55802\, United States
CATEGORIES:Art,Culture,Event/Game/Sports Spectator,Live Entertainment
ATTACH;FMTTYPE=image/png:https://gottabesuperior.com/wp-content/uploads/2026/03/Beethoven-Bizet.png
ORGANIZER;CN="DECC":MAILTO:customerservice@jurassicquest.com
END:VEVENT
BEGIN:VEVENT
DTSTART;TZID=America/Chicago:20260322T110000
DTEND;TZID=America/Chicago:20260322T160000
DTSTAMP:20260419T084818
CREATED:20260319T210407Z
LAST-MODIFIED:20260319T210407Z
UID:10018856-1774177200-1774195200@gottabesuperior.com
SUMMARY:Spring Equinox Market @ Ritual Salad - Superior
DESCRIPTION:Come and help us celebrate the time of year when the light in the dark are equal. Spring is just around the corner and we can feel the Earth warming again. We will have astrology\, tarot\, herbs & many other vendors as well as food and music! And even Chickens to hug from locally laid.
URL:https://gottabesuperior.com/event/spring-equinox-market-ritual-salad-superior/
LOCATION:Ritual Salad & Marketplace\, 1323 Broadway Street\, Superior\, United States
CATEGORIES:Art,Community Gathering,Culture,Event/Game/Sport Participation,Free,Markets/Sales
ATTACH;FMTTYPE=image/jpeg:https://gottabesuperior.com/wp-content/uploads/2026/03/648326321_122232309236054464_2654897060695404067_n.jpg
ORGANIZER;CN="Ritual Salad & Marketplace":MAILTO:info@ritualsalad.com
END:VEVENT
BEGIN:VEVENT
DTSTART;TZID=America/Chicago:20260323T173000
DTEND;TZID=America/Chicago:20260323T203000
DTSTAMP:20260419T084818
CREATED:20260217T184129Z
LAST-MODIFIED:20260217T184129Z
UID:10018528-1774287000-1774297800@gottabesuperior.com
SUMMARY:Pysanky/Ukrainian Egg Decorating @ Spirit of the Lake Community Arts @ Duluth
DESCRIPTION:Welcome Spring with a centuries-old craft found throughout Eastern Europe.  Ukrainian eggs\, or pysanky\, are created using a wax batik method.  We’ll examine traditional design elements\, what the colors symbolize\, and some of the stories associated with the eggs. During this class\, you will learn to use a kistka (tiny funnel on a stick) to draw with melted wax on egg shells.  Once you’ve drawn the initial design\, you dye the egg in a light color\, add more wax\, and dye again in the next color.  Once all the dyeing is complete\, you melt off the wax to reveal your colorful design. \nfollow link to register  https://www.zeffy.com/en-US/ticketing/ukrainian-style-eggs-2?utm_medium=paid&utm_source=fb&utm_id=120243812248360274&utm_content=120243812250460274&utm_term=120243812249200274&utm_campaign=120243812248360274&fbclid=IwY2xjawQBk4lleHRuA2FlbQEwAGFkaWQBqzEcNEbyknNydGMGYXBwX2lkEDIyMjAzOTE3ODgyMDA4OTIAAR4Q7gePm2EEr_K6401ll3SVCOCci5CQ2USp_H9p_DDb7nDrsVN3NIuRhqa5Wg_aem_NckUVvf9JOYuupRl1wHt5g
URL:https://gottabesuperior.com/event/pysanky-ukrainian-egg-decorating-spirit-of-the-lake-community-arts-duluth/
LOCATION:Spirit of the Lakes Community Arts\, 5401 E Superior St\, Duluth\, MN\, United States
CATEGORIES:Art,Community Education,Community Gathering,Culture,Event/Game/Sport Participation,History/Museum,Makers Class
ATTACH;FMTTYPE=image/jpeg:https://gottabesuperior.com/wp-content/uploads/2026/02/eggs.jpg
ORGANIZER;CN="Spirit of the Lakes Community Arts":MAILTO:welcome@spiritofthelakearts.org
END:VEVENT
BEGIN:VEVENT
DTSTART;TZID=America/Chicago:20260324T193000
DTEND;TZID=America/Chicago:20260324T203000
DTSTAMP:20260419T084818
CREATED:20260225T033250Z
LAST-MODIFIED:20260225T033250Z
UID:10018692-1774380600-1774384200@gottabesuperior.com
SUMMARY:Matinee Musicale's annual College Awards Concert @ Webb Recital Hall - Superior
DESCRIPTION:Performances of 12 highly talented students from UMD\, UWS and St. Scholastica. Matinee Musicale has supported the next generation of classical musicians for over 100 years through this annual event by providing a performance opportunity and awarding each student a scholarship.
URL:https://gottabesuperior.com/event/matinee-musicales-annual-college-awards-concert-webb-recital-hall-superior/
LOCATION:Webb Recital Hall\, 1805 Catlin Ave.\, Superior\, WI\, 54880\, United States
CATEGORIES:Art,Event/Game/Sports Spectator,Live Entertainment
ATTACH;FMTTYPE=image/png:https://gottabesuperior.com/wp-content/uploads/2026/02/UWS-logo.png
END:VEVENT
BEGIN:VEVENT
DTSTART;TZID=America/Chicago:20260325T180000
DTEND;TZID=America/Chicago:20260325T193000
DTSTAMP:20260419T084818
CREATED:20260320T164037Z
LAST-MODIFIED:20260320T164037Z
UID:10018859-1774461600-1774467000@gottabesuperior.com
SUMMARY:Rights of Nature and the St. Louis River Estuary Exhibit Opening Reception w/Harbor City International School @ Great Lakes Aquarium - Duluth
DESCRIPTION:Join us at the Great Lakes Aquarium to celebrate the opening of a collaborative gallery featuring art from Harbor City International students and organisms of the Estuary. This event runs 6:00pm to 7:30pm.
URL:https://gottabesuperior.com/event/rights-of-nature-and-the-st-louis-river-estuary-exhibit-opening-reception-w-harbor-city-international-school-great-lakes-aquarium-duluth/
LOCATION:Great Lakes Aquairum\, 353 Harbor Drive\, Duluth\, MN\, United States
CATEGORIES:Art,Community Education,Community Gathering,Culture,Discussion Group,Event/Game/Sports Spectator,Nature
ATTACH;FMTTYPE=image/jpeg:https://gottabesuperior.com/wp-content/uploads/2026/03/654402430_1750354766152363_2970490562509138360_n-1.jpg
END:VEVENT
BEGIN:VEVENT
DTSTART;TZID=America/Chicago:20260325T193000
DTEND;TZID=America/Chicago:20260325T213000
DTSTAMP:20260419T084818
CREATED:20260306T174921Z
LAST-MODIFIED:20260306T174921Z
UID:10018733-1774467000-1774474200@gottabesuperior.com
SUMMARY:George Thorogood & The Destroyers/The Robert Cray Band @ DECC - Duluth
DESCRIPTION:Follow link for tickets    https://www.ticketmaster.com/event/0600635D96FEA04B
URL:https://gottabesuperior.com/event/george-thorogood-the-destroyers-the-robert-cray-band-decc-duluth/
LOCATION:DECC\, 350 Harbor Drive\, Duluth\, MN\, 55802\, United States
CATEGORIES:Art,Event/Game/Sports Spectator,Live Entertainment
ATTACH;FMTTYPE=image/jpeg:https://gottabesuperior.com/wp-content/uploads/2026/03/George-Thorogood.jpg
ORGANIZER;CN="DECC":MAILTO:customerservice@jurassicquest.com
END:VEVENT
BEGIN:VEVENT
DTSTART;TZID=America/Chicago:20260326T170000
DTEND;TZID=America/Chicago:20260326T190000
DTSTAMP:20260419T084818
CREATED:20260317T150859Z
LAST-MODIFIED:20260317T150859Z
UID:10018803-1774544400-1774551600@gottabesuperior.com
SUMMARY:Twin Ports Festival of History: Cedar Bark Mat Weaving @ 1854 Treaty Authority - Duluth
DESCRIPTION:We welcome the Twin Ports Festival of History.  Grand Portage Anishinaabeg craftspeople share their story of learning cedar bark harvesting and weaving techniques through demonstration.
URL:https://gottabesuperior.com/event/twin-ports-festival-of-history-cedar-bark-mat-weaving-1854-treaty-authority-duluth/
LOCATION:1854 Treaty Authority Office\, 4428 Haines Rd\, Duluth\, MN\, 55811\, United States
CATEGORIES:Art,Community Education,Community Gathering,Culture,Event/Game/Sport Participation,Event/Game/Sports Spectator,Free,Kids & Family
ATTACH;FMTTYPE=image/png:https://gottabesuperior.com/wp-content/uploads/2026/03/Cedar-Bark.png
END:VEVENT
BEGIN:VEVENT
DTSTART;TZID=America/Chicago:20260327T150000
DTEND;TZID=America/Chicago:20260327T160000
DTSTAMP:20260419T084818
CREATED:20260317T173934Z
LAST-MODIFIED:20260317T173934Z
UID:10018822-1774623600-1774627200@gottabesuperior.com
SUMMARY:Twin Ports Festival of History: Stories of Artists and Artwork from the Twin Ports w/Brian & Sue Matuszak @ Two Harbors Public Library - Two Harbors MN
DESCRIPTION:Brian and Sue Matuszak\, professional artists (and novice researchers) will combine humor and history telling the forgotten Northern Minnesota stories of artists and the artwork they created as part of the WPA’s Federal Art Project from 1935-1943.
URL:https://gottabesuperior.com/event/twin-ports-festival-of-history-stories-of-artists-and-artwork-from-the-twin-ports-w-brian-sue-matuszak-two-harbors-public-library-two-harbors-mn/
LOCATION:Two Harbors Depot\, Two Harbors\, MN\, United States
CATEGORIES:Art,Community Education,Community Gathering,Culture,Discussion Group,Event/Game/Sport Participation,Event/Game/Sports Spectator,Free,History/Museum
ATTACH;FMTTYPE=image/jpeg:https://gottabesuperior.com/wp-content/uploads/2026/03/Twin-Ports-Festival-of-History-2026.jpeg
END:VEVENT
BEGIN:VEVENT
DTSTART;TZID=America/Chicago:20260327T170000
DTEND;TZID=America/Chicago:20260327T190000
DTSTAMP:20260419T084818
CREATED:20260317T180920Z
LAST-MODIFIED:20260317T180920Z
UID:10018824-1774630800-1774638000@gottabesuperior.com
SUMMARY:Twin Ports Festival of History: Opening Reception for Exhibit “Line Shape Color” by artist Steve Dahlstrom @ Johnson Heritage Post Art Gallery - Grand Marais MN
DESCRIPTION:Opening reception for exhibit “Line Shape Color” by artist Steve Dahlstrom.  This solo exhibition displays Dahlstrom’s moves toward working closely with three compositional elements: line\, shape\, and color. Light refreshments will be served.
URL:https://gottabesuperior.com/event/twin-ports-festival-of-history-opening-reception-for-exhibit-line-shape-color-by-artist-steve-dahlstrom-johnson-heritage-post-art-gallery-grand-marais-mn/
LOCATION:Johnson Heritage Post Art Gallery\, 115 W. Wisconsin Street\, Grand Marais\, MN\, United States
CATEGORIES:Art,Community Education,Community Gathering,Culture,Event/Game/Sports Spectator,Free
ATTACH;FMTTYPE=image/jpeg:https://gottabesuperior.com/wp-content/uploads/2026/03/Twin-Ports-Festival-of-History-2026.jpeg
END:VEVENT
BEGIN:VEVENT
DTSTART;TZID=America/Chicago:20260327T180000
DTEND;TZID=America/Chicago:20260327T190000
DTSTAMP:20260419T084818
CREATED:20260317T174456Z
LAST-MODIFIED:20260317T174456Z
UID:10018823-1774634400-1774638000@gottabesuperior.com
SUMMARY:Twin Ports Festival of History: The History of the Historic Harbor Theater w/ Matthew Unzeitig @ Historic Harbor Theater - Two Harbors MN
DESCRIPTION:Learn about the history of the iconic theater from Harbor Theater owner Matthew Unzeitig. \nIf you visit 2 other Two Harbors History Fest locations\, receive one free movie pass for any Friday showing or the 6:30 PM Saturday showing. \nFriday films kickoff at 12PM with Singing in the Rain (1952) with following screenings of 3PM Casablanca (1942)\, and 6:30 PM The Majestic (2001)
URL:https://gottabesuperior.com/event/twin-ports-festival-of-history-the-history-of-the-historic-harbor-theater-w-matthew-unzeitig-historic-harbor-theater-two-harbors-mn/
LOCATION:Historic Harbor Theater\, 616 2nd Avenue\, Two Harbors\, MN\, United States
CATEGORIES:Art,Community Education,Community Gathering,Culture,Discussion Group,Event/Game/Sports Spectator,Free,History/Museum,Movies/Film
ATTACH;FMTTYPE=image/jpeg:https://gottabesuperior.com/wp-content/uploads/2026/03/Twin-Ports-Festival-of-History-2026.jpeg
END:VEVENT
BEGIN:VEVENT
DTSTART;TZID=America/Chicago:20260328T130000
DTEND;TZID=America/Chicago:20260328T150000
DTSTAMP:20260419T084818
CREATED:20260314T161548Z
LAST-MODIFIED:20260314T161548Z
UID:10018774-1774702800-1774710000@gottabesuperior.com
SUMMARY:Author Steve Fox @ Foxes & Fireflies - Superior
DESCRIPTION:Wisconsin author Steve Fox will read from his newest anthology\, “These Are My People\,” followed by discussion and snacks.The award-winning author’s short stories have been praised as stunning\, grim and entrancing.They feature “The toughest and kindest and weirdest people you will ever meet\,” according to author Nikki Kallio.Come meet Steve\, hear and awesome story and learn more about his writing process.There will be cookies.
URL:https://gottabesuperior.com/event/author-steve-fox-foxes-fireflies-superior/
LOCATION:Foxes & Fireflies Booksellers\, 1401 Tower Ave\, Superior\, 54880\, United States
CATEGORIES:Art,Book Club/Discussion,Community Gathering,Culture,Event/Game/Sport Participation,Free,Meet/Greet
ATTACH;FMTTYPE=image/jpeg:https://gottabesuperior.com/wp-content/uploads/2026/03/Steve-Fox.jpg
ORGANIZER;CN="Foxes & Fireflies Booksellers":MAILTO:foxesandfirefliesbooksellers@gmail.com
END:VEVENT
BEGIN:VEVENT
DTSTART;TZID=America/Chicago:20260328T130000
DTEND;TZID=America/Chicago:20260328T200000
DTSTAMP:20260419T084818
CREATED:20260314T144821Z
LAST-MODIFIED:20260314T144821Z
UID:10018768-1774702800-1774728000@gottabesuperior.com
SUMMARY:4th Annual UMD ISO POW WOW @ Ward Wells (UMD) Field House - Duluth
DESCRIPTION:Join the Indigenous Student Organization for our 4th Annual Spring Powwow!\nMarch 28th\, doors open at 11am\, Grand Entries at 1 & 7pm
URL:https://gottabesuperior.com/event/4th-annual-umd-iso-pow-wow-ward-wells-umd-field-house-duluth/
LOCATION:Ward Wells Field House\, 1228 University Dr\, Duluth\, MN\, United States
CATEGORIES:Art,Community Education,Community Gathering,Culture,Event/Game/Sport Participation,Event/Game/Sports Spectator,Kids & Family,Live Entertainment,Markets/Sales
ATTACH;FMTTYPE=image/jpeg:https://gottabesuperior.com/wp-content/uploads/2026/03/powwow.jpg
ORGANIZER;CN="UMD ISO":MAILTO:long0742@d.umn.edu
END:VEVENT
BEGIN:VEVENT
DTSTART;TZID=America/Chicago:20260329T100000
DTEND;TZID=America/Chicago:20260329T140000
DTSTAMP:20260419T084818
CREATED:20260317T150125Z
LAST-MODIFIED:20260317T150125Z
UID:10018802-1774778400-1774792800@gottabesuperior.com
SUMMARY:Twin Ports Festival of History: Hands On History @ Duluth Childrens Museum - Duluth
DESCRIPTION:
URL:https://gottabesuperior.com/event/twin-ports-festival-of-history-hands-on-history-duluth-childrens-museum-duluth/
LOCATION:Duluth Childrens Museum\, 2125 W. Superior St\, Duluth\, United States
CATEGORIES:Art,Community Education,Community Gathering,Event/Game/Sport Participation,Free,Kids & Family
ATTACH;FMTTYPE=image/png:https://gottabesuperior.com/wp-content/uploads/2026/03/Hands-On-History.png
ORGANIZER;CN="Duluth Children's Museum":MAILTO:explore@playduluth.org
END:VEVENT
BEGIN:VEVENT
DTSTART;TZID=America/Chicago:20260329T130000
DTEND;TZID=America/Chicago:20260329T160000
DTSTAMP:20260419T084818
CREATED:20260317T152221Z
LAST-MODIFIED:20260317T152221Z
UID:10018805-1774789200-1774800000@gottabesuperior.com
SUMMARY:Trans Day of Visibility @ The Depot - Duluth
DESCRIPTION:Join us at The Depot for a community and family-friendly event featuring music\, vendors\, food and a sensory space! 
URL:https://gottabesuperior.com/event/trans-day-of-visibility-the-depot-duluth/
LOCATION:The Depot\, 506 W Michigan St\, Duluth\, MN\, United States
CATEGORIES:Art,Community Education,Community Gathering,Culture,Event/Game/Sport Participation,Event/Game/Sports Spectator,Food & Drink,Free,Kids & Family,Markets/Sales
ATTACH;FMTTYPE=image/jpeg:https://gottabesuperior.com/wp-content/uploads/2025/03/Trans-Day.jpg
END:VEVENT
BEGIN:VEVENT
DTSTART;TZID=America/Chicago:20260331T190000
DTEND;TZID=America/Chicago:20260331T210000
DTSTAMP:20260419T084818
CREATED:20260306T180217Z
LAST-MODIFIED:20260306T180217Z
UID:10018735-1774983600-1774990800@gottabesuperior.com
SUMMARY:World Ballet Company: Cinderella @ DECC - Duluth
DESCRIPTION:The beloved fairy tale comes to life in a spectacular Broadway-style production that delights all ages\, blending humor\, romance\, and the timeless majesty of classical ballet. \nWorld Ballet Company’s Cinderella features a dazzling cast of 40 international dancers\, over 150 radiant hand-sewn costumes\, exquisite hand-crafted sets\, and enchanting choreography by Marina Kesler. From the mischievous evil stepsisters to the breathtaking ballroom scenes\, every moment is filled with charm\, wonder and everything you’ve loved about this story for years. \nJoin us for an unforgettable journey of magic\, beauty\, and the promise of “happily ever after.” But remember\, when the clock strikes midnight\, everything will change… \nfollow link for tickets  https://www.ticketmaster.com/event/0600631579AB2FEF
URL:https://gottabesuperior.com/event/world-ballet-company-cinderella-decc-duluth/
LOCATION:DECC\, 350 Harbor Drive\, Duluth\, MN\, 55802\, United States
CATEGORIES:Art,Event/Game/Sports Spectator,Live Entertainment
ATTACH;FMTTYPE=image/jpeg:https://gottabesuperior.com/wp-content/uploads/2026/03/Cinderella.jpg
END:VEVENT
END:VCALENDAR