BEGIN:VCALENDAR
VERSION:2.0
PRODID:-//Gotta Be Superior - ECPv6.15.18//NONSGML v1.0//EN
CALSCALE:GREGORIAN
METHOD:PUBLISH
X-ORIGINAL-URL:https://gottabesuperior.com
X-WR-CALDESC:Events for Gotta Be Superior
REFRESH-INTERVAL;VALUE=DURATION:PT1H
X-Robots-Tag:noindex
X-PUBLISHED-TTL:PT1H
BEGIN:VTIMEZONE
TZID:America/Chicago
BEGIN:DAYLIGHT
TZOFFSETFROM:-0600
TZOFFSETTO:-0500
TZNAME:CDT
DTSTART:20250309T080000
END:DAYLIGHT
BEGIN:STANDARD
TZOFFSETFROM:-0500
TZOFFSETTO:-0600
TZNAME:CST
DTSTART:20251102T070000
END:STANDARD
BEGIN:DAYLIGHT
TZOFFSETFROM:-0600
TZOFFSETTO:-0500
TZNAME:CDT
DTSTART:20260308T080000
END:DAYLIGHT
BEGIN:STANDARD
TZOFFSETFROM:-0500
TZOFFSETTO:-0600
TZNAME:CST
DTSTART:20261101T070000
END:STANDARD
BEGIN:DAYLIGHT
TZOFFSETFROM:-0600
TZOFFSETTO:-0500
TZNAME:CDT
DTSTART:20270314T080000
END:DAYLIGHT
BEGIN:STANDARD
TZOFFSETFROM:-0500
TZOFFSETTO:-0600
TZNAME:CST
DTSTART:20271107T070000
END:STANDARD
END:VTIMEZONE
BEGIN:VEVENT
DTSTART;TZID=America/Chicago:20260516T100000
DTEND;TZID=America/Chicago:20260516T150000
DTSTAMP:20260419T102543
CREATED:20260415T014804Z
LAST-MODIFIED:20260415T014804Z
UID:10019098-1778925600-1778943600@gottabesuperior.com
SUMMARY:Create a Stained Glass Terrarium @ Shannon's Stained Glassery - Superior
DESCRIPTION:05-16-26 Stained Glass TerrariumSaturday 10:00am – 3:00pmCreate your own beautiful little world in a beveled terrarium. In class you will learn to assemble bevels into this 3D sparkly miniature garden and will be given tips on how to fill it. Your class fee of $50 includes instruction and chemicals. Stained Glass experience is required and don’t forget to bring your foil and solder!Price: $50.00\nRegistration – Your registration in any class is secured upon receipt of full payment of your class fee. If you need to cancel we need at least 7 days advance notice. With 7 days notice\, you will receive store credit for your tuition. Otherwise\, you will forfeit the tuition. In the event of class cancellation you will receive a full refund or can be applied to your account or another class. Our class minimum is 4 students and maximum enrollment is 8 for most classes.\nfollow link to register  https://checkout.square.site/merchant/RZVWBMX9QD3M3/checkout/GUQ26CGHPLVELDLR2V5WJ2HL?fbclid=IwY2xjawRLzPZleHRuA2FlbQIxMABicmlkETFIWm9SdHlEdkh0QjZXUktWc3J0YwZhcHBfaWQQMjIyMDM5MTc4ODIwMDg5MgABHl_TvkXbRf6IGkFAgopztf5TIawvRLhDcVwbJ7g-KrJk0tp3lHYaraKuOWia_aem_SACb_WaV-9jBn_vYDaCieA
URL:https://gottabesuperior.com/event/create-a-stained-glass-terrarium-shannons-stained-glassery-superior/
LOCATION:Shannon’s Stained Glassery\, 5904 TOWER AVE\, Superior\, 54880\, United States
CATEGORIES:Art,Community Education,Community Gathering,Event/Game/Sport Participation,Makers Class
ATTACH;FMTTYPE=image/jpeg:https://gottabesuperior.com/wp-content/uploads/2026/04/terrarium.jpg
ORGANIZER;CN="Shannon's Stained Glassery":MAILTO:SHANNONSSTAINEDGLASSERY@GMAIL.COM
END:VEVENT
BEGIN:VEVENT
DTSTART;TZID=America/Chicago:20260516T110000
DTEND;TZID=America/Chicago:20260516T230000
DTSTAMP:20260419T102543
CREATED:20260411T012606Z
LAST-MODIFIED:20260411T012606Z
UID:10019020-1778929200-1778972400@gottabesuperior.com
SUMMARY:Ashland Folk Fest @ Bohemian Hall - Ashland
DESCRIPTION:Music Workshop 11am \nOpen Folk Jam 12pm \nBar Stage 1pm-9:30pm \nMain Stage 2pm-11pm \nFood Trucks: \nHavana Cubans and Fat Radish \n  \n11 Great Artists will perform. \n 
URL:https://gottabesuperior.com/event/ashland-folk-fest-bohemian-hall-ashland/
LOCATION:Bohemian Hall\, 319 11th Ave E\, Ashland\, United States
CATEGORIES:Art,Community Gathering,Event/Game/Sport Participation,Event/Game/Sports Spectator,Kids & Family,Live Entertainment
ATTACH;FMTTYPE=image/jpeg:https://gottabesuperior.com/wp-content/uploads/2026/04/Ashland-Folk-Fest.jpg
END:VEVENT
BEGIN:VEVENT
DTSTART;TZID=America/Chicago:20260516T190000
DTEND;TZID=America/Chicago:20260516T210000
DTSTAMP:20260419T102543
CREATED:20260306T190319Z
LAST-MODIFIED:20260306T190319Z
UID:10018748-1778958000-1778965200@gottabesuperior.com
SUMMARY:DSSO Masterworks 6 – Rhine Journey @ DECC - Duluth
DESCRIPTION:Written in 1933 for the 80th anniversary of the Budapest Philharmonic and based on Hungarian traditional music\, Dances Of Galánta is by far the most popular of Kodály’s purely orchestral works. We finish the season honoring Erin Aldridge with her performance of the Bruch G Minor Violin Concert—one of the most popular pieces in all of violin repertoire. Rhenish\, the last symphony written by Schumann\, pays homage to the great Cologne Cathedral and to the Rhineland in all its glory. \nfollow link for tickets  https://decc.org/event/masterworks-6-rhine-journey/
URL:https://gottabesuperior.com/event/dsso-masterworks-6-rhine-journey-decc-duluth/
LOCATION:DECC\, 350 Harbor Drive\, Duluth\, MN\, 55802\, United States
CATEGORIES:Art,Event/Game/Sports Spectator,Live Entertainment
ATTACH;FMTTYPE=image/png:https://gottabesuperior.com/wp-content/uploads/2026/03/Rhine-Journey.png
END:VEVENT
END:VCALENDAR