BEGIN:VCALENDAR
VERSION:2.0
PRODID:-//Gotta Be Superior - ECPv6.15.18//NONSGML v1.0//EN
CALSCALE:GREGORIAN
METHOD:PUBLISH
X-ORIGINAL-URL:https://gottabesuperior.com
X-WR-CALDESC:Events for Gotta Be Superior
REFRESH-INTERVAL;VALUE=DURATION:PT1H
X-Robots-Tag:noindex
X-PUBLISHED-TTL:PT1H
BEGIN:VTIMEZONE
TZID:America/Chicago
BEGIN:DAYLIGHT
TZOFFSETFROM:-0600
TZOFFSETTO:-0500
TZNAME:CDT
DTSTART:20250309T080000
END:DAYLIGHT
BEGIN:STANDARD
TZOFFSETFROM:-0500
TZOFFSETTO:-0600
TZNAME:CST
DTSTART:20251102T070000
END:STANDARD
BEGIN:DAYLIGHT
TZOFFSETFROM:-0600
TZOFFSETTO:-0500
TZNAME:CDT
DTSTART:20260308T080000
END:DAYLIGHT
BEGIN:STANDARD
TZOFFSETFROM:-0500
TZOFFSETTO:-0600
TZNAME:CST
DTSTART:20261101T070000
END:STANDARD
BEGIN:DAYLIGHT
TZOFFSETFROM:-0600
TZOFFSETTO:-0500
TZNAME:CDT
DTSTART:20270314T080000
END:DAYLIGHT
BEGIN:STANDARD
TZOFFSETFROM:-0500
TZOFFSETTO:-0600
TZNAME:CST
DTSTART:20271107T070000
END:STANDARD
END:VTIMEZONE
BEGIN:VEVENT
DTSTART;TZID=America/Chicago:20260603T173000
DTEND;TZID=America/Chicago:20260603T200000
DTSTAMP:20260419T101822
CREATED:20260415T020218Z
LAST-MODIFIED:20260415T020218Z
UID:10019100-1780507800-1780516800@gottabesuperior.com
SUMMARY:Create a Mosaic Pillar @ Shannon's Stained Glassery - Superior
DESCRIPTION:06-03-26 Mosaic PillarWednesdays 5:30 – 8:00 (6 weeks 6/3\, 6/17\, 6/24\, 7/8\, 7/15 and 7/22)Create a one of a kind address pillar for your yard. You will learn how to create a few fusing elements to make your design pop\, gluing and grouting your glass and assembling the final piece together. Your class fee of $150 includes instruction and kiln firing. Stained Glass experience is required and materials are extra. You won’t want to miss this once a year class!!Price: $150.00Registration – Your registration in any class is secured upon receipt of full payment of your class fee. If you need to cancel we need at least 7 days advance notice. With 7 days notice\, you will receive store credit for your tuition. Otherwise\, you will forfeit the tuition. In the event of class cancellation you will receive a full refund or can be applied to your account or another class. Our class minimum is 4 students and maximum enrollment is 8 for most classes. \nfollow link to register  https://checkout.square.site/merchant/RZVWBMX9QD3M3/checkout/7RUVKHQTFGF7FNB574ULEGJX?fbclid=IwY2xjawRLz6lleHRuA2FlbQIxMABicmlkETFIWm9SdHlEdkh0QjZXUktWc3J0YwZhcHBfaWQQMjIyMDM5MTc4ODIwMDg5MgABHs0T8vWXpag8WnfFEUylXYynDcEHpU6ZWejv24SrpfVMDYiukQXmcHixlEfb_aem_0yPXHVQbB-YPAvBL5-pnRw
URL:https://gottabesuperior.com/event/create-a-mosaic-pillar-shannons-stained-glassery-superior/
LOCATION:Shannon’s Stained Glassery\, 5904 TOWER AVE\, Superior\, 54880\, United States
CATEGORIES:Art,Community Education,Community Gathering,DIY Clinic,Event/Game/Sport Participation,Makers Class
ATTACH;FMTTYPE=image/jpeg:https://gottabesuperior.com/wp-content/uploads/2026/04/mosaic-pillar.jpg
ORGANIZER;CN="Shannon's Stained Glassery":MAILTO:SHANNONSSTAINEDGLASSERY@GMAIL.COM
END:VEVENT
END:VCALENDAR