BEGIN:VCALENDAR
VERSION:2.0
PRODID:-//Gotta Be Superior - ECPv6.15.18//NONSGML v1.0//EN
CALSCALE:GREGORIAN
METHOD:PUBLISH
X-WR-CALNAME:Gotta Be Superior
X-ORIGINAL-URL:https://gottabesuperior.com
X-WR-CALDESC:Events for Gotta Be Superior
REFRESH-INTERVAL;VALUE=DURATION:PT1H
X-Robots-Tag:noindex
X-PUBLISHED-TTL:PT1H
BEGIN:VTIMEZONE
TZID:America/Chicago
BEGIN:DAYLIGHT
TZOFFSETFROM:-0600
TZOFFSETTO:-0500
TZNAME:CDT
DTSTART:20250309T080000
END:DAYLIGHT
BEGIN:STANDARD
TZOFFSETFROM:-0500
TZOFFSETTO:-0600
TZNAME:CST
DTSTART:20251102T070000
END:STANDARD
BEGIN:DAYLIGHT
TZOFFSETFROM:-0600
TZOFFSETTO:-0500
TZNAME:CDT
DTSTART:20260308T080000
END:DAYLIGHT
BEGIN:STANDARD
TZOFFSETFROM:-0500
TZOFFSETTO:-0600
TZNAME:CST
DTSTART:20261101T070000
END:STANDARD
BEGIN:DAYLIGHT
TZOFFSETFROM:-0600
TZOFFSETTO:-0500
TZNAME:CDT
DTSTART:20270314T080000
END:DAYLIGHT
BEGIN:STANDARD
TZOFFSETFROM:-0500
TZOFFSETTO:-0600
TZNAME:CST
DTSTART:20271107T070000
END:STANDARD
END:VTIMEZONE
BEGIN:VEVENT
DTSTART;TZID=America/Chicago:20260325T190000
DTEND;TZID=America/Chicago:20260325T200000
DTSTAMP:20260423T032808
CREATED:20260317T145158Z
LAST-MODIFIED:20260317T145158Z
UID:10018801-1774465200-1774468800@gottabesuperior.com
SUMMARY:Twin Ports Festival of History: Robber Barons w/Tony Dierckins @ Glensheen Mansion - Duluth
DESCRIPTION:Join us at Glensheen on Wednesday\, March 25th\, for a talk with Tony Dierckins on Robber Barons of the Iron Range as part of the Twin Ports Festival. Local historian and author Tony Dierckins will dive into the power struggles and personalities that shaped the Iron Range and the Twin Ports during the region’s industrial boom. Through stories of ambition\, conflict\, and massive fortunes\, the talk explores the forces and figures that transformed northern Minnesota and ultimately led to the wealth behind Glensheen. \nFree Admission \n*No need to register ahead of time
URL:https://gottabesuperior.com/event/twin-ports-festival-of-history-robber-barons-w-tony-dierckins-glensheen-mansion-duluth/
LOCATION:Glensheen Mansion\, 3300 London Rd\, Duluth\, MN\, United States
CATEGORIES:Book Club/Discussion,Community Education,Community Gathering,Culture,Discussion Group,Event/Game/Sport Participation,Event/Game/Sports Spectator,Free,History/Museum
ATTACH;FMTTYPE=image/jpeg:https://gottabesuperior.com/wp-content/uploads/2026/03/Robber-Barons.jpg
ORGANIZER;CN="Glensheen Mansion":MAILTO:info@glensheen.org
END:VEVENT
BEGIN:VEVENT
DTSTART;TZID=America/Chicago:20260328T130000
DTEND;TZID=America/Chicago:20260328T150000
DTSTAMP:20260423T032808
CREATED:20260314T161548Z
LAST-MODIFIED:20260314T161548Z
UID:10018774-1774702800-1774710000@gottabesuperior.com
SUMMARY:Author Steve Fox @ Foxes & Fireflies - Superior
DESCRIPTION:Wisconsin author Steve Fox will read from his newest anthology\, “These Are My People\,” followed by discussion and snacks.The award-winning author’s short stories have been praised as stunning\, grim and entrancing.They feature “The toughest and kindest and weirdest people you will ever meet\,” according to author Nikki Kallio.Come meet Steve\, hear and awesome story and learn more about his writing process.There will be cookies.
URL:https://gottabesuperior.com/event/author-steve-fox-foxes-fireflies-superior/
LOCATION:Foxes & Fireflies Booksellers\, 1401 Tower Ave\, Superior\, 54880\, United States
CATEGORIES:Art,Book Club/Discussion,Community Gathering,Culture,Event/Game/Sport Participation,Free,Meet/Greet
ATTACH;FMTTYPE=image/jpeg:https://gottabesuperior.com/wp-content/uploads/2026/03/Steve-Fox.jpg
ORGANIZER;CN="Foxes & Fireflies Booksellers":MAILTO:foxesandfirefliesbooksellers@gmail.com
END:VEVENT
END:VCALENDAR