BEGIN:VCALENDAR
VERSION:2.0
PRODID:-//Gotta Be Superior - ECPv6.15.18//NONSGML v1.0//EN
CALSCALE:GREGORIAN
METHOD:PUBLISH
X-ORIGINAL-URL:https://gottabesuperior.com
X-WR-CALDESC:Events for Gotta Be Superior
REFRESH-INTERVAL;VALUE=DURATION:PT1H
X-Robots-Tag:noindex
X-PUBLISHED-TTL:PT1H
BEGIN:VTIMEZONE
TZID:America/Chicago
BEGIN:DAYLIGHT
TZOFFSETFROM:-0600
TZOFFSETTO:-0500
TZNAME:CDT
DTSTART:20250309T080000
END:DAYLIGHT
BEGIN:STANDARD
TZOFFSETFROM:-0500
TZOFFSETTO:-0600
TZNAME:CST
DTSTART:20251102T070000
END:STANDARD
BEGIN:DAYLIGHT
TZOFFSETFROM:-0600
TZOFFSETTO:-0500
TZNAME:CDT
DTSTART:20260308T080000
END:DAYLIGHT
BEGIN:STANDARD
TZOFFSETFROM:-0500
TZOFFSETTO:-0600
TZNAME:CST
DTSTART:20261101T070000
END:STANDARD
BEGIN:DAYLIGHT
TZOFFSETFROM:-0600
TZOFFSETTO:-0500
TZNAME:CDT
DTSTART:20270314T080000
END:DAYLIGHT
BEGIN:STANDARD
TZOFFSETFROM:-0500
TZOFFSETTO:-0600
TZNAME:CST
DTSTART:20271107T070000
END:STANDARD
END:VTIMEZONE
BEGIN:VEVENT
DTSTART;TZID=America/Chicago:20260425T110000
DTEND;TZID=America/Chicago:20260425T130000
DTSTAMP:20260420T220759
CREATED:20260415T012257Z
LAST-MODIFIED:20260415T012257Z
UID:10019095-1777114800-1777122000@gottabesuperior.com
SUMMARY:Author Denis James Book Launch @ Foxes & Fireflies Bookseller - Superior
DESCRIPTION:Denis James will be launching the third book in The Arcane Rebellion\, “Aurora\,” on Independent Bookstore Day.\nStop by for treats\, discussion and a chance to get your book signed by our local author.\nKeep the pages turning.
URL:https://gottabesuperior.com/event/author-denis-james-book-launch-foxes-fireflies-bookseller-superior/
LOCATION:Foxes & Fireflies Booksellers\, 1401 Tower Ave\, Superior\, 54880\, United States
CATEGORIES:Book Club/Discussion,Community Gathering,Culture,Event/Game/Sport Participation,Free,Meet/Greet
ATTACH;FMTTYPE=image/jpeg:https://gottabesuperior.com/wp-content/uploads/2026/04/Aurora.jpg
ORGANIZER;CN="Foxes & Fireflies Booksellers":MAILTO:foxesandfirefliesbooksellers@gmail.com
END:VEVENT
BEGIN:VEVENT
DTSTART;TZID=America/Chicago:20260429T180000
DTEND;TZID=America/Chicago:20260429T190000
DTSTAMP:20260420T220759
CREATED:20260418T165332Z
LAST-MODIFIED:20260418T165332Z
UID:10019121-1777485600-1777489200@gottabesuperior.com
SUMMARY:Read Between the Wines Silent Book Club @ Wine Seller Winery - Superior
DESCRIPTION:Our next Read Between the Wines Silent Book Club at Wine Seller Winery will be held April 29 at 6 p.m. Come on down to Wine Seller Winery (1409 Belknap Street) to read and talk about books with other eager readers. Wine and non-alcoholic beverage options available for purchase. No registration required.
URL:https://gottabesuperior.com/event/read-between-the-wines-silent-book-club-wine-seller-winery-superior/
LOCATION:Wine Sellers Winery\, 1409 Belknap Street\, Superior\, WI\, United States
CATEGORIES:Book Club/Discussion,Community Gathering,Culture,Event/Game/Sport Participation
ATTACH;FMTTYPE=image/jpeg:https://gottabesuperior.com/wp-content/uploads/2026/04/Read-Between-the-Wines.jpg
END:VEVENT
BEGIN:VEVENT
DTSTART;TZID=America/Chicago:20260430T180000
DTEND;TZID=America/Chicago:20260430T190000
DTSTAMP:20260420T220759
CREATED:20260328T013055Z
LAST-MODIFIED:20260328T013055Z
UID:10018875-1777572000-1777575600@gottabesuperior.com
SUMMARY:Page Turners Book Club: "Good Dirt" by Charmaine Wilkerson @ Superior Public Library - Superior
DESCRIPTION:Join our Page Turners Book Club and enjoy lively discussion with other eager readers! Our book selection for April is Good Dirt by Charmaine Wilkerson\, a moving novel about the daughter of an affluent Black family who pieces together the connection between a childhood tragedy and a beloved heirloom.\nBook club will meet April 2 at 10:30 a.m. and April 30 at 6 p.m. Please pick the time that works best for your schedule. Request a copy of the book using our online catalog or by calling the library.\nIf you’d like to participate virtually from home\, please email mehlel@superiorlibrary.org for more information.
URL:https://gottabesuperior.com/event/page-turners-book-club-good-dirt-by-charmaine-wilkerson-superior-public-library-superior/2026-04-30/
LOCATION:Superior Public Library\, 1530 Tower Ave\, Superior\, WI\, 54880\, United States
CATEGORIES:Book Club/Discussion,Community Gathering,Discussion Group,Free
ATTACH;FMTTYPE=image/jpeg:https://gottabesuperior.com/wp-content/uploads/2026/03/Good-Dirt.jpg
END:VEVENT
END:VCALENDAR