BEGIN:VCALENDAR
VERSION:2.0
PRODID:-//Gotta Be Superior - ECPv6.15.18//NONSGML v1.0//EN
CALSCALE:GREGORIAN
METHOD:PUBLISH
X-ORIGINAL-URL:https://gottabesuperior.com
X-WR-CALDESC:Events for Gotta Be Superior
REFRESH-INTERVAL;VALUE=DURATION:PT1H
X-Robots-Tag:noindex
X-PUBLISHED-TTL:PT1H
BEGIN:VTIMEZONE
TZID:America/Chicago
BEGIN:DAYLIGHT
TZOFFSETFROM:-0600
TZOFFSETTO:-0500
TZNAME:CDT
DTSTART:20250309T080000
END:DAYLIGHT
BEGIN:STANDARD
TZOFFSETFROM:-0500
TZOFFSETTO:-0600
TZNAME:CST
DTSTART:20251102T070000
END:STANDARD
BEGIN:DAYLIGHT
TZOFFSETFROM:-0600
TZOFFSETTO:-0500
TZNAME:CDT
DTSTART:20260308T080000
END:DAYLIGHT
BEGIN:STANDARD
TZOFFSETFROM:-0500
TZOFFSETTO:-0600
TZNAME:CST
DTSTART:20261101T070000
END:STANDARD
BEGIN:DAYLIGHT
TZOFFSETFROM:-0600
TZOFFSETTO:-0500
TZNAME:CDT
DTSTART:20270314T080000
END:DAYLIGHT
BEGIN:STANDARD
TZOFFSETFROM:-0500
TZOFFSETTO:-0600
TZNAME:CST
DTSTART:20271107T070000
END:STANDARD
END:VTIMEZONE
BEGIN:VEVENT
DTSTART;TZID=America/Chicago:20260506T173000
DTEND;TZID=America/Chicago:20260506T200000
DTSTAMP:20260424T201214
CREATED:20260419T154716Z
LAST-MODIFIED:20260419T154716Z
UID:10019148-1778088600-1778097600@gottabesuperior.com
SUMMARY:Gondik Law Speedway: Practice Night
DESCRIPTION:
URL:https://gottabesuperior.com/event/gondik-law-speedway-practice-night/
LOCATION:Gondik Law Speedway\, 4700 Tower Ave\, Superior\, WI\, 54880\, United States
CATEGORIES:Car Show/Racing,Community Gathering,Culture,Event/Game/Sports Spectator,Live Entertainment
ATTACH;FMTTYPE=image/jpeg:https://gottabesuperior.com/wp-content/uploads/2024/05/gondik-law-speedway.jpg
ORGANIZER;CN="Gondik Law Speedway":MAILTO:joe@gondiklawspeedway.com
END:VEVENT
BEGIN:VEVENT
DTSTART;TZID=America/Chicago:20260508T160000
DTEND;TZID=America/Chicago:20260508T220000
DTSTAMP:20260424T201214
CREATED:20260419T155359Z
LAST-MODIFIED:20260419T155359Z
UID:10019149-1778256000-1778277600@gottabesuperior.com
SUMMARY:Gondik Law Speedway: 65th Annual Season Opener - Superior
DESCRIPTION:WISSOTA Late Model\nWISSOTA Modifieds\nWISSOTA Super Stock\nWISSOTA Midwest Mods\nWISSOTA Pure Stock\nWISSOTA Hornet\n\n\nPits Open4:00 PM\nGates Open5:00 PM\nHot Laps At6:30 PM\nRacing Starts 7:00pm
URL:https://gottabesuperior.com/event/gondik-law-speedway-65th-annual-season-opener-superior/
LOCATION:Gondik Law Speedway\, 4700 Tower Ave\, Superior\, WI\, 54880\, United States
CATEGORIES:Car Show/Racing,Community Gathering,Culture,Event/Game/Sports Spectator,Live Entertainment
ATTACH;FMTTYPE=image/jpeg:https://gottabesuperior.com/wp-content/uploads/2024/05/gondik-law-speedway.jpg
ORGANIZER;CN="Gondik Law Speedway":MAILTO:joe@gondiklawspeedway.com
END:VEVENT
BEGIN:VEVENT
DTSTART;TZID=America/Chicago:20260515T170000
DTEND;TZID=America/Chicago:20260515T220000
DTSTAMP:20260424T201214
CREATED:20260419T155910Z
LAST-MODIFIED:20260419T160548Z
UID:10019150-1778864400-1778882400@gottabesuperior.com
SUMMARY:Gondik Law Speedway: Friday Night at the Races - Superior
DESCRIPTION:WISSOTA Late Model\nWISSOTA Modifieds\nWISSOTA Super Stock\nWISSOTA Midwest Mods\nWISSOTA Pure Stock\nWISSOTA Hornet\n\n\nPits Open4:00 PM\nGates Open5:00 PM\nHot Laps At6:30 PM\nRacing Starts7:00 PM
URL:https://gottabesuperior.com/event/gondik-law-speedway-friday-night-at-the-races-superior/2026-05-15/
LOCATION:Gondik Law Speedway\, 4700 Tower Ave\, Superior\, WI\, 54880\, United States
CATEGORIES:Car Show/Racing,Community Gathering,Event/Game/Sports Spectator,Live Entertainment
ATTACH;FMTTYPE=image/jpeg:https://gottabesuperior.com/wp-content/uploads/2024/05/gondik-law-speedway.jpg
ORGANIZER;CN="Gondik Law Speedway":MAILTO:joe@gondiklawspeedway.com
END:VEVENT
BEGIN:VEVENT
DTSTART;TZID=America/Chicago:20260604T160000
DTEND;TZID=America/Chicago:20260604T220000
DTSTAMP:20260424T201214
CREATED:20260419T160419Z
LAST-MODIFIED:20260419T160419Z
UID:10019153-1780588800-1780610400@gottabesuperior.com
SUMMARY:Gondik Law Speedway: Interstate Batteries High Limit Racing - Superior
DESCRIPTION:Experience the raw speed and intensity of the High Limit Sprint Car Series as the nation’s top 410 sprint car drivers take on the dirt. Expect wide-open racing\, jaw-dropping horsepower\, and edge-of-your-seat moments from green flag to checkered. With elite talent\, massive speed\, and nonstop action\, this is sprint car racing at its absolute best\, a must-see night for race fans of all ages. \n410 Winged Sprint Cars High Limit Racing \n\nPits Open2:00 PM\nGates Open4:00 PM\nHot Laps At6:15 PM\nRacing Starts7:30 PM\n\n 
URL:https://gottabesuperior.com/event/gondik-law-speedway-interstate-batteries-high-limit-racing-superior/
LOCATION:Glondik Law Speedway\, 4700 Tower Ave\, Superior\, WI\, 54880\, United States
CATEGORIES:Car Show/Racing,Community Gathering,Culture,Event/Game/Sports Spectator,Live Entertainment
ATTACH;FMTTYPE=image/jpeg:https://gottabesuperior.com/wp-content/uploads/2024/05/gondik-law-speedway.jpg
ORGANIZER;CN="Glondik Law Speedway":MAILTO:joe@gondiklawspeedway.com
END:VEVENT
BEGIN:VEVENT
DTSTART;TZID=America/Chicago:20260619T170000
DTEND;TZID=America/Chicago:20260619T220000
DTSTAMP:20260424T201214
CREATED:20260419T161102Z
LAST-MODIFIED:20260419T161102Z
UID:10019155-1781888400-1781906400@gottabesuperior.com
SUMMARY:Gondik Law Speedway: Meet the Drivers Night- Superior
DESCRIPTION:  \n\nWISSOTA Late Model\nWISSOTA Modifieds\nWISSOTA Super Stock\nWISSOTA Midwest Mods\nWISSOTA Pure Stock\nWISSOTA Hornet\n\n\nPits Open4:00 PM\nGates Open5:00 PM\nHot Laps At6:30 PM\nRacing Starts7:00 PM
URL:https://gottabesuperior.com/event/gondik-law-speedway-meet-the-drivers-night-superior/
LOCATION:Gondik Law Speedway\, 4700 Tower Ave\, Superior\, WI\, 54880\, United States
CATEGORIES:Car Show/Racing,Community Gathering,Culture,Event/Game/Sports Spectator,Live Entertainment
ATTACH;FMTTYPE=image/jpeg:https://gottabesuperior.com/wp-content/uploads/2024/05/gondik-law-speedway.jpg
ORGANIZER;CN="Gondik Law Speedway":MAILTO:joe@gondiklawspeedway.com
END:VEVENT
BEGIN:VEVENT
DTSTART;TZID=America/Chicago:20260626T170000
DTEND;TZID=America/Chicago:20260626T220000
DTSTAMP:20260424T201214
CREATED:20260419T161647Z
LAST-MODIFIED:20260419T161647Z
UID:10019156-1782493200-1782511200@gottabesuperior.com
SUMMARY:Gondik Law Speedway: Hall of Fame Night w/Northern Vintage Stock Cars- Superior
DESCRIPTION:Event Times\n\n\nPits Open4:00 PM\nGates Open5:00 PM\nHot Laps At6:30 PM\nRacing Starts7:00 PM\n\n\n\n\n\n\n\n\nClasses\n\n\nWISSOTA Late Model\nWISSOTA Modifieds\nWISSOTA Super Stock\nWISSOTA Midwest Mods\nWISSOTA Pure Stock\nWISSOTA Hornet\nNVSC Full Body Cars\nNVSC Modifieds\n\nNorthern Vintage Stockcar Racer
URL:https://gottabesuperior.com/event/gondik-law-speedway-hall-of-fame-night-w-northern-vintage-stock-cars-superior/
LOCATION:Gondik Law Speedway\, 4700 Tower Ave\, Superior\, WI\, 54880\, United States
CATEGORIES:Car Show/Racing,Community Gathering,Culture,Event/Game/Sports Spectator,Live Entertainment
ATTACH;FMTTYPE=image/jpeg:https://gottabesuperior.com/wp-content/uploads/2024/05/gondik-law-speedway.jpg
ORGANIZER;CN="Gondik Law Speedway":MAILTO:joe@gondiklawspeedway.com
END:VEVENT
BEGIN:VEVENT
DTSTART;TZID=America/Chicago:20260703T170000
DTEND;TZID=America/Chicago:20260703T220000
DTSTAMP:20260424T201214
CREATED:20260419T162115Z
LAST-MODIFIED:20260419T162115Z
UID:10019157-1783098000-1783116000@gottabesuperior.com
SUMMARY:Gondik Law Speedway: 10th Annual Great Lakes Border Battle/Structural Buildings Late Model Challenge Series- Superior
DESCRIPTION:Heat/Feature Line Up Format: Draw and Qualifying/Passing Points (2.25)-Late Models. Draw/Passing Points (1.76)-Modifieds\, Super Stocks\, Midwest Modifieds and Pure Stocks. \n\n\n\nEvent Times\n\n\nPits Open4:00 PM\nGates Open5:00 PM\nRacing Starts7:00 PM\n\n\n\n\n\n\n\n\nClasses\n\n\nWISSOTA Late Model\n\nWissota Late Model Challenge Series\n\n\nWISSOTA Modifieds\nWISSOTA Super Stock\nWISSOTA Midwest Mods\nWISSOTA Pure Stock
URL:https://gottabesuperior.com/event/gondik-law-speedway-10th-annual-great-lakes-border-battle-structural-buildings-late-model-challenge-series-superior/2026-07-03/
LOCATION:Gondik Law Speedway\, 4700 Tower Ave\, Superior\, WI\, 54880\, United States
CATEGORIES:Car Show/Racing,Community Gathering,Culture,Event/Game/Sports Spectator,Live Entertainment
ATTACH;FMTTYPE=image/jpeg:https://gottabesuperior.com/wp-content/uploads/2024/05/gondik-law-speedway.jpg
ORGANIZER;CN="Gondik Law Speedway":MAILTO:joe@gondiklawspeedway.com
END:VEVENT
BEGIN:VEVENT
DTSTART;TZID=America/Chicago:20260721T170000
DTEND;TZID=America/Chicago:20260721T220000
DTSTAMP:20260424T201214
CREATED:20260419T163115Z
LAST-MODIFIED:20260419T163115Z
UID:10019160-1784653200-1784671200@gottabesuperior.com
SUMMARY:Gondik Law Speedway: Fair Week Nights #1 & #2 - Superior
DESCRIPTION:Fair Week-Night #1\nPit Entry will be on by the Airport Building Entrance in back.\nHeat/Feature Line Up Format: Draw/Redraw\nEvent Times\nPits Open4:00 PM\nGates Open5:00 PM\nHot Laps At6:30 PM\nRacing Starts7:00 PM\nClasses\nWISSOTA Modifieds\nWISSOTA Super Stock\nWISSOTA Pure Stock\nWISSOTA Hornet\nWISSOTA Street Stock
URL:https://gottabesuperior.com/event/gondik-law-speedway-fair-week-nights-1-2-superior/2026-07-21/
LOCATION:Gondik Law Speedway\, 4700 Tower Ave\, Superior\, WI\, 54880\, United States
CATEGORIES:Car Show/Racing,Community Gathering,Culture,Event/Game/Sports Spectator,Live Entertainment
ATTACH;FMTTYPE=image/jpeg:https://gottabesuperior.com/wp-content/uploads/2024/05/gondik-law-speedway.jpg
ORGANIZER;CN="Gondik Law Speedway":MAILTO:joe@gondiklawspeedway.com
END:VEVENT
BEGIN:VEVENT
DTSTART;TZID=America/Chicago:20260725T090000
DTEND;TZID=America/Chicago:20260725T150000
DTSTAMP:20260424T201214
CREATED:20260423T154257Z
LAST-MODIFIED:20260423T154257Z
UID:10019177-1784970000-1784991600@gottabesuperior.com
SUMMARY:North Coast Car Show @ Harbor Table - Washburn WI
DESCRIPTION:
URL:https://gottabesuperior.com/event/north-coast-car-show-harbor-table-washburn-wi/
LOCATION:Harbor Table\, 128 Harbor View Dr\, Washburn\, United States
CATEGORIES:Car Show/Racing,Community Gathering,Culture,Event/Game/Sport Participation,Event/Game/Sports Spectator
ATTACH;FMTTYPE=image/jpeg:https://gottabesuperior.com/wp-content/uploads/2026/04/Washburn-Car-Show.jpg
ORGANIZER;CN="Washburn Area Chamber":MAILTO:info@washburnchamber.com
END:VEVENT
BEGIN:VEVENT
DTSTART;TZID=America/Chicago:20260807T170000
DTEND;TZID=America/Chicago:20260807T220000
DTSTAMP:20260424T201214
CREATED:20260419T163648Z
LAST-MODIFIED:20260419T163648Z
UID:10019162-1786122000-1786140000@gottabesuperior.com
SUMMARY:Gondik Law Speedway: Diamond Sprint Car Series - Superior
DESCRIPTION:Event Times\n\n\nPits Open4:00 PM\nGates Open5:00 PM\nHot Laps At6:30 PM\nRacing Starts7:00 PM\n\n\n\n\n\n\n\n\nClasses\n\n\nDiamond Series Winged Sprint Cars\nRenegade Traditional Sprint Cars
URL:https://gottabesuperior.com/event/gondik-law-speedway-diamond-sprint-car-series-superior/
LOCATION:Gondik Law Speedway\, 4700 Tower Ave\, Superior\, WI\, 54880\, United States
CATEGORIES:Car Show/Racing,Community Gathering,Culture,Event/Game/Sports Spectator,Live Entertainment
ATTACH;FMTTYPE=image/jpeg:https://gottabesuperior.com/wp-content/uploads/2024/05/gondik-law-speedway.jpg
ORGANIZER;CN="Gondik Law Speedway":MAILTO:joe@gondiklawspeedway.com
END:VEVENT
BEGIN:VEVENT
DTSTART;TZID=America/Chicago:20260814T170000
DTEND;TZID=America/Chicago:20260814T220000
DTSTAMP:20260424T201214
CREATED:20260419T164037Z
LAST-MODIFIED:20260419T164037Z
UID:10019163-1786726800-1786744800@gottabesuperior.com
SUMMARY:Gondik Law Speedway: Fast Lane Motorsports Northland Super Stock Series - Superior
DESCRIPTION:Event Times\n\n\nPits Open4:00 PM\nGates Open5:00 PM\nHot Laps At6:30 PM\nRacing Starts7:00 PM\n\n\n\n\n\n\n\n\nClasses\n\n\nWISSOTA Super Stock\nWISSOTA Midwest Mods\nWISSOTA Pure Stock\nWISSOTA Hornet\nNVSC Modifieds
URL:https://gottabesuperior.com/event/gondik-law-speedway-fast-lane-motorsports-northland-super-stock-series-superior/
LOCATION:Gondik Law Speedway\, 4700 Tower Ave\, Superior\, WI\, 54880\, United States
CATEGORIES:Car Show/Racing,Community Gathering,Culture,Event/Game/Sports Spectator,Live Entertainment
ATTACH;FMTTYPE=image/jpeg:https://gottabesuperior.com/wp-content/uploads/2024/05/gondik-law-speedway.jpg
ORGANIZER;CN="Gondik Law Speedway":MAILTO:joe@gondiklawspeedway.com
END:VEVENT
BEGIN:VEVENT
DTSTART;TZID=America/Chicago:20260821T170000
DTEND;TZID=America/Chicago:20260821T200000
DTSTAMP:20260424T201214
CREATED:20260419T164335Z
LAST-MODIFIED:20260419T164335Z
UID:10019164-1787331600-1787342400@gottabesuperior.com
SUMMARY:Gondik Law Speedway: 8th Annual Suicide Awareness Night at the Races - Superior
DESCRIPTION:Event Times\n\n\nPits Open4:00 PM\nGates Open5:00 PM\nHot Laps At6:30 PM\nRacing Starts7:00 PM\n\n\n\n\n\n\n\n\nClasses\n\n\nWISSOTA Late Model\nWISSOTA Modifieds\nWISSOTA Super Stock\nWISSOTA Midwest Mods\nWISSOTA Pure Stock\nWISSOTA Hornet
URL:https://gottabesuperior.com/event/gondik-law-speedway-8th-annual-suicide-awareness-night-at-the-races-superior/
LOCATION:Gondik Law Speedway\, 4700 Tower Ave\, Superior\, WI\, 54880\, United States
CATEGORIES:Car Show/Racing,Community Gathering,Culture,Event/Game/Sports Spectator,Live Entertainment
ATTACH;FMTTYPE=image/jpeg:https://gottabesuperior.com/wp-content/uploads/2024/05/gondik-law-speedway.jpg
ORGANIZER;CN="Gondik Law Speedway":MAILTO:joe@gondiklawspeedway.com
END:VEVENT
BEGIN:VEVENT
DTSTART;TZID=America/Chicago:20260828T170000
DTEND;TZID=America/Chicago:20260828T220000
DTSTAMP:20260424T201214
CREATED:20260419T164647Z
LAST-MODIFIED:20260419T164647Z
UID:10019165-1787936400-1787954400@gottabesuperior.com
SUMMARY:Gondik Law Speedway: Championship Night/Kids Box Car Series - Superior
DESCRIPTION:Event Times\n\n\nPits Open4:00 PM\nGates Open5:00 PM\nHot Laps At6:30 PM\nRacing Starts7:00 PM\n\n\n\n\n\n\n\n\nClasses\n\n\nWISSOTA Late Model\nWISSOTA Modifieds\nWISSOTA Super Stock\nWISSOTA Midwest Mods\nWISSOTA Pure Stock\nWISSOTA Hornet
URL:https://gottabesuperior.com/event/gondik-law-speedway-championship-night-kids-box-car-series-superior/
LOCATION:Gondik Law Speedway\, 4700 Tower Ave\, Superior\, WI\, 54880\, United States
CATEGORIES:Car Show/Racing,Community Gathering,Event/Game/Sports Spectator,Live Entertainment
ATTACH;FMTTYPE=image/jpeg:https://gottabesuperior.com/wp-content/uploads/2024/05/gondik-law-speedway.jpg
ORGANIZER;CN="Gondik Law Speedway":MAILTO:joe@gondiklawspeedway.com
END:VEVENT
BEGIN:VEVENT
DTSTART;TZID=America/Chicago:20260902T170000
DTEND;TZID=America/Chicago:20260902T220000
DTSTAMP:20260424T201214
CREATED:20260419T165126Z
LAST-MODIFIED:20260419T165126Z
UID:10019166-1788368400-1788386400@gottabesuperior.com
SUMMARY:Gondik Law Speedway: The Road to the SILVER - Superior
DESCRIPTION:We get invitational season kicked off with a BANG!!! \n  \n\n\n\n\nEvent Times\n\n\nPits Open4:00 PM\nGates Open5:00 PM\nHot Laps At6:30 PM\nRacing Starts7:00 PM\n\n\n\n\n\n\n\n\nClasses\n\n\nWISSOTA Late Model\n\nWissota Late Model Challenge Series\n\n\nWISSOTA Modifieds\nWISSOTA Midwest Mods
URL:https://gottabesuperior.com/event/gondik-law-speedway-the-road-to-the-silver-superior/
LOCATION:Gondik Law Speedway\, 4700 Tower Ave\, Superior\, WI\, 54880\, United States
CATEGORIES:Car Show/Racing,Community Gathering,Culture,Event/Game/Sports Spectator,Live Entertainment
ATTACH;FMTTYPE=image/jpeg:https://gottabesuperior.com/wp-content/uploads/2024/05/gondik-law-speedway.jpg
ORGANIZER;CN="Gondik Law Speedway":MAILTO:joe@gondiklawspeedway.com
END:VEVENT
BEGIN:VEVENT
DTSTART;TZID=America/Chicago:20260909T170000
DTEND;TZID=America/Chicago:20260909T220000
DTSTAMP:20260424T201214
CREATED:20260419T165418Z
LAST-MODIFIED:20260419T165418Z
UID:10019167-1788973200-1788991200@gottabesuperior.com
SUMMARY:Gondik Law Speedway: XR Showdown in Souptown & Open Practice - Superior
DESCRIPTION:The 7th Annual XR Showdown in Souptown opens the Northern Nationals festivities. Once again\, 8 Midwest Modifieds and 8 Super Stocks will run two qualifying laps to determine the starting line up for the 20 lap Feature. \n\n\n\nEvent Times\n\n\nPits Open4:00 PM\nGates Open4:00 PM\nHot Laps At6:00 PM\nRacing Starts6:00 PM\n\n\n\n\n\n\n\n\nClasses\n\n\nLate Models\nModifieds\nSuper Stocks\nMidwest Modifieds\nPure Stocks\nHornets\nStreet Stocks
URL:https://gottabesuperior.com/event/gondik-law-speedway-xr-showdown-in-souptown-open-practice-superior/
LOCATION:Gondik Law Speedway\, 4700 Tower Ave\, Superior\, WI\, 54880\, United States
CATEGORIES:Car Show/Racing,Community Gathering,Culture,Event/Game/Sports Spectator,Live Entertainment
ATTACH;FMTTYPE=image/jpeg:https://gottabesuperior.com/wp-content/uploads/2024/05/gondik-law-speedway.jpg
ORGANIZER;CN="Gondik Law Speedway":MAILTO:joe@gondiklawspeedway.com
END:VEVENT
BEGIN:VEVENT
DTSTART;TZID=America/Chicago:20260910T170000
DTEND;TZID=America/Chicago:20260910T220000
DTSTAMP:20260424T201214
CREATED:20260419T165734Z
LAST-MODIFIED:20260419T165734Z
UID:10019168-1789059600-1789077600@gottabesuperior.com
SUMMARY:Gondik Law Speedway: Northern Nationals Night #1- Superior
DESCRIPTION:Northern Nationals-Night #1\nOpening night of the Northern Nationals features a complete show for Midwest Modifieds\, Street Stocks\, Pure Stocks and Hornets. The Northern Renegades Sprint Car Series and Upper Midwest Sprint Car Series have teamed up to co-sanction a complete show for the Winged Sprint Cars. \nHeat/Feature Line up Format: Draw/Passing Points (1.76)-Midwest Modifieds\, Street Stocks\, Pure Stocks and Hornets. TBA-NRSS/UMSS Winged Sprint Cars \n\n\n\nEvent Times\n\n\nPits Open4:00 PM\nGates Open5:00 PM\nHot Laps At6:00 PM\nRacing Starts7:00 PM\n\n\n\n\n\n\n\n\nClasses\n\n\nWISSOTA Midwest Mods\nWISSOTA Pure Stock\nWISSOTA Hornet\nWISSOTA Street Stock\nNorthern Renegades/UMSS Winged Sprint Cars\n\nUMSS Winged Sprint Car Series
URL:https://gottabesuperior.com/event/gondik-law-speedway-northern-nationals-night-1-superior/
LOCATION:Gondik Law Speedway\, 4700 Tower Ave\, Superior\, WI\, 54880\, United States
CATEGORIES:Car Show/Racing,Community Gathering,Culture,Event/Game/Sports Spectator,Live Entertainment
ATTACH;FMTTYPE=image/jpeg:https://gottabesuperior.com/wp-content/uploads/2024/05/gondik-law-speedway.jpg
ORGANIZER;CN="Gondik Law Speedway":MAILTO:joe@gondiklawspeedway.com
END:VEVENT
BEGIN:VEVENT
DTSTART;TZID=America/Chicago:20260911T170000
DTEND;TZID=America/Chicago:20260911T220000
DTSTAMP:20260424T201214
CREATED:20260419T170045Z
LAST-MODIFIED:20260419T170045Z
UID:10019169-1789146000-1789164000@gottabesuperior.com
SUMMARY:Gondik Law Speedway: Northern Nationals Night #2- Superior
DESCRIPTION:The second night of the Northern Nationals features a complete show for the Late Models\, Modifieds\, Super Stocks and Midwest Modifieds. \nHeat/Feature Line Up Format: Draw/Passing Points (1.76) \n  \n\n\n\n\nEvent Times\n\n\nPits Open2:00 PM\nGates Open3:00 PM\nHot Laps At5:30 PM\nRacing Starts6:00 PM\n\n\n\n\n\n\n\n\nClasses\n\n\nWISSOTA Late Model\nWISSOTA Modifieds\nWISSOTA Super Stock\nWISSOTA Midwest Mods
URL:https://gottabesuperior.com/event/gondik-law-speedway-northern-nationals-night-2-superior/
LOCATION:Gondik Law Speedway\, 4700 Tower Ave\, Superior\, WI\, 54880\, United States
CATEGORIES:Car Show/Racing,Community Gathering,Culture,Event/Game/Sports Spectator,Live Entertainment
ATTACH;FMTTYPE=image/jpeg:https://gottabesuperior.com/wp-content/uploads/2024/05/gondik-law-speedway.jpg
ORGANIZER;CN="Gondik Law Speedway":MAILTO:joe@gondiklawspeedway.com
END:VEVENT
BEGIN:VEVENT
DTSTART;TZID=America/Chicago:20260912T170000
DTEND;TZID=America/Chicago:20260912T220000
DTSTAMP:20260424T201214
CREATED:20260419T170248Z
LAST-MODIFIED:20260419T170248Z
UID:10019170-1789232400-1789250400@gottabesuperior.com
SUMMARY:Gondik Law Speedway: Northern Nationals Night #3- Superior
DESCRIPTION:The final night of the Northern Nationals will once again feature a complete show for Late Models\, Modifieds\, Super Stocks and Midwest Modifieds. The final race of the evening will be the Inaugural Canadian Clash which will mingle Midwest Modifieds\, Super Stocks and Modifieds together for 20 Laps. \nHeat/Feature Line Up Format: Draw/Passing Points (1.76) \n  \n\n\n\n\nEvent Times\n\n\nPits Open2:00 PM\nGates Open3:00 PM\nHot Laps At5:30 PM\nRacing Starts6:00 PM\n\n\n\n\n\n\n\n\nClasses\n\n\nWISSOTA Late Model\nWISSOTA Modifieds\nWISSOTA Super Stock\nWISSOTA Midwest Mods
URL:https://gottabesuperior.com/event/gondik-law-speedway-northern-nationals-night-3-superior/
LOCATION:Gondik Law Speedway\, 4700 Tower Ave\, Superior\, WI\, 54880\, United States
CATEGORIES:Car Show/Racing,Community Gathering,Culture,Event/Game/Sports Spectator,Live Entertainment
ATTACH;FMTTYPE=image/jpeg:https://gottabesuperior.com/wp-content/uploads/2024/05/gondik-law-speedway.jpg
ORGANIZER;CN="Gondik Law Speedway":MAILTO:joe@gondiklawspeedway.com
END:VEVENT
END:VCALENDAR