BEGIN:VCALENDAR
VERSION:2.0
PRODID:-//Gotta Be Superior - ECPv6.15.18//NONSGML v1.0//EN
CALSCALE:GREGORIAN
METHOD:PUBLISH
X-WR-CALNAME:Gotta Be Superior
X-ORIGINAL-URL:https://gottabesuperior.com
X-WR-CALDESC:Events for Gotta Be Superior
REFRESH-INTERVAL;VALUE=DURATION:PT1H
X-Robots-Tag:noindex
X-PUBLISHED-TTL:PT1H
BEGIN:VTIMEZONE
TZID:America/Chicago
BEGIN:DAYLIGHT
TZOFFSETFROM:-0600
TZOFFSETTO:-0500
TZNAME:CDT
DTSTART:20250309T080000
END:DAYLIGHT
BEGIN:STANDARD
TZOFFSETFROM:-0500
TZOFFSETTO:-0600
TZNAME:CST
DTSTART:20251102T070000
END:STANDARD
BEGIN:DAYLIGHT
TZOFFSETFROM:-0600
TZOFFSETTO:-0500
TZNAME:CDT
DTSTART:20260308T080000
END:DAYLIGHT
BEGIN:STANDARD
TZOFFSETFROM:-0500
TZOFFSETTO:-0600
TZNAME:CST
DTSTART:20261101T070000
END:STANDARD
BEGIN:DAYLIGHT
TZOFFSETFROM:-0600
TZOFFSETTO:-0500
TZNAME:CDT
DTSTART:20270314T080000
END:DAYLIGHT
BEGIN:STANDARD
TZOFFSETFROM:-0500
TZOFFSETTO:-0600
TZNAME:CST
DTSTART:20271107T070000
END:STANDARD
END:VTIMEZONE
BEGIN:VEVENT
DTSTART;TZID=America/Chicago:20260321T130000
DTEND;TZID=America/Chicago:20260321T160000
DTSTAMP:20260419T095519
CREATED:20260227T224148Z
LAST-MODIFIED:20260227T224148Z
UID:10018701-1774098000-1774108800@gottabesuperior.com
SUMMARY:Ziigwan Wiikonge' Spring Feast and Ceremony @ Dr. Robert Powless Cultural Center - Duluth
DESCRIPTION:Join us for a free community feast led by Fond du Lac elder Ricky DeFoe\, who will lead a ceremony for community members and share cultural teachings.  All are welcome to attend.
URL:https://gottabesuperior.com/event/ziigwan-wiikonge-spring-feast-and-ceremony-dr-robert-powless-cultural-center-duluth/
LOCATION:Dr. Robert Powless Cultural Center\, 212 W 2nd St\, Duluth\, MN\, 55802\, United States
CATEGORIES:Community Education,Community Gathering,Culture,Discussion Group,Event/Game/Sport Participation,Food & Drink,Fundraiser,Kids & Family
ATTACH;FMTTYPE=image/jpeg:https://gottabesuperior.com/wp-content/uploads/2026/02/643373633_1343118081178344_1641980182192131806_n.jpg
ORGANIZER;CN="AICHO Gallery":MAILTO:aichogalleries@gmail.com
END:VEVENT
BEGIN:VEVENT
DTSTART;TZID=America/Chicago:20260323T110000
DTEND;TZID=America/Chicago:20260323T130000
DTSTAMP:20260419T095519
CREATED:20260210T210519Z
LAST-MODIFIED:20260210T211948Z
UID:10018498-1774263600-1774270800@gottabesuperior.com
SUMMARY:Discovery Table: Brains\, Beaks and Bold Personalities @ Jay Cooke State Park/River Inn Visitor Center - Carlton
DESCRIPTION:Let’s meet the corvids!  There’s Crow – the popular one; Raven – the loner; and Jay – the flashy one.  Stop by to learn about some of Minnesota’s most common\, intelligent\, and fascinating birds!  Let’s discover what makes these clever creatures so special.
URL:https://gottabesuperior.com/event/discovery-table-brains-beaks-and-bold-personalities-jay-cooke-state-park-river-inn-visitor-center-carlton/2026-03-23/
LOCATION:River Inn Visitor Center\, 780 Highway 210\, Carlton\, MN\, 55718-9702\, United States
CATEGORIES:Community Education,Discussion Group,Event/Game/Sport Participation,Kids & Family,Nature
ATTACH;FMTTYPE=image/jpeg:https://gottabesuperior.com/wp-content/uploads/2026/02/download-10.jpg
ORGANIZER;CN="Jay Cooke State Park":MAILTO:kris.hiller@state.mn.us
END:VEVENT
BEGIN:VEVENT
DTSTART;TZID=America/Chicago:20260323T170000
DTEND;TZID=America/Chicago:20260323T180000
DTSTAMP:20260419T095519
CREATED:20260317T153602Z
LAST-MODIFIED:20260317T153602Z
UID:10018806-1774285200-1774288800@gottabesuperior.com
SUMMARY:Twin Ports Festival of History: Forts\, Posts\, and Axes: The Fur Trade Era in Northern Minnesota and the Duluth-Superior Area @ A.B Anderson Hall - Duluth
DESCRIPTION:Kick off event for the 2025 Twin Ports Festival of History! Forts\, Posts\, and Axes: The Fur Trade Era in Northern Minnesota and the Duluth-Superior Area presented by David H. Peterson and Jennifer E. Jones.
URL:https://gottabesuperior.com/event/twin-ports-festival-of-history-forts-posts-and-axes-the-fur-trade-era-in-northern-minnesota-and-the-duluth-superior-area-a-b-anderson-hall-duluth/
LOCATION:A.B Anderson Hall\, 1121 University Drive\, Duluth\, MN\, United States
CATEGORIES:Community Education,Community Gathering,Culture,Discussion Group,Event/Game/Sports Spectator,Free,History/Museum
ATTACH;FMTTYPE=image/jpeg:https://gottabesuperior.com/wp-content/uploads/2026/03/Fur-Trade.jpeg
END:VEVENT
BEGIN:VEVENT
DTSTART;TZID=America/Chicago:20260324T100000
DTEND;TZID=America/Chicago:20260324T120000
DTSTAMP:20260419T095519
CREATED:20260108T002501Z
LAST-MODIFIED:20260108T002501Z
UID:10017644-1774346400-1774353600@gottabesuperior.com
SUMMARY:Local History Help @ Superior Public Library - Superior
DESCRIPTION:Are you starting out making a family tree? Curious about local history? Want someone to teach you how to load and operate a microfilm reader? Our local history librarian is available twice a week for drop-in visits helping patrons connect with the local history and genealogical resources available at Superior Public Library.\nDrop in on Tuesdays from 10 a.m. – 12 p.m. and Thursdays from 1-3 p.m. to meet with our local history librarian and get the help you need! No appointment required!
URL:https://gottabesuperior.com/event/local-history-help-superior-public-library-superior/2026-03-24/
LOCATION:Superior Public Library\, 1530 Tower Ave\, Superior\, WI\, 54880\, United States
CATEGORIES:Community Education,Discussion Group,Free,History/Museum
ATTACH;FMTTYPE=image/jpeg:https://gottabesuperior.com/wp-content/uploads/2026/01/Local-History-Help.jpg
END:VEVENT
BEGIN:VEVENT
DTSTART;TZID=America/Chicago:20260324T100000
DTEND;TZID=America/Chicago:20260324T140000
DTSTAMP:20260419T095519
CREATED:20260108T001823Z
LAST-MODIFIED:20260108T002009Z
UID:10017632-1774346400-1774360800@gottabesuperior.com
SUMMARY:CLICK & Learn w/Northwest Wisconsin Workforce Investment Board @ Superior Public Library - Superior
DESCRIPTION:Would you like to become more familiar with technology? A digital navigator from the Northwest Wisconsin Workforce Investment Board offers drop-in CLICK & Learn sessions every Tuesday from 10 a.m. to 2 p.m. at Superior Public Library. No appointment or library card required. Laptop checkouts are also available.
URL:https://gottabesuperior.com/event/cclick-learn-w-northwest-wisconsin-workforce-investment-board-superior-public-library-superior/2026-03-24/
LOCATION:Superior Public Library\, 1530 Tower Ave\, Superior\, WI\, 54880\, United States
CATEGORIES:Community Education,Discussion Group,Event/Game/Sport Participation,Free
ATTACH;FMTTYPE=image/jpeg:https://gottabesuperior.com/wp-content/uploads/2026/01/611312582_1276099667884729_4861447561251576877_n.jpg
END:VEVENT
BEGIN:VEVENT
DTSTART;TZID=America/Chicago:20260325T103000
DTEND;TZID=America/Chicago:20260325T123000
DTSTAMP:20260419T095519
CREATED:20260319T163037Z
LAST-MODIFIED:20260319T163037Z
UID:10018840-1774434600-1774441800@gottabesuperior.com
SUMMARY:Memory Cafe @ Superior Public Library - Superior
DESCRIPTION:Join us Wednesday\, March 25 from 10:30 a.m. – 12:30 p.m. for our next Memory Cafe and share your favorite memories of winter while enjoying wonderful winter treats and making new friends!\nMemory cafés are held at the library the last Wednesday of each month from 10:30 a.m. – 12:30 p.m. and are a partnership with the ADRC of Douglas County\, WI. They’re designed for people experiencing memory loss and their caregivers to have a positive\, safe place to gather and enjoy a hands-on activity. No registration is required.
URL:https://gottabesuperior.com/event/memory-cafe-superior-public-library-superior-2/
LOCATION:Superior Public Library\, 1530 Tower Ave\, Superior\, WI\, 54880\, United States
CATEGORIES:Community Education,Community Gathering,Discussion Group,Event/Game/Sport Participation,Free,Seniors
ATTACH;FMTTYPE=image/jpeg:https://gottabesuperior.com/wp-content/uploads/2026/03/Memory-Cafe.jpg
END:VEVENT
BEGIN:VEVENT
DTSTART;TZID=America/Chicago:20260325T180000
DTEND;TZID=America/Chicago:20260325T193000
DTSTAMP:20260419T095519
CREATED:20260320T164037Z
LAST-MODIFIED:20260320T164037Z
UID:10018859-1774461600-1774467000@gottabesuperior.com
SUMMARY:Rights of Nature and the St. Louis River Estuary Exhibit Opening Reception w/Harbor City International School @ Great Lakes Aquarium - Duluth
DESCRIPTION:Join us at the Great Lakes Aquarium to celebrate the opening of a collaborative gallery featuring art from Harbor City International students and organisms of the Estuary. This event runs 6:00pm to 7:30pm.
URL:https://gottabesuperior.com/event/rights-of-nature-and-the-st-louis-river-estuary-exhibit-opening-reception-w-harbor-city-international-school-great-lakes-aquarium-duluth/
LOCATION:Great Lakes Aquairum\, 353 Harbor Drive\, Duluth\, MN\, United States
CATEGORIES:Art,Community Education,Community Gathering,Culture,Discussion Group,Event/Game/Sports Spectator,Nature
ATTACH;FMTTYPE=image/jpeg:https://gottabesuperior.com/wp-content/uploads/2026/03/654402430_1750354766152363_2970490562509138360_n-1.jpg
END:VEVENT
BEGIN:VEVENT
DTSTART;TZID=America/Chicago:20260325T190000
DTEND;TZID=America/Chicago:20260325T200000
DTSTAMP:20260419T095519
CREATED:20260317T145158Z
LAST-MODIFIED:20260317T145158Z
UID:10018801-1774465200-1774468800@gottabesuperior.com
SUMMARY:Twin Ports Festival of History: Robber Barons w/Tony Dierckins @ Glensheen Mansion - Duluth
DESCRIPTION:Join us at Glensheen on Wednesday\, March 25th\, for a talk with Tony Dierckins on Robber Barons of the Iron Range as part of the Twin Ports Festival. Local historian and author Tony Dierckins will dive into the power struggles and personalities that shaped the Iron Range and the Twin Ports during the region’s industrial boom. Through stories of ambition\, conflict\, and massive fortunes\, the talk explores the forces and figures that transformed northern Minnesota and ultimately led to the wealth behind Glensheen. \nFree Admission \n*No need to register ahead of time
URL:https://gottabesuperior.com/event/twin-ports-festival-of-history-robber-barons-w-tony-dierckins-glensheen-mansion-duluth/
LOCATION:Glensheen Mansion\, 3300 London Rd\, Duluth\, MN\, United States
CATEGORIES:Book Club/Discussion,Community Education,Community Gathering,Culture,Discussion Group,Event/Game/Sport Participation,Event/Game/Sports Spectator,Free,History/Museum
ATTACH;FMTTYPE=image/jpeg:https://gottabesuperior.com/wp-content/uploads/2026/03/Robber-Barons.jpg
ORGANIZER;CN="Glensheen Mansion":MAILTO:info@glensheen.org
END:VEVENT
BEGIN:VEVENT
DTSTART;TZID=America/Chicago:20260326T180000
DTEND;TZID=America/Chicago:20260326T190000
DTSTAMP:20260419T095519
CREATED:20260317T160407Z
LAST-MODIFIED:20260317T160407Z
UID:10018811-1774548000-1774551600@gottabesuperior.com
SUMMARY:Twin Ports Festival of History: How to Research the History of Social Movements in Northeastern Minnesota@ Katheryn A Martin Library - Duluth
DESCRIPTION:Hosted by the University of Minnesota Duluth Archives
URL:https://gottabesuperior.com/event/twin-ports-festival-of-history-how-to-research-the-history-of-social-movements-in-northeastern-minnesota-katheryn-a-martin-library-duluth/
LOCATION:Kathryn A Martin Library\, 416 Library Drive\, Duluth\, MN\, United States
CATEGORIES:Community Education,Community Gathering,Discussion Group,Event/Game/Sport Participation,Event/Game/Sports Spectator,Free,History/Museum
ATTACH;FMTTYPE=image/jpeg:https://gottabesuperior.com/wp-content/uploads/2026/03/Twin-Ports-Festival-of-History-2026.jpeg
END:VEVENT
BEGIN:VEVENT
DTSTART;TZID=America/Chicago:20260327T150000
DTEND;TZID=America/Chicago:20260327T160000
DTSTAMP:20260419T095519
CREATED:20260317T173934Z
LAST-MODIFIED:20260317T173934Z
UID:10018822-1774623600-1774627200@gottabesuperior.com
SUMMARY:Twin Ports Festival of History: Stories of Artists and Artwork from the Twin Ports w/Brian & Sue Matuszak @ Two Harbors Public Library - Two Harbors MN
DESCRIPTION:Brian and Sue Matuszak\, professional artists (and novice researchers) will combine humor and history telling the forgotten Northern Minnesota stories of artists and the artwork they created as part of the WPA’s Federal Art Project from 1935-1943.
URL:https://gottabesuperior.com/event/twin-ports-festival-of-history-stories-of-artists-and-artwork-from-the-twin-ports-w-brian-sue-matuszak-two-harbors-public-library-two-harbors-mn/
LOCATION:Two Harbors Depot\, Two Harbors\, MN\, United States
CATEGORIES:Art,Community Education,Community Gathering,Culture,Discussion Group,Event/Game/Sport Participation,Event/Game/Sports Spectator,Free,History/Museum
ATTACH;FMTTYPE=image/jpeg:https://gottabesuperior.com/wp-content/uploads/2026/03/Twin-Ports-Festival-of-History-2026.jpeg
END:VEVENT
BEGIN:VEVENT
DTSTART;TZID=America/Chicago:20260327T180000
DTEND;TZID=America/Chicago:20260327T190000
DTSTAMP:20260419T095519
CREATED:20260317T174456Z
LAST-MODIFIED:20260317T174456Z
UID:10018823-1774634400-1774638000@gottabesuperior.com
SUMMARY:Twin Ports Festival of History: The History of the Historic Harbor Theater w/ Matthew Unzeitig @ Historic Harbor Theater - Two Harbors MN
DESCRIPTION:Learn about the history of the iconic theater from Harbor Theater owner Matthew Unzeitig. \nIf you visit 2 other Two Harbors History Fest locations\, receive one free movie pass for any Friday showing or the 6:30 PM Saturday showing. \nFriday films kickoff at 12PM with Singing in the Rain (1952) with following screenings of 3PM Casablanca (1942)\, and 6:30 PM The Majestic (2001)
URL:https://gottabesuperior.com/event/twin-ports-festival-of-history-the-history-of-the-historic-harbor-theater-w-matthew-unzeitig-historic-harbor-theater-two-harbors-mn/
LOCATION:Historic Harbor Theater\, 616 2nd Avenue\, Two Harbors\, MN\, United States
CATEGORIES:Art,Community Education,Community Gathering,Culture,Discussion Group,Event/Game/Sports Spectator,Free,History/Museum,Movies/Film
ATTACH;FMTTYPE=image/jpeg:https://gottabesuperior.com/wp-content/uploads/2026/03/Twin-Ports-Festival-of-History-2026.jpeg
END:VEVENT
BEGIN:VEVENT
DTSTART;TZID=America/Chicago:20260329T110000
DTEND;TZID=America/Chicago:20260329T130000
DTSTAMP:20260419T095519
CREATED:20260210T214516Z
LAST-MODIFIED:20260210T214516Z
UID:10018505-1774782000-1774789200@gottabesuperior.com
SUMMARY:Discovery Table: Coyotes\, American Prairie Wolves@ Jay Cooke State Park/River Inn Visitor Center - Carlton
DESCRIPTION:What’s that *yip* chorusing through the night?  A uniquely American animal\, the coyote is a persecuted character in the story of our westward expansion.  Learn the story of coyote as we explore this misjudged animal from a different perspective.
URL:https://gottabesuperior.com/event/discovery-table-coyotes-american-prairie-wolves-jay-cooke-state-park-river-inn-visitor-center-carlton/
LOCATION:River Inn Visitor Center\, 780 Highway 210\, Carlton\, MN\, 55718-9702\, United States
CATEGORIES:Community Education,Community Gathering,Discussion Group,Event/Game/Sport Participation,Kids & Family,Nature
ATTACH;FMTTYPE=image/jpeg:https://gottabesuperior.com/wp-content/uploads/2024/12/jay-cooke-state-park.jpg
ORGANIZER;CN="Jay Cooke State Park":MAILTO:kris.hiller@state.mn.us
END:VEVENT
BEGIN:VEVENT
DTSTART;TZID=America/Chicago:20260331T100000
DTEND;TZID=America/Chicago:20260331T120000
DTSTAMP:20260419T095519
CREATED:20260108T002501Z
LAST-MODIFIED:20260108T002501Z
UID:10017645-1774951200-1774958400@gottabesuperior.com
SUMMARY:Local History Help @ Superior Public Library - Superior
DESCRIPTION:Are you starting out making a family tree? Curious about local history? Want someone to teach you how to load and operate a microfilm reader? Our local history librarian is available twice a week for drop-in visits helping patrons connect with the local history and genealogical resources available at Superior Public Library.\nDrop in on Tuesdays from 10 a.m. – 12 p.m. and Thursdays from 1-3 p.m. to meet with our local history librarian and get the help you need! No appointment required!
URL:https://gottabesuperior.com/event/local-history-help-superior-public-library-superior/2026-03-31/
LOCATION:Superior Public Library\, 1530 Tower Ave\, Superior\, WI\, 54880\, United States
CATEGORIES:Community Education,Discussion Group,Free,History/Museum
ATTACH;FMTTYPE=image/jpeg:https://gottabesuperior.com/wp-content/uploads/2026/01/Local-History-Help.jpg
END:VEVENT
BEGIN:VEVENT
DTSTART;TZID=America/Chicago:20260331T100000
DTEND;TZID=America/Chicago:20260331T140000
DTSTAMP:20260419T095519
CREATED:20260108T001823Z
LAST-MODIFIED:20260108T002009Z
UID:10017633-1774951200-1774965600@gottabesuperior.com
SUMMARY:CLICK & Learn w/Northwest Wisconsin Workforce Investment Board @ Superior Public Library - Superior
DESCRIPTION:Would you like to become more familiar with technology? A digital navigator from the Northwest Wisconsin Workforce Investment Board offers drop-in CLICK & Learn sessions every Tuesday from 10 a.m. to 2 p.m. at Superior Public Library. No appointment or library card required. Laptop checkouts are also available.
URL:https://gottabesuperior.com/event/cclick-learn-w-northwest-wisconsin-workforce-investment-board-superior-public-library-superior/2026-03-31/
LOCATION:Superior Public Library\, 1530 Tower Ave\, Superior\, WI\, 54880\, United States
CATEGORIES:Community Education,Discussion Group,Event/Game/Sport Participation,Free
ATTACH;FMTTYPE=image/jpeg:https://gottabesuperior.com/wp-content/uploads/2026/01/611312582_1276099667884729_4861447561251576877_n.jpg
END:VEVENT
END:VCALENDAR