BEGIN:VCALENDAR
VERSION:2.0
PRODID:-//Gotta Be Superior - ECPv6.15.18//NONSGML v1.0//EN
CALSCALE:GREGORIAN
METHOD:PUBLISH
X-ORIGINAL-URL:https://gottabesuperior.com
X-WR-CALDESC:Events for Gotta Be Superior
REFRESH-INTERVAL;VALUE=DURATION:PT1H
X-Robots-Tag:noindex
X-PUBLISHED-TTL:PT1H
BEGIN:VTIMEZONE
TZID:America/Chicago
BEGIN:DAYLIGHT
TZOFFSETFROM:-0600
TZOFFSETTO:-0500
TZNAME:CDT
DTSTART:20250309T080000
END:DAYLIGHT
BEGIN:STANDARD
TZOFFSETFROM:-0500
TZOFFSETTO:-0600
TZNAME:CST
DTSTART:20251102T070000
END:STANDARD
BEGIN:DAYLIGHT
TZOFFSETFROM:-0600
TZOFFSETTO:-0500
TZNAME:CDT
DTSTART:20260308T080000
END:DAYLIGHT
BEGIN:STANDARD
TZOFFSETFROM:-0500
TZOFFSETTO:-0600
TZNAME:CST
DTSTART:20261101T070000
END:STANDARD
BEGIN:DAYLIGHT
TZOFFSETFROM:-0600
TZOFFSETTO:-0500
TZNAME:CDT
DTSTART:20270314T080000
END:DAYLIGHT
BEGIN:STANDARD
TZOFFSETFROM:-0500
TZOFFSETTO:-0600
TZNAME:CST
DTSTART:20271107T070000
END:STANDARD
END:VTIMEZONE
BEGIN:VEVENT
DTSTART;TZID=America/Chicago:20260501T080000
DTEND;TZID=America/Chicago:20260503T170000
DTSTAMP:20260419T095607
CREATED:20260319T165701Z
LAST-MODIFIED:20260319T165701Z
UID:10018842-1777622400-1777827600@gottabesuperior.com
SUMMARY:Project New Hope: Military Family Retreats @ Various Locations
DESCRIPTION:This retreat offers veterans and their family members education\, training\, and skills necessary to manage their lives after wartime service.\n\n\nProviders from the VA Health Care system will be in attendance to offer assistance and support to veterans and their families. All retreat attendees must pay a $50 refundable deposit\, which is refunded after they attend the retreat.\nMay 1-3  Camp Shetek – Slayton MN\nJune 5-7  Osprey Wilds – Sandstone MN\nOctober 2-4  Good Earth Village – Spring Valley MN\nDecember 4-6   Faith Haven Camp – Battle Lake MN
URL:https://gottabesuperior.com/event/project-new-hope-military-family-retreats-various-locations/2026-05-01/
LOCATION:Various locations\, Superior\, WI\, 54880\, United States
CATEGORIES:Community Education,Community Gathering,Culture,Discussion Group,Event/Game/Sport Participation,Free,Kids & Family,Veterans
ATTACH;FMTTYPE=image/jpeg:https://gottabesuperior.com/wp-content/uploads/2026/03/Project-New-Hope.jpg
END:VEVENT
BEGIN:VEVENT
DTSTART;TZID=America/Chicago:20260503T100000
DTEND;TZID=America/Chicago:20260503T110000
DTSTAMP:20260419T095607
CREATED:20250109T023755Z
LAST-MODIFIED:20250329T183949Z
UID:10013001-1777802400-1777806000@gottabesuperior.com
SUMMARY:Tarot Club @ Alchemy
DESCRIPTION:Tarot Club is for everyone! (Newbies to Advanced Readers)  \nAnd\, FREE. \nThe club explores topics and methods together. \nNote: Your own deck is helpful to have for visuals. A tarot journal would be pretty awesome too 😉
URL:https://gottabesuperior.com/event/tarot-clubalchemy/2026-05-03/
LOCATION:Alchemy\, 2724 N 21st St\, Superior\, WI\, United States
CATEGORIES:Community Gathering,Discussion Group,Free
ATTACH;FMTTYPE=image/jpeg:https://gottabesuperior.com/wp-content/uploads/2025/01/Tarot-Club.jpg
ORGANIZER;CN="Alchemy":MAILTO:anndreasart@gmail.com
END:VEVENT
BEGIN:VEVENT
DTSTART;TZID=America/Chicago:20260505T100000
DTEND;TZID=America/Chicago:20260505T120000
DTSTAMP:20260419T095607
CREATED:20260108T002501Z
LAST-MODIFIED:20260108T002501Z
UID:10017650-1777975200-1777982400@gottabesuperior.com
SUMMARY:Local History Help @ Superior Public Library - Superior
DESCRIPTION:Are you starting out making a family tree? Curious about local history? Want someone to teach you how to load and operate a microfilm reader? Our local history librarian is available twice a week for drop-in visits helping patrons connect with the local history and genealogical resources available at Superior Public Library.\nDrop in on Tuesdays from 10 a.m. – 12 p.m. and Thursdays from 1-3 p.m. to meet with our local history librarian and get the help you need! No appointment required!
URL:https://gottabesuperior.com/event/local-history-help-superior-public-library-superior/2026-05-05/
LOCATION:Superior Public Library\, 1530 Tower Ave\, Superior\, WI\, 54880\, United States
CATEGORIES:Community Education,Discussion Group,Free,History/Museum
ATTACH;FMTTYPE=image/jpeg:https://gottabesuperior.com/wp-content/uploads/2026/01/Local-History-Help.jpg
END:VEVENT
BEGIN:VEVENT
DTSTART;TZID=America/Chicago:20260507T103000
DTEND;TZID=America/Chicago:20260507T120000
DTSTAMP:20260419T095607
CREATED:20260414T174325Z
LAST-MODIFIED:20260414T174325Z
UID:10019066-1778149800-1778155200@gottabesuperior.com
SUMMARY:Genealogy for Beginners @ Superior Public Library - Superior
DESCRIPTION:Genealogy for Beginners is a series of free classes led by Marie Mattson\, Certified Professional Genealogist®.\nLearn how to research & discover your ancestors! Sessions begin Thursday\, April 16 and will continue every Thursday through May 7!\nUpcoming topics include:Thursday\, April 16: What Is Genealogy? How To Avoid Common PitfallsThursday\, April 23: FamilySearch & The U.S. CensusThursday\, April 30: DNA: How It Can Help Trace Elusive AncestorsThursday\, May 7: Breaking Down Brick Walls: Using FamilySearch & the Wisconsin Historical Society Website\nSessions will begin at 10:30 a.m. and run for approximately 1 1/2 hours. No registration is required.
URL:https://gottabesuperior.com/event/genealogy-for-beginners-superior-public-library-superior/2026-05-07/
LOCATION:Superior Public Library\, 1530 Tower Ave\, Superior\, WI\, 54880\, United States
CATEGORIES:Community Education,Discussion Group,Event/Game/Sport Participation,Free
ATTACH;FMTTYPE=image/jpeg:https://gottabesuperior.com/wp-content/uploads/2026/04/Geneology.jpg
END:VEVENT
BEGIN:VEVENT
DTSTART;TZID=America/Chicago:20260508T080000
DTEND;TZID=America/Chicago:20260509T170000
DTSTAMP:20260419T095607
CREATED:20260228T151206Z
LAST-MODIFIED:20260228T151206Z
UID:10018702-1778227200-1778346000@gottabesuperior.com
SUMMARY:Cryptids\, Anomalies and Paranormal Convention @ Fond Du Lac WI
DESCRIPTION:This year our event will feature room for over 40 vendors ALL INDOORS\, TWO Speaker rooms\, Workshops/Classes\, a Psychic Gallery Reading\, and a Bigfoot Expedition!\nThe 2026 Cryptids\, Anomalies\, and Paranormal Convention comes to you May 9th 2026\, doors open at 10am!\nPresented by:Cryptids\, Anomalies\, and the Paranormal Society\nSponsored By:Phantasm ParanormalSasquatch’s Variety Shop – Princeton\, WIHanger 1 PublishingUrban Cryptids\n\nSpeaker Line ups(SUBJECT TO CHANGE WITHOUT NOTIFICATION)\nSpeaker Room #1#111:00AM Jay Bachochin – Wisconsin Bigfoot – The Kettle Connection\n12:00 PM Lee Hampel – Wisconsin’s Skinwalker Ranch – Beast of Bray Road\n1:00 PM LUNCH BREAK\n2:00 PM Terry Cullen – First hand witness of the Minnesota iceman\n3:00 PM Tobias Wayland – Great Lakes Mothman phenomenon\n4:00 PM Ken Gerhard – Cryptids of the Seas & Lakes\n7:00 PM Terry Flick – Psychic Gallery Reading\nSpeaker Room #2#2\n10:30 AM Christopher Duncan – Remote Viewing & Expedition Bigfoot\n11:30 AM Lauren Smith – Little Footers\n12:00 PM Kelly Milner Halls – Research and kids\n12:30 PM Jeff Finup – Urban Legends for Kids\n1:30 PM LUNCH BREAK\n2:30 PM UFO/UAP Pannel\nHost: Jeff Finup with Dustin Schutta\, Jeremy Socha\,  Zach Skrede\, Ian DeGraff\n3:30 PM Larry Eissler III – Scariest Locations Expedition Entity\n4:30 PM Sylvia Shults – Paranormal Vacation\n6:00 PM Kristina Bloom SEANCE\nWORKSHOPS:(Additional Fees Apply)10:00 AM – Casting make and take – with Dan Nedrelo\n11:00 AM – Spirit Photography: Spirits\, Dust\, and You! with Larry Eissler III\n12:00 PM – Everyday Tools for Spirit Communication & Energetic Protection with Ellie Weisensel\n1:00 PM LUNCH\n2:00 PM – Survival 101 “Don’t die in the Woods” with Chris McCreary\n3:00 PM – The Science of the Paranormal with Barnaby Jones\n5:00 PM – Remote Viewing Workshop – with Christopher Duncan\nVIRTUAL TICKETS:\nThe event will NOT be LIVE streamed\, but we will be uploading all presentations for later viewing to those who purchase a Virtual Ticket or a VIP ticket! \nfollow link for tickets    https://events.ticketleap.com/tickets/cryptids-anomalies-and-the-paranormal-society/wisconsin-cryptids-anomalies-and-paranormal-convention-capcon-2026-1370766566?fbclid=IwY2xjawQP5ChleHRuA2FlbQIxMABicmlkETFhY0pQN2owWUs1NkREMzNic3J0YwZhcHBfaWQQMjIyMDM5MTc4ODIwMDg5MgABHp4sdPSZNekv3qeHhl5VETI2R2dQfY7XrqX-N-WTPiZ-g04yWOfEmaPQ8AlE_aem_zD_8FMtfV3Xj8hOnSLPw3A
URL:https://gottabesuperior.com/event/cryptids-anomalies-and-paranormal-convention-fond-du-lac-wi/
LOCATION:Radisson Hotel and Conference Center\, 625 W Rolling Meadows Dr.\, Fond du Lac\, 54937\, United States
CATEGORIES:Community Education,Community Gathering,Culture,Discussion Group,Event/Game/Sport Participation,Event/Game/Sports Spectator,Festivals,Kids & Family,Live Entertainment,Markets/Sales,Meet/Greet
ATTACH;FMTTYPE=image/jpeg:https://gottabesuperior.com/wp-content/uploads/2026/02/8-x-11-poster-scaled.jpg
ORGANIZER;CN="CAPS":MAILTO:wisconsincaps@gmail.com
END:VEVENT
BEGIN:VEVENT
DTSTART;TZID=America/Chicago:20260512T100000
DTEND;TZID=America/Chicago:20260512T120000
DTSTAMP:20260419T095607
CREATED:20260108T002501Z
LAST-MODIFIED:20260108T002501Z
UID:10017651-1778580000-1778587200@gottabesuperior.com
SUMMARY:Local History Help @ Superior Public Library - Superior
DESCRIPTION:Are you starting out making a family tree? Curious about local history? Want someone to teach you how to load and operate a microfilm reader? Our local history librarian is available twice a week for drop-in visits helping patrons connect with the local history and genealogical resources available at Superior Public Library.\nDrop in on Tuesdays from 10 a.m. – 12 p.m. and Thursdays from 1-3 p.m. to meet with our local history librarian and get the help you need! No appointment required!
URL:https://gottabesuperior.com/event/local-history-help-superior-public-library-superior/2026-05-12/
LOCATION:Superior Public Library\, 1530 Tower Ave\, Superior\, WI\, 54880\, United States
CATEGORIES:Community Education,Discussion Group,Free,History/Museum
ATTACH;FMTTYPE=image/jpeg:https://gottabesuperior.com/wp-content/uploads/2026/01/Local-History-Help.jpg
END:VEVENT
BEGIN:VEVENT
DTSTART;TZID=America/Chicago:20260519T100000
DTEND;TZID=America/Chicago:20260519T120000
DTSTAMP:20260419T095607
CREATED:20260108T002501Z
LAST-MODIFIED:20260108T002501Z
UID:10017652-1779184800-1779192000@gottabesuperior.com
SUMMARY:Local History Help @ Superior Public Library - Superior
DESCRIPTION:Are you starting out making a family tree? Curious about local history? Want someone to teach you how to load and operate a microfilm reader? Our local history librarian is available twice a week for drop-in visits helping patrons connect with the local history and genealogical resources available at Superior Public Library.\nDrop in on Tuesdays from 10 a.m. – 12 p.m. and Thursdays from 1-3 p.m. to meet with our local history librarian and get the help you need! No appointment required!
URL:https://gottabesuperior.com/event/local-history-help-superior-public-library-superior/2026-05-19/
LOCATION:Superior Public Library\, 1530 Tower Ave\, Superior\, WI\, 54880\, United States
CATEGORIES:Community Education,Discussion Group,Free,History/Museum
ATTACH;FMTTYPE=image/jpeg:https://gottabesuperior.com/wp-content/uploads/2026/01/Local-History-Help.jpg
END:VEVENT
BEGIN:VEVENT
DTSTART;TZID=America/Chicago:20260520T120000
DTEND;TZID=America/Chicago:20260520T150000
DTSTAMP:20260419T095607
CREATED:20251226T182339Z
LAST-MODIFIED:20251226T182339Z
UID:10017434-1779278400-1779289200@gottabesuperior.com
SUMMARY:Antique Appraisals @ St. Louis County Depot - Duluth
DESCRIPTION:Ever wonder if that attic find is a hidden gem? \n\n\nJoin the St. Louis County Historical Society for one of our most beloved programs! Back by popular demand\, we’re hosting our monthly Antique Appraisal Days throughout 2026.\n\n\nExpert appraiser Denny Mager of Northern Specialty will be on-site to provide informal oral identifications and evaluations for your favorite collectibles.\n\n\n Where & When\nLocation: The St. Louis County Depot\, 506 West Michigan Street\, Duluth. This year we’ll be in the Union Lounge (Michigan Street level). Starts at 12:00 PM.\n\n\nRegistration: In-person only. Cut-off is at 2:30 PM.\n\n\n What to Bring\nUp to two items per person.\n\n\nItem too big or fragile to carry? No problem—bring clear photos and a description of any labels or marks instead.\n\n\n 2026 Dates (Third Wednesday of the Month)\nMark your calendars for January 21\, February 18\, March 18\, April 15\, May 20\, June 17\, July 15\, August 19\, September 16\, October 21\, and November 18.\n\n\nNote: All sessions are weather contingent.
URL:https://gottabesuperior.com/event/antique-appraisals-st-louis-county-depot-duluth/2026-05-20/
LOCATION:The Depot\, 506 W Michigan St\, Duluth\, MN\, United States
CATEGORIES:Community Education,Community Gathering,Culture,Discussion Group,Event/Game/Sport Participation,Free,History/Museum
ATTACH;FMTTYPE=image/jpeg:https://gottabesuperior.com/wp-content/uploads/2025/12/Antique-Appraisals.jpg
ORGANIZER;CN="St. Louis County Historical Society":MAILTO:shaela@thehistorypeople.org
END:VEVENT
BEGIN:VEVENT
DTSTART;TZID=America/Chicago:20260526T100000
DTEND;TZID=America/Chicago:20260526T120000
DTSTAMP:20260419T095607
CREATED:20260108T002501Z
LAST-MODIFIED:20260108T002501Z
UID:10017653-1779789600-1779796800@gottabesuperior.com
SUMMARY:Local History Help @ Superior Public Library - Superior
DESCRIPTION:Are you starting out making a family tree? Curious about local history? Want someone to teach you how to load and operate a microfilm reader? Our local history librarian is available twice a week for drop-in visits helping patrons connect with the local history and genealogical resources available at Superior Public Library.\nDrop in on Tuesdays from 10 a.m. – 12 p.m. and Thursdays from 1-3 p.m. to meet with our local history librarian and get the help you need! No appointment required!
URL:https://gottabesuperior.com/event/local-history-help-superior-public-library-superior/2026-05-26/
LOCATION:Superior Public Library\, 1530 Tower Ave\, Superior\, WI\, 54880\, United States
CATEGORIES:Community Education,Discussion Group,Free,History/Museum
ATTACH;FMTTYPE=image/jpeg:https://gottabesuperior.com/wp-content/uploads/2026/01/Local-History-Help.jpg
END:VEVENT
END:VCALENDAR