BEGIN:VCALENDAR
VERSION:2.0
PRODID:-//Gotta Be Superior - ECPv6.15.18//NONSGML v1.0//EN
CALSCALE:GREGORIAN
METHOD:PUBLISH
X-WR-CALNAME:Gotta Be Superior
X-ORIGINAL-URL:https://gottabesuperior.com
X-WR-CALDESC:Events for Gotta Be Superior
REFRESH-INTERVAL;VALUE=DURATION:PT1H
X-Robots-Tag:noindex
X-PUBLISHED-TTL:PT1H
BEGIN:VTIMEZONE
TZID:America/Chicago
BEGIN:DAYLIGHT
TZOFFSETFROM:-0600
TZOFFSETTO:-0500
TZNAME:CDT
DTSTART:20250309T080000
END:DAYLIGHT
BEGIN:STANDARD
TZOFFSETFROM:-0500
TZOFFSETTO:-0600
TZNAME:CST
DTSTART:20251102T070000
END:STANDARD
BEGIN:DAYLIGHT
TZOFFSETFROM:-0600
TZOFFSETTO:-0500
TZNAME:CDT
DTSTART:20260308T080000
END:DAYLIGHT
BEGIN:STANDARD
TZOFFSETFROM:-0500
TZOFFSETTO:-0600
TZNAME:CST
DTSTART:20261101T070000
END:STANDARD
BEGIN:DAYLIGHT
TZOFFSETFROM:-0600
TZOFFSETTO:-0500
TZNAME:CDT
DTSTART:20270314T080000
END:DAYLIGHT
BEGIN:STANDARD
TZOFFSETFROM:-0500
TZOFFSETTO:-0600
TZNAME:CST
DTSTART:20271107T070000
END:STANDARD
END:VTIMEZONE
BEGIN:VEVENT
DTSTART;TZID=America/Chicago:20260705T100000
DTEND;TZID=America/Chicago:20260705T110000
DTSTAMP:20260419T124950
CREATED:20250109T023755Z
LAST-MODIFIED:20250329T183949Z
UID:10013003-1783245600-1783249200@gottabesuperior.com
SUMMARY:Tarot Club @ Alchemy
DESCRIPTION:Tarot Club is for everyone! (Newbies to Advanced Readers)  \nAnd\, FREE. \nThe club explores topics and methods together. \nNote: Your own deck is helpful to have for visuals. A tarot journal would be pretty awesome too 😉
URL:https://gottabesuperior.com/event/tarot-clubalchemy/2026-07-05/
LOCATION:Alchemy\, 2724 N 21st St\, Superior\, WI\, United States
CATEGORIES:Community Gathering,Discussion Group,Free
ATTACH;FMTTYPE=image/jpeg:https://gottabesuperior.com/wp-content/uploads/2025/01/Tarot-Club.jpg
ORGANIZER;CN="Alchemy":MAILTO:anndreasart@gmail.com
END:VEVENT
BEGIN:VEVENT
DTSTART;TZID=America/Chicago:20260707T100000
DTEND;TZID=America/Chicago:20260707T120000
DTSTAMP:20260419T124950
CREATED:20260108T002501Z
LAST-MODIFIED:20260108T002501Z
UID:10017659-1783418400-1783425600@gottabesuperior.com
SUMMARY:Local History Help @ Superior Public Library - Superior
DESCRIPTION:Are you starting out making a family tree? Curious about local history? Want someone to teach you how to load and operate a microfilm reader? Our local history librarian is available twice a week for drop-in visits helping patrons connect with the local history and genealogical resources available at Superior Public Library.\nDrop in on Tuesdays from 10 a.m. – 12 p.m. and Thursdays from 1-3 p.m. to meet with our local history librarian and get the help you need! No appointment required!
URL:https://gottabesuperior.com/event/local-history-help-superior-public-library-superior/2026-07-07/
LOCATION:Superior Public Library\, 1530 Tower Ave\, Superior\, WI\, 54880\, United States
CATEGORIES:Community Education,Discussion Group,Free,History/Museum
ATTACH;FMTTYPE=image/jpeg:https://gottabesuperior.com/wp-content/uploads/2026/01/Local-History-Help.jpg
END:VEVENT
BEGIN:VEVENT
DTSTART;TZID=America/Chicago:20260714T100000
DTEND;TZID=America/Chicago:20260714T120000
DTSTAMP:20260419T124950
CREATED:20260108T002501Z
LAST-MODIFIED:20260108T002501Z
UID:10017660-1784023200-1784030400@gottabesuperior.com
SUMMARY:Local History Help @ Superior Public Library - Superior
DESCRIPTION:Are you starting out making a family tree? Curious about local history? Want someone to teach you how to load and operate a microfilm reader? Our local history librarian is available twice a week for drop-in visits helping patrons connect with the local history and genealogical resources available at Superior Public Library.\nDrop in on Tuesdays from 10 a.m. – 12 p.m. and Thursdays from 1-3 p.m. to meet with our local history librarian and get the help you need! No appointment required!
URL:https://gottabesuperior.com/event/local-history-help-superior-public-library-superior/2026-07-14/
LOCATION:Superior Public Library\, 1530 Tower Ave\, Superior\, WI\, 54880\, United States
CATEGORIES:Community Education,Discussion Group,Free,History/Museum
ATTACH;FMTTYPE=image/jpeg:https://gottabesuperior.com/wp-content/uploads/2026/01/Local-History-Help.jpg
END:VEVENT
BEGIN:VEVENT
DTSTART;TZID=America/Chicago:20260715T120000
DTEND;TZID=America/Chicago:20260715T150000
DTSTAMP:20260419T124950
CREATED:20251226T182339Z
LAST-MODIFIED:20251226T182339Z
UID:10017436-1784116800-1784127600@gottabesuperior.com
SUMMARY:Antique Appraisals @ St. Louis County Depot - Duluth
DESCRIPTION:Ever wonder if that attic find is a hidden gem? \n\n\nJoin the St. Louis County Historical Society for one of our most beloved programs! Back by popular demand\, we’re hosting our monthly Antique Appraisal Days throughout 2026.\n\n\nExpert appraiser Denny Mager of Northern Specialty will be on-site to provide informal oral identifications and evaluations for your favorite collectibles.\n\n\n Where & When\nLocation: The St. Louis County Depot\, 506 West Michigan Street\, Duluth. This year we’ll be in the Union Lounge (Michigan Street level). Starts at 12:00 PM.\n\n\nRegistration: In-person only. Cut-off is at 2:30 PM.\n\n\n What to Bring\nUp to two items per person.\n\n\nItem too big or fragile to carry? No problem—bring clear photos and a description of any labels or marks instead.\n\n\n 2026 Dates (Third Wednesday of the Month)\nMark your calendars for January 21\, February 18\, March 18\, April 15\, May 20\, June 17\, July 15\, August 19\, September 16\, October 21\, and November 18.\n\n\nNote: All sessions are weather contingent.
URL:https://gottabesuperior.com/event/antique-appraisals-st-louis-county-depot-duluth/2026-07-15/
LOCATION:The Depot\, 506 W Michigan St\, Duluth\, MN\, United States
CATEGORIES:Community Education,Community Gathering,Culture,Discussion Group,Event/Game/Sport Participation,Free,History/Museum
ATTACH;FMTTYPE=image/jpeg:https://gottabesuperior.com/wp-content/uploads/2025/12/Antique-Appraisals.jpg
ORGANIZER;CN="St. Louis County Historical Society":MAILTO:shaela@thehistorypeople.org
END:VEVENT
BEGIN:VEVENT
DTSTART;TZID=America/Chicago:20260721T100000
DTEND;TZID=America/Chicago:20260721T120000
DTSTAMP:20260419T124950
CREATED:20260108T002501Z
LAST-MODIFIED:20260108T002501Z
UID:10017661-1784628000-1784635200@gottabesuperior.com
SUMMARY:Local History Help @ Superior Public Library - Superior
DESCRIPTION:Are you starting out making a family tree? Curious about local history? Want someone to teach you how to load and operate a microfilm reader? Our local history librarian is available twice a week for drop-in visits helping patrons connect with the local history and genealogical resources available at Superior Public Library.\nDrop in on Tuesdays from 10 a.m. – 12 p.m. and Thursdays from 1-3 p.m. to meet with our local history librarian and get the help you need! No appointment required!
URL:https://gottabesuperior.com/event/local-history-help-superior-public-library-superior/2026-07-21/
LOCATION:Superior Public Library\, 1530 Tower Ave\, Superior\, WI\, 54880\, United States
CATEGORIES:Community Education,Discussion Group,Free,History/Museum
ATTACH;FMTTYPE=image/jpeg:https://gottabesuperior.com/wp-content/uploads/2026/01/Local-History-Help.jpg
END:VEVENT
BEGIN:VEVENT
DTSTART;TZID=America/Chicago:20260723T080000
DTEND;TZID=America/Chicago:20260723T160000
DTSTAMP:20260419T124950
CREATED:20260306T193029Z
LAST-MODIFIED:20260306T193931Z
UID:10018754-1784793600-1784822400@gottabesuperior.com
SUMMARY:Wisconsin Public Education Network 12th Annual Summer Summit - Superior High School - Superior
DESCRIPTION:Join Wisconsin Public Education Network for the public education advocacy event of the year! \nOur 12th Annual Summer Summit will be hosted by School District of Superior at Superior High School on Friday\, July 24\, 2026. Come for a full day of learning\, networking\, and action-focused strategizing with public education champions from every corner of Wisconsin and beyond—join us to make statewide connections and walk away with new skills and information to advocate for students in your community! \nWe encourage you to join us for a welcome reception on Thursday\, July 23 and at the Summit at Superior High School and post-Summit celebration on Friday\, July 24. \nLearn more & register at www.WisconsinNetwork.org/Summit! \nhttps://www.wisconsinnetwork.org/summit?fbclid=IwY2xjawQYDCJleHRuA2FlbQIxMABicmlkETFhekVpNVhWUWFoUWQ2ZGlMc3J0YwZhcHBfaWQQMjIyMDM5MTc4ODIwMDg5MgABHhU7M9S3K8OamFbN8VHjyTpIQm37DkcGqQT-ZmQkxjYfiy95Z7VJGx0CjfBU_aem_fymOpp7xzzZ-DGHKVXxkEA
URL:https://gottabesuperior.com/event/wisconsin-public-education-network-12th-annual-summer-summit-superior-high-school-superior/2026-07-23/
LOCATION:Superior High School\, 2600 Catlin Ave\, Superior\, WI\, United States
CATEGORIES:Community Education,Community Gathering,Discussion Group,Meet/Greet,Registration Required
ATTACH;FMTTYPE=image/png:https://gottabesuperior.com/wp-content/uploads/2026/03/Summer-Summit-Event-Graphic.png
ORGANIZER;CN="Tessa Maglio":MAILTO:tessa@wisconsinnetwork.org
END:VEVENT
BEGIN:VEVENT
DTSTART;TZID=America/Chicago:20260724T080000
DTEND;TZID=America/Chicago:20260724T160000
DTSTAMP:20260419T124950
CREATED:20260306T193029Z
LAST-MODIFIED:20260306T193931Z
UID:10018755-1784880000-1784908800@gottabesuperior.com
SUMMARY:Wisconsin Public Education Network 12th Annual Summer Summit - Superior High School - Superior
DESCRIPTION:Join Wisconsin Public Education Network for the public education advocacy event of the year! \nOur 12th Annual Summer Summit will be hosted by School District of Superior at Superior High School on Friday\, July 24\, 2026. Come for a full day of learning\, networking\, and action-focused strategizing with public education champions from every corner of Wisconsin and beyond—join us to make statewide connections and walk away with new skills and information to advocate for students in your community! \nWe encourage you to join us for a welcome reception on Thursday\, July 23 and at the Summit at Superior High School and post-Summit celebration on Friday\, July 24. \nLearn more & register at www.WisconsinNetwork.org/Summit! \nhttps://www.wisconsinnetwork.org/summit?fbclid=IwY2xjawQYDCJleHRuA2FlbQIxMABicmlkETFhekVpNVhWUWFoUWQ2ZGlMc3J0YwZhcHBfaWQQMjIyMDM5MTc4ODIwMDg5MgABHhU7M9S3K8OamFbN8VHjyTpIQm37DkcGqQT-ZmQkxjYfiy95Z7VJGx0CjfBU_aem_fymOpp7xzzZ-DGHKVXxkEA
URL:https://gottabesuperior.com/event/wisconsin-public-education-network-12th-annual-summer-summit-superior-high-school-superior/2026-07-24/
LOCATION:Superior High School\, 2600 Catlin Ave\, Superior\, WI\, United States
CATEGORIES:Community Education,Community Gathering,Discussion Group,Meet/Greet,Registration Required
ATTACH;FMTTYPE=image/png:https://gottabesuperior.com/wp-content/uploads/2026/03/Summer-Summit-Event-Graphic.png
ORGANIZER;CN="Tessa Maglio":MAILTO:tessa@wisconsinnetwork.org
END:VEVENT
BEGIN:VEVENT
DTSTART;TZID=America/Chicago:20260728T100000
DTEND;TZID=America/Chicago:20260728T120000
DTSTAMP:20260419T124950
CREATED:20260108T002501Z
LAST-MODIFIED:20260108T002501Z
UID:10017662-1785232800-1785240000@gottabesuperior.com
SUMMARY:Local History Help @ Superior Public Library - Superior
DESCRIPTION:Are you starting out making a family tree? Curious about local history? Want someone to teach you how to load and operate a microfilm reader? Our local history librarian is available twice a week for drop-in visits helping patrons connect with the local history and genealogical resources available at Superior Public Library.\nDrop in on Tuesdays from 10 a.m. – 12 p.m. and Thursdays from 1-3 p.m. to meet with our local history librarian and get the help you need! No appointment required!
URL:https://gottabesuperior.com/event/local-history-help-superior-public-library-superior/2026-07-28/
LOCATION:Superior Public Library\, 1530 Tower Ave\, Superior\, WI\, 54880\, United States
CATEGORIES:Community Education,Discussion Group,Free,History/Museum
ATTACH;FMTTYPE=image/jpeg:https://gottabesuperior.com/wp-content/uploads/2026/01/Local-History-Help.jpg
END:VEVENT
END:VCALENDAR