BEGIN:VCALENDAR
VERSION:2.0
PRODID:-//Gotta Be Superior - ECPv6.15.18//NONSGML v1.0//EN
CALSCALE:GREGORIAN
METHOD:PUBLISH
X-WR-CALNAME:Gotta Be Superior
X-ORIGINAL-URL:https://gottabesuperior.com
X-WR-CALDESC:Events for Gotta Be Superior
REFRESH-INTERVAL;VALUE=DURATION:PT1H
X-Robots-Tag:noindex
X-PUBLISHED-TTL:PT1H
BEGIN:VTIMEZONE
TZID:America/Chicago
BEGIN:DAYLIGHT
TZOFFSETFROM:-0600
TZOFFSETTO:-0500
TZNAME:CDT
DTSTART:20250309T080000
END:DAYLIGHT
BEGIN:STANDARD
TZOFFSETFROM:-0500
TZOFFSETTO:-0600
TZNAME:CST
DTSTART:20251102T070000
END:STANDARD
BEGIN:DAYLIGHT
TZOFFSETFROM:-0600
TZOFFSETTO:-0500
TZNAME:CDT
DTSTART:20260308T080000
END:DAYLIGHT
BEGIN:STANDARD
TZOFFSETFROM:-0500
TZOFFSETTO:-0600
TZNAME:CST
DTSTART:20261101T070000
END:STANDARD
BEGIN:DAYLIGHT
TZOFFSETFROM:-0600
TZOFFSETTO:-0500
TZNAME:CDT
DTSTART:20270314T080000
END:DAYLIGHT
BEGIN:STANDARD
TZOFFSETFROM:-0500
TZOFFSETTO:-0600
TZNAME:CST
DTSTART:20271107T070000
END:STANDARD
END:VTIMEZONE
BEGIN:VEVENT
DTSTART;TZID=America/Chicago:20261002T080000
DTEND;TZID=America/Chicago:20261002T170000
DTSTAMP:20260419T173434
CREATED:20260319T165701Z
LAST-MODIFIED:20260319T165701Z
UID:10018844-1790928000-1790960400@gottabesuperior.com
SUMMARY:Project New Hope: Military Family Retreats @ Various Locations
DESCRIPTION:This retreat offers veterans and their family members education\, training\, and skills necessary to manage their lives after wartime service.\n\n\nProviders from the VA Health Care system will be in attendance to offer assistance and support to veterans and their families. All retreat attendees must pay a $50 refundable deposit\, which is refunded after they attend the retreat.\nMay 1-3  Camp Shetek – Slayton MN\nJune 5-7  Osprey Wilds – Sandstone MN\nOctober 2-4  Good Earth Village – Spring Valley MN\nDecember 4-6   Faith Haven Camp – Battle Lake MN
URL:https://gottabesuperior.com/event/project-new-hope-military-family-retreats-various-locations/2026-10-02/
LOCATION:Various locations\, Superior\, WI\, 54880\, United States
CATEGORIES:Community Education,Community Gathering,Culture,Discussion Group,Event/Game/Sport Participation,Free,Kids & Family,Veterans
ATTACH;FMTTYPE=image/jpeg:https://gottabesuperior.com/wp-content/uploads/2026/03/Project-New-Hope.jpg
END:VEVENT
BEGIN:VEVENT
DTSTART;TZID=America/Chicago:20261006T100000
DTEND;TZID=America/Chicago:20261006T120000
DTSTAMP:20260419T173434
CREATED:20260108T002501Z
LAST-MODIFIED:20260108T002501Z
UID:10017672-1791280800-1791288000@gottabesuperior.com
SUMMARY:Local History Help @ Superior Public Library - Superior
DESCRIPTION:Are you starting out making a family tree? Curious about local history? Want someone to teach you how to load and operate a microfilm reader? Our local history librarian is available twice a week for drop-in visits helping patrons connect with the local history and genealogical resources available at Superior Public Library.\nDrop in on Tuesdays from 10 a.m. – 12 p.m. and Thursdays from 1-3 p.m. to meet with our local history librarian and get the help you need! No appointment required!
URL:https://gottabesuperior.com/event/local-history-help-superior-public-library-superior/2026-10-06/
LOCATION:Superior Public Library\, 1530 Tower Ave\, Superior\, WI\, 54880\, United States
CATEGORIES:Community Education,Discussion Group,Free,History/Museum
ATTACH;FMTTYPE=image/jpeg:https://gottabesuperior.com/wp-content/uploads/2026/01/Local-History-Help.jpg
END:VEVENT
BEGIN:VEVENT
DTSTART;TZID=America/Chicago:20261013T100000
DTEND;TZID=America/Chicago:20261013T120000
DTSTAMP:20260419T173434
CREATED:20260108T002501Z
LAST-MODIFIED:20260108T002501Z
UID:10017673-1791885600-1791892800@gottabesuperior.com
SUMMARY:Local History Help @ Superior Public Library - Superior
DESCRIPTION:Are you starting out making a family tree? Curious about local history? Want someone to teach you how to load and operate a microfilm reader? Our local history librarian is available twice a week for drop-in visits helping patrons connect with the local history and genealogical resources available at Superior Public Library.\nDrop in on Tuesdays from 10 a.m. – 12 p.m. and Thursdays from 1-3 p.m. to meet with our local history librarian and get the help you need! No appointment required!
URL:https://gottabesuperior.com/event/local-history-help-superior-public-library-superior/2026-10-13/
LOCATION:Superior Public Library\, 1530 Tower Ave\, Superior\, WI\, 54880\, United States
CATEGORIES:Community Education,Discussion Group,Free,History/Museum
ATTACH;FMTTYPE=image/jpeg:https://gottabesuperior.com/wp-content/uploads/2026/01/Local-History-Help.jpg
END:VEVENT
BEGIN:VEVENT
DTSTART;TZID=America/Chicago:20261020T100000
DTEND;TZID=America/Chicago:20261020T120000
DTSTAMP:20260419T173434
CREATED:20260108T002501Z
LAST-MODIFIED:20260108T002501Z
UID:10017674-1792490400-1792497600@gottabesuperior.com
SUMMARY:Local History Help @ Superior Public Library - Superior
DESCRIPTION:Are you starting out making a family tree? Curious about local history? Want someone to teach you how to load and operate a microfilm reader? Our local history librarian is available twice a week for drop-in visits helping patrons connect with the local history and genealogical resources available at Superior Public Library.\nDrop in on Tuesdays from 10 a.m. – 12 p.m. and Thursdays from 1-3 p.m. to meet with our local history librarian and get the help you need! No appointment required!
URL:https://gottabesuperior.com/event/local-history-help-superior-public-library-superior/2026-10-20/
LOCATION:Superior Public Library\, 1530 Tower Ave\, Superior\, WI\, 54880\, United States
CATEGORIES:Community Education,Discussion Group,Free,History/Museum
ATTACH;FMTTYPE=image/jpeg:https://gottabesuperior.com/wp-content/uploads/2026/01/Local-History-Help.jpg
END:VEVENT
BEGIN:VEVENT
DTSTART;TZID=America/Chicago:20261021T120000
DTEND;TZID=America/Chicago:20261021T150000
DTSTAMP:20260419T173434
CREATED:20251226T182339Z
LAST-MODIFIED:20251226T182339Z
UID:10017439-1792584000-1792594800@gottabesuperior.com
SUMMARY:Antique Appraisals @ St. Louis County Depot - Duluth
DESCRIPTION:Ever wonder if that attic find is a hidden gem? \n\n\nJoin the St. Louis County Historical Society for one of our most beloved programs! Back by popular demand\, we’re hosting our monthly Antique Appraisal Days throughout 2026.\n\n\nExpert appraiser Denny Mager of Northern Specialty will be on-site to provide informal oral identifications and evaluations for your favorite collectibles.\n\n\n Where & When\nLocation: The St. Louis County Depot\, 506 West Michigan Street\, Duluth. This year we’ll be in the Union Lounge (Michigan Street level). Starts at 12:00 PM.\n\n\nRegistration: In-person only. Cut-off is at 2:30 PM.\n\n\n What to Bring\nUp to two items per person.\n\n\nItem too big or fragile to carry? No problem—bring clear photos and a description of any labels or marks instead.\n\n\n 2026 Dates (Third Wednesday of the Month)\nMark your calendars for January 21\, February 18\, March 18\, April 15\, May 20\, June 17\, July 15\, August 19\, September 16\, October 21\, and November 18.\n\n\nNote: All sessions are weather contingent.
URL:https://gottabesuperior.com/event/antique-appraisals-st-louis-county-depot-duluth/2026-10-21/
LOCATION:The Depot\, 506 W Michigan St\, Duluth\, MN\, United States
CATEGORIES:Community Education,Community Gathering,Culture,Discussion Group,Event/Game/Sport Participation,Free,History/Museum
ATTACH;FMTTYPE=image/jpeg:https://gottabesuperior.com/wp-content/uploads/2025/12/Antique-Appraisals.jpg
ORGANIZER;CN="St. Louis County Historical Society":MAILTO:shaela@thehistorypeople.org
END:VEVENT
BEGIN:VEVENT
DTSTART;TZID=America/Chicago:20261027T100000
DTEND;TZID=America/Chicago:20261027T120000
DTSTAMP:20260419T173434
CREATED:20260108T002501Z
LAST-MODIFIED:20260108T002501Z
UID:10017675-1793095200-1793102400@gottabesuperior.com
SUMMARY:Local History Help @ Superior Public Library - Superior
DESCRIPTION:Are you starting out making a family tree? Curious about local history? Want someone to teach you how to load and operate a microfilm reader? Our local history librarian is available twice a week for drop-in visits helping patrons connect with the local history and genealogical resources available at Superior Public Library.\nDrop in on Tuesdays from 10 a.m. – 12 p.m. and Thursdays from 1-3 p.m. to meet with our local history librarian and get the help you need! No appointment required!
URL:https://gottabesuperior.com/event/local-history-help-superior-public-library-superior/2026-10-27/
LOCATION:Superior Public Library\, 1530 Tower Ave\, Superior\, WI\, 54880\, United States
CATEGORIES:Community Education,Discussion Group,Free,History/Museum
ATTACH;FMTTYPE=image/jpeg:https://gottabesuperior.com/wp-content/uploads/2026/01/Local-History-Help.jpg
END:VEVENT
END:VCALENDAR