BEGIN:VCALENDAR
VERSION:2.0
PRODID:-//Gotta Be Superior - ECPv6.15.18//NONSGML v1.0//EN
CALSCALE:GREGORIAN
METHOD:PUBLISH
X-WR-CALNAME:Gotta Be Superior
X-ORIGINAL-URL:https://gottabesuperior.com
X-WR-CALDESC:Events for Gotta Be Superior
REFRESH-INTERVAL;VALUE=DURATION:PT1H
X-Robots-Tag:noindex
X-PUBLISHED-TTL:PT1H
BEGIN:VTIMEZONE
TZID:America/Chicago
BEGIN:DAYLIGHT
TZOFFSETFROM:-0600
TZOFFSETTO:-0500
TZNAME:CDT
DTSTART:20250309T080000
END:DAYLIGHT
BEGIN:STANDARD
TZOFFSETFROM:-0500
TZOFFSETTO:-0600
TZNAME:CST
DTSTART:20251102T070000
END:STANDARD
BEGIN:DAYLIGHT
TZOFFSETFROM:-0600
TZOFFSETTO:-0500
TZNAME:CDT
DTSTART:20260308T080000
END:DAYLIGHT
BEGIN:STANDARD
TZOFFSETFROM:-0500
TZOFFSETTO:-0600
TZNAME:CST
DTSTART:20261101T070000
END:STANDARD
BEGIN:DAYLIGHT
TZOFFSETFROM:-0600
TZOFFSETTO:-0500
TZNAME:CDT
DTSTART:20270314T080000
END:DAYLIGHT
BEGIN:STANDARD
TZOFFSETFROM:-0500
TZOFFSETTO:-0600
TZNAME:CST
DTSTART:20271107T070000
END:STANDARD
END:VTIMEZONE
BEGIN:VEVENT
DTSTART;TZID=America/Chicago:20260421T100000
DTEND;TZID=America/Chicago:20260421T120000
DTSTAMP:20260420T085025
CREATED:20260108T002501Z
LAST-MODIFIED:20260108T002501Z
UID:10017648-1776765600-1776772800@gottabesuperior.com
SUMMARY:Local History Help @ Superior Public Library - Superior
DESCRIPTION:Are you starting out making a family tree? Curious about local history? Want someone to teach you how to load and operate a microfilm reader? Our local history librarian is available twice a week for drop-in visits helping patrons connect with the local history and genealogical resources available at Superior Public Library.\nDrop in on Tuesdays from 10 a.m. – 12 p.m. and Thursdays from 1-3 p.m. to meet with our local history librarian and get the help you need! No appointment required!
URL:https://gottabesuperior.com/event/local-history-help-superior-public-library-superior/2026-04-21/
LOCATION:Superior Public Library\, 1530 Tower Ave\, Superior\, WI\, 54880\, United States
CATEGORIES:Community Education,Discussion Group,Free,History/Museum
ATTACH;FMTTYPE=image/jpeg:https://gottabesuperior.com/wp-content/uploads/2026/01/Local-History-Help.jpg
END:VEVENT
BEGIN:VEVENT
DTSTART;TZID=America/Chicago:20260422T110000
DTEND;TZID=America/Chicago:20260426T200000
DTSTAMP:20260420T085025
CREATED:20260129T211939Z
LAST-MODIFIED:20260129T211939Z
UID:10018070-1776855600-1777233600@gottabesuperior.com
SUMMARY:Zeitgeist  Minnesota Film Festival @ Duluth Locations
DESCRIPTION:Zeitgeist Minnesota Film Festival (ZMFF) will take place April 22 – 26\, 2026 in person at Zeitgeist Center for Arts and Community and surrounding venues in Duluth\, MN!\nZMFF will consist of a variety of local\, national\, and international films\, post-film conversations and Q&As with filmmakers\, and grant cash awards.\nZeitgeist’s Minnesota Film Festival is passionate about programming films from filmmakers that are working in their own communities. We are excited about films that are being made with limited budgets\, from small towns\, and from resourceful filmmakers.We focus on highlighting filmmakers and stories from Minnesota\, Wisconsin\, and the greater Midwest.\nZMFF All Access Pass Prices:\nEarly bird\, December 2 – February 20 – $80Regular\, February 21 – April 26 – $100Student – $35Individual Ticket Prices:\n$15 Regular Screenings$20 Special Screenings (Opening Night\, Friday Feature Focus\, Saturday Spotlight Screening)$40 Awards Ceremony & Party$12 – $20 Other Special EventsIndividual tickets to screenings and events will be available to reserve beginning April 1\, 2026. Passholders will have access to reserve tickets beginning March 25\, 2026.\nFollow link for tickets    https://prod3.agileticketing.net/websales/pages/membershipinfo.aspx?meminfo=572%7E3caba887-6339-4d39-ba50-c59f41657671&epguid=5bf9942c-0741-4626-9935-7c198b5d6109&&fbclid=IwY2xjawPorSBleHRuA2FlbQIxMABicmlkETFWdVBJYVpOUkVCR1RtSTI1c3J0YwZhcHBfaWQQMjIyMDM5MTc4ODIwMDg5MgABHs6CUXbNYLRJf1xoiEgYi5qQlqQSs-Q3Ol0qvQAPT7U4XacpoDwYAHyODUqg_aem_bbqvOJZg89xbRlngzmbo0A
URL:https://gottabesuperior.com/event/zeitgeist-minnesota-film-festival-duluth-locations/
LOCATION:Duluth Locations\, Duluth\, MN\, United States
CATEGORIES:Art,Community Gathering,Discussion Group,Event/Game/Sports Spectator,Festivals,Movies/Film
ATTACH;FMTTYPE=image/jpeg:https://gottabesuperior.com/wp-content/uploads/2026/01/622914528_1477416474386003_8352291842663011149_n.jpg
ORGANIZER;CN="Zeitgeist Minnesota Film Festival":MAILTO:mff@zeitgeistarts.com
END:VEVENT
BEGIN:VEVENT
DTSTART;TZID=America/Chicago:20260423T103000
DTEND;TZID=America/Chicago:20260423T120000
DTSTAMP:20260420T085025
CREATED:20260414T174325Z
LAST-MODIFIED:20260414T174325Z
UID:10019064-1776940200-1776945600@gottabesuperior.com
SUMMARY:Genealogy for Beginners @ Superior Public Library - Superior
DESCRIPTION:Genealogy for Beginners is a series of free classes led by Marie Mattson\, Certified Professional Genealogist®.\nLearn how to research & discover your ancestors! Sessions begin Thursday\, April 16 and will continue every Thursday through May 7!\nUpcoming topics include:Thursday\, April 16: What Is Genealogy? How To Avoid Common PitfallsThursday\, April 23: FamilySearch & The U.S. CensusThursday\, April 30: DNA: How It Can Help Trace Elusive AncestorsThursday\, May 7: Breaking Down Brick Walls: Using FamilySearch & the Wisconsin Historical Society Website\nSessions will begin at 10:30 a.m. and run for approximately 1 1/2 hours. No registration is required.
URL:https://gottabesuperior.com/event/genealogy-for-beginners-superior-public-library-superior/2026-04-23/
LOCATION:Superior Public Library\, 1530 Tower Ave\, Superior\, WI\, 54880\, United States
CATEGORIES:Community Education,Discussion Group,Event/Game/Sport Participation,Free
ATTACH;FMTTYPE=image/jpeg:https://gottabesuperior.com/wp-content/uploads/2026/04/Geneology.jpg
END:VEVENT
BEGIN:VEVENT
DTSTART;TZID=America/Chicago:20260424T110000
DTEND;TZID=America/Chicago:20260424T170000
DTSTAMP:20260420T085025
CREATED:20260304T174130Z
LAST-MODIFIED:20260306T164058Z
UID:10018723-1777028400-1777050000@gottabesuperior.com
SUMMARY:Take Back the Night 2026 @ KindredHeart - Superior
DESCRIPTION:Take Back the Night brings awareness to the sexual and domestic violence that many people\, especially women\, have experienced. Take Back the Night began in the 1970s with a Tribunal Council meeting in Belgium attended by 2000+ women representing 40+ countries protesting the lack of safety women experience walking the streets at night. In 2024 Wisconsin experienced 110 domestic violence related deaths\, the ages of this range from infanthood-81 years old. This means that Wisconsin is experiencing a death from domestic violence every 3.7 days.\nThis is Superior\, WI’s second ever Take Back the Night against sexual and domestic violence. Let’s make it amazing! KindredHeart is welcoming several non-profit organizations and looking for artists and creators to vend for our event for a good cause. Contact Mikinzie at 218.590.6377 or email at readingsbykls@gmail.com for more details.\nLet’s End the Darkness\, Embrace the Light. Empower Women.\nTake Back the Night 2026!
URL:https://gottabesuperior.com/event/take-back-the-night-2026-kindredheart-superior/
LOCATION:Kindred Heart\, 820 Tower Ave\, Superior\, WI\, United States
CATEGORIES:Art,Community Education,Community Gathering,Discussion Group,Food & Drink,Free,Fundraiser,Markets/Sales,Open Mic
ATTACH;FMTTYPE=image/jpeg:https://gottabesuperior.com/wp-content/uploads/2026/03/615356196_122200116506360996_8631298242428860378_n.jpg
ORGANIZER;CN="MIKINZIE SCHILLING":MAILTO:mikinzieschilling@gmail.com
END:VEVENT
BEGIN:VEVENT
DTSTART;TZID=America/Chicago:20260425T110000
DTEND;TZID=America/Chicago:20260425T150000
DTSTAMP:20260420T085025
CREATED:20260401T173229Z
LAST-MODIFIED:20260401T173229Z
UID:10018891-1777114800-1777129200@gottabesuperior.com
SUMMARY:The Rhythm of Her @ St. Scholastica Somers Lounge - Duluth
DESCRIPTION:Putting on a women’s health immersion that covers the essential in understanding and supporting your female body — cycles\, hormones\, pregnancy\, postpartum\, perimenopause\, menopause\, and the nervous system changes underneath all of it.\n\n\nAnd raising money to build something lasting for this community.\n\n\nThe Northland Holistic Collective is working to establish a real\, registered directory of alternative and integrative health practitioners in the Twin Ports.\n\n\nEvery ticket to The Rhythm of Her goes toward making that real.\n\n\nApril 25th | CSS Somers Lounge\, Duluth | 11am–3pm\n$30–60 | Sliding scale\n\n\n Links in bio — register and payment both there\nTag someone who’s been looking for this kind of community.
URL:https://gottabesuperior.com/event/the-rhythm-of-her-st-scholastica-somers-lounge-duluth/
LOCATION:CSS Somers Lounge\, 1200 Kenwood Ave\, Duluth\, MN\, United States
CATEGORIES:Community Education,Community Gathering,Discussion Group,Event/Game/Sport Participation,Event/Game/Sports Spectator,Fundraiser
ATTACH;FMTTYPE=image/jpeg:https://gottabesuperior.com/wp-content/uploads/2026/04/rhythm.jpg
ORGANIZER;CN="Northland Holistic Collective":MAILTO:northlandholisticcollective@gmail.com
END:VEVENT
BEGIN:VEVENT
DTSTART;TZID=America/Chicago:20260430T180000
DTEND;TZID=America/Chicago:20260430T190000
DTSTAMP:20260420T085025
CREATED:20260328T013055Z
LAST-MODIFIED:20260328T013055Z
UID:10018875-1777572000-1777575600@gottabesuperior.com
SUMMARY:Page Turners Book Club: "Good Dirt" by Charmaine Wilkerson @ Superior Public Library - Superior
DESCRIPTION:Join our Page Turners Book Club and enjoy lively discussion with other eager readers! Our book selection for April is Good Dirt by Charmaine Wilkerson\, a moving novel about the daughter of an affluent Black family who pieces together the connection between a childhood tragedy and a beloved heirloom.\nBook club will meet April 2 at 10:30 a.m. and April 30 at 6 p.m. Please pick the time that works best for your schedule. Request a copy of the book using our online catalog or by calling the library.\nIf you’d like to participate virtually from home\, please email mehlel@superiorlibrary.org for more information.
URL:https://gottabesuperior.com/event/page-turners-book-club-good-dirt-by-charmaine-wilkerson-superior-public-library-superior/2026-04-30/
LOCATION:Superior Public Library\, 1530 Tower Ave\, Superior\, WI\, 54880\, United States
CATEGORIES:Book Club/Discussion,Community Gathering,Discussion Group,Free
ATTACH;FMTTYPE=image/jpeg:https://gottabesuperior.com/wp-content/uploads/2026/03/Good-Dirt.jpg
END:VEVENT
BEGIN:VEVENT
DTSTART;TZID=America/Chicago:20260501T080000
DTEND;TZID=America/Chicago:20260503T170000
DTSTAMP:20260420T085025
CREATED:20260319T165701Z
LAST-MODIFIED:20260319T165701Z
UID:10018842-1777622400-1777827600@gottabesuperior.com
SUMMARY:Project New Hope: Military Family Retreats @ Various Locations
DESCRIPTION:This retreat offers veterans and their family members education\, training\, and skills necessary to manage their lives after wartime service.\n\n\nProviders from the VA Health Care system will be in attendance to offer assistance and support to veterans and their families. All retreat attendees must pay a $50 refundable deposit\, which is refunded after they attend the retreat.\nMay 1-3  Camp Shetek – Slayton MN\nJune 5-7  Osprey Wilds – Sandstone MN\nOctober 2-4  Good Earth Village – Spring Valley MN\nDecember 4-6   Faith Haven Camp – Battle Lake MN
URL:https://gottabesuperior.com/event/project-new-hope-military-family-retreats-various-locations/2026-05-01/
LOCATION:Various locations\, Superior\, WI\, 54880\, United States
CATEGORIES:Community Education,Community Gathering,Culture,Discussion Group,Event/Game/Sport Participation,Free,Kids & Family,Veterans
ATTACH;FMTTYPE=image/jpeg:https://gottabesuperior.com/wp-content/uploads/2026/03/Project-New-Hope.jpg
END:VEVENT
BEGIN:VEVENT
DTSTART;TZID=America/Chicago:20260503T100000
DTEND;TZID=America/Chicago:20260503T110000
DTSTAMP:20260420T085025
CREATED:20250109T023755Z
LAST-MODIFIED:20250329T183949Z
UID:10013001-1777802400-1777806000@gottabesuperior.com
SUMMARY:Tarot Club @ Alchemy
DESCRIPTION:Tarot Club is for everyone! (Newbies to Advanced Readers)  \nAnd\, FREE. \nThe club explores topics and methods together. \nNote: Your own deck is helpful to have for visuals. A tarot journal would be pretty awesome too 😉
URL:https://gottabesuperior.com/event/tarot-clubalchemy/2026-05-03/
LOCATION:Alchemy\, 2724 N 21st St\, Superior\, WI\, United States
CATEGORIES:Community Gathering,Discussion Group,Free
ATTACH;FMTTYPE=image/jpeg:https://gottabesuperior.com/wp-content/uploads/2025/01/Tarot-Club.jpg
ORGANIZER;CN="Alchemy":MAILTO:anndreasart@gmail.com
END:VEVENT
BEGIN:VEVENT
DTSTART;TZID=America/Chicago:20260508T080000
DTEND;TZID=America/Chicago:20260509T170000
DTSTAMP:20260420T085025
CREATED:20260228T151206Z
LAST-MODIFIED:20260228T151206Z
UID:10018702-1778227200-1778346000@gottabesuperior.com
SUMMARY:Cryptids\, Anomalies and Paranormal Convention @ Fond Du Lac WI
DESCRIPTION:This year our event will feature room for over 40 vendors ALL INDOORS\, TWO Speaker rooms\, Workshops/Classes\, a Psychic Gallery Reading\, and a Bigfoot Expedition!\nThe 2026 Cryptids\, Anomalies\, and Paranormal Convention comes to you May 9th 2026\, doors open at 10am!\nPresented by:Cryptids\, Anomalies\, and the Paranormal Society\nSponsored By:Phantasm ParanormalSasquatch’s Variety Shop – Princeton\, WIHanger 1 PublishingUrban Cryptids\n\nSpeaker Line ups(SUBJECT TO CHANGE WITHOUT NOTIFICATION)\nSpeaker Room #1#111:00AM Jay Bachochin – Wisconsin Bigfoot – The Kettle Connection\n12:00 PM Lee Hampel – Wisconsin’s Skinwalker Ranch – Beast of Bray Road\n1:00 PM LUNCH BREAK\n2:00 PM Terry Cullen – First hand witness of the Minnesota iceman\n3:00 PM Tobias Wayland – Great Lakes Mothman phenomenon\n4:00 PM Ken Gerhard – Cryptids of the Seas & Lakes\n7:00 PM Terry Flick – Psychic Gallery Reading\nSpeaker Room #2#2\n10:30 AM Christopher Duncan – Remote Viewing & Expedition Bigfoot\n11:30 AM Lauren Smith – Little Footers\n12:00 PM Kelly Milner Halls – Research and kids\n12:30 PM Jeff Finup – Urban Legends for Kids\n1:30 PM LUNCH BREAK\n2:30 PM UFO/UAP Pannel\nHost: Jeff Finup with Dustin Schutta\, Jeremy Socha\,  Zach Skrede\, Ian DeGraff\n3:30 PM Larry Eissler III – Scariest Locations Expedition Entity\n4:30 PM Sylvia Shults – Paranormal Vacation\n6:00 PM Kristina Bloom SEANCE\nWORKSHOPS:(Additional Fees Apply)10:00 AM – Casting make and take – with Dan Nedrelo\n11:00 AM – Spirit Photography: Spirits\, Dust\, and You! with Larry Eissler III\n12:00 PM – Everyday Tools for Spirit Communication & Energetic Protection with Ellie Weisensel\n1:00 PM LUNCH\n2:00 PM – Survival 101 “Don’t die in the Woods” with Chris McCreary\n3:00 PM – The Science of the Paranormal with Barnaby Jones\n5:00 PM – Remote Viewing Workshop – with Christopher Duncan\nVIRTUAL TICKETS:\nThe event will NOT be LIVE streamed\, but we will be uploading all presentations for later viewing to those who purchase a Virtual Ticket or a VIP ticket! \nfollow link for tickets    https://events.ticketleap.com/tickets/cryptids-anomalies-and-the-paranormal-society/wisconsin-cryptids-anomalies-and-paranormal-convention-capcon-2026-1370766566?fbclid=IwY2xjawQP5ChleHRuA2FlbQIxMABicmlkETFhY0pQN2owWUs1NkREMzNic3J0YwZhcHBfaWQQMjIyMDM5MTc4ODIwMDg5MgABHp4sdPSZNekv3qeHhl5VETI2R2dQfY7XrqX-N-WTPiZ-g04yWOfEmaPQ8AlE_aem_zD_8FMtfV3Xj8hOnSLPw3A
URL:https://gottabesuperior.com/event/cryptids-anomalies-and-paranormal-convention-fond-du-lac-wi/
LOCATION:Radisson Hotel and Conference Center\, 625 W Rolling Meadows Dr.\, Fond du Lac\, 54937\, United States
CATEGORIES:Community Education,Community Gathering,Culture,Discussion Group,Event/Game/Sport Participation,Event/Game/Sports Spectator,Festivals,Kids & Family,Live Entertainment,Markets/Sales,Meet/Greet
ATTACH;FMTTYPE=image/jpeg:https://gottabesuperior.com/wp-content/uploads/2026/02/8-x-11-poster-scaled.jpg
ORGANIZER;CN="CAPS":MAILTO:wisconsincaps@gmail.com
END:VEVENT
BEGIN:VEVENT
DTSTART;TZID=America/Chicago:20260520T120000
DTEND;TZID=America/Chicago:20260520T150000
DTSTAMP:20260420T085025
CREATED:20251226T182339Z
LAST-MODIFIED:20251226T182339Z
UID:10017434-1779278400-1779289200@gottabesuperior.com
SUMMARY:Antique Appraisals @ St. Louis County Depot - Duluth
DESCRIPTION:Ever wonder if that attic find is a hidden gem? \n\n\nJoin the St. Louis County Historical Society for one of our most beloved programs! Back by popular demand\, we’re hosting our monthly Antique Appraisal Days throughout 2026.\n\n\nExpert appraiser Denny Mager of Northern Specialty will be on-site to provide informal oral identifications and evaluations for your favorite collectibles.\n\n\n Where & When\nLocation: The St. Louis County Depot\, 506 West Michigan Street\, Duluth. This year we’ll be in the Union Lounge (Michigan Street level). Starts at 12:00 PM.\n\n\nRegistration: In-person only. Cut-off is at 2:30 PM.\n\n\n What to Bring\nUp to two items per person.\n\n\nItem too big or fragile to carry? No problem—bring clear photos and a description of any labels or marks instead.\n\n\n 2026 Dates (Third Wednesday of the Month)\nMark your calendars for January 21\, February 18\, March 18\, April 15\, May 20\, June 17\, July 15\, August 19\, September 16\, October 21\, and November 18.\n\n\nNote: All sessions are weather contingent.
URL:https://gottabesuperior.com/event/antique-appraisals-st-louis-county-depot-duluth/2026-05-20/
LOCATION:The Depot\, 506 W Michigan St\, Duluth\, MN\, United States
CATEGORIES:Community Education,Community Gathering,Culture,Discussion Group,Event/Game/Sport Participation,Free,History/Museum
ATTACH;FMTTYPE=image/jpeg:https://gottabesuperior.com/wp-content/uploads/2025/12/Antique-Appraisals.jpg
ORGANIZER;CN="St. Louis County Historical Society":MAILTO:shaela@thehistorypeople.org
END:VEVENT
BEGIN:VEVENT
DTSTART;TZID=America/Chicago:20260607T100000
DTEND;TZID=America/Chicago:20260607T110000
DTSTAMP:20260420T085025
CREATED:20250109T023755Z
LAST-MODIFIED:20250329T183949Z
UID:10013002-1780826400-1780830000@gottabesuperior.com
SUMMARY:Tarot Club @ Alchemy
DESCRIPTION:Tarot Club is for everyone! (Newbies to Advanced Readers)  \nAnd\, FREE. \nThe club explores topics and methods together. \nNote: Your own deck is helpful to have for visuals. A tarot journal would be pretty awesome too 😉
URL:https://gottabesuperior.com/event/tarot-clubalchemy/2026-06-07/
LOCATION:Alchemy\, 2724 N 21st St\, Superior\, WI\, United States
CATEGORIES:Community Gathering,Discussion Group,Free
ATTACH;FMTTYPE=image/jpeg:https://gottabesuperior.com/wp-content/uploads/2025/01/Tarot-Club.jpg
ORGANIZER;CN="Alchemy":MAILTO:anndreasart@gmail.com
END:VEVENT
BEGIN:VEVENT
DTSTART;TZID=America/Chicago:20260705T100000
DTEND;TZID=America/Chicago:20260705T110000
DTSTAMP:20260420T085025
CREATED:20250109T023755Z
LAST-MODIFIED:20250329T183949Z
UID:10013003-1783245600-1783249200@gottabesuperior.com
SUMMARY:Tarot Club @ Alchemy
DESCRIPTION:Tarot Club is for everyone! (Newbies to Advanced Readers)  \nAnd\, FREE. \nThe club explores topics and methods together. \nNote: Your own deck is helpful to have for visuals. A tarot journal would be pretty awesome too 😉
URL:https://gottabesuperior.com/event/tarot-clubalchemy/2026-07-05/
LOCATION:Alchemy\, 2724 N 21st St\, Superior\, WI\, United States
CATEGORIES:Community Gathering,Discussion Group,Free
ATTACH;FMTTYPE=image/jpeg:https://gottabesuperior.com/wp-content/uploads/2025/01/Tarot-Club.jpg
ORGANIZER;CN="Alchemy":MAILTO:anndreasart@gmail.com
END:VEVENT
BEGIN:VEVENT
DTSTART;TZID=America/Chicago:20260723T080000
DTEND;TZID=America/Chicago:20260723T160000
DTSTAMP:20260420T085025
CREATED:20260306T193029Z
LAST-MODIFIED:20260306T193931Z
UID:10018754-1784793600-1784822400@gottabesuperior.com
SUMMARY:Wisconsin Public Education Network 12th Annual Summer Summit - Superior High School - Superior
DESCRIPTION:Join Wisconsin Public Education Network for the public education advocacy event of the year! \nOur 12th Annual Summer Summit will be hosted by School District of Superior at Superior High School on Friday\, July 24\, 2026. Come for a full day of learning\, networking\, and action-focused strategizing with public education champions from every corner of Wisconsin and beyond—join us to make statewide connections and walk away with new skills and information to advocate for students in your community! \nWe encourage you to join us for a welcome reception on Thursday\, July 23 and at the Summit at Superior High School and post-Summit celebration on Friday\, July 24. \nLearn more & register at www.WisconsinNetwork.org/Summit! \nhttps://www.wisconsinnetwork.org/summit?fbclid=IwY2xjawQYDCJleHRuA2FlbQIxMABicmlkETFhekVpNVhWUWFoUWQ2ZGlMc3J0YwZhcHBfaWQQMjIyMDM5MTc4ODIwMDg5MgABHhU7M9S3K8OamFbN8VHjyTpIQm37DkcGqQT-ZmQkxjYfiy95Z7VJGx0CjfBU_aem_fymOpp7xzzZ-DGHKVXxkEA
URL:https://gottabesuperior.com/event/wisconsin-public-education-network-12th-annual-summer-summit-superior-high-school-superior/2026-07-23/
LOCATION:Superior High School\, 2600 Catlin Ave\, Superior\, WI\, United States
CATEGORIES:Community Education,Community Gathering,Discussion Group,Meet/Greet,Registration Required
ATTACH;FMTTYPE=image/png:https://gottabesuperior.com/wp-content/uploads/2026/03/Summer-Summit-Event-Graphic.png
ORGANIZER;CN="Tessa Maglio":MAILTO:tessa@wisconsinnetwork.org
END:VEVENT
BEGIN:VEVENT
DTSTART;TZID=America/Chicago:20260802T100000
DTEND;TZID=America/Chicago:20260802T110000
DTSTAMP:20260420T085025
CREATED:20250109T023755Z
LAST-MODIFIED:20250329T183949Z
UID:10013004-1785664800-1785668400@gottabesuperior.com
SUMMARY:Tarot Club @ Alchemy
DESCRIPTION:Tarot Club is for everyone! (Newbies to Advanced Readers)  \nAnd\, FREE. \nThe club explores topics and methods together. \nNote: Your own deck is helpful to have for visuals. A tarot journal would be pretty awesome too 😉
URL:https://gottabesuperior.com/event/tarot-clubalchemy/2026-08-02/
LOCATION:Alchemy\, 2724 N 21st St\, Superior\, WI\, United States
CATEGORIES:Community Gathering,Discussion Group,Free
ATTACH;FMTTYPE=image/jpeg:https://gottabesuperior.com/wp-content/uploads/2025/01/Tarot-Club.jpg
ORGANIZER;CN="Alchemy":MAILTO:anndreasart@gmail.com
END:VEVENT
BEGIN:VEVENT
DTSTART;TZID=America/Chicago:20260906T100000
DTEND;TZID=America/Chicago:20260906T110000
DTSTAMP:20260420T085025
CREATED:20250109T023755Z
LAST-MODIFIED:20250329T183949Z
UID:10013005-1788688800-1788692400@gottabesuperior.com
SUMMARY:Tarot Club @ Alchemy
DESCRIPTION:Tarot Club is for everyone! (Newbies to Advanced Readers)  \nAnd\, FREE. \nThe club explores topics and methods together. \nNote: Your own deck is helpful to have for visuals. A tarot journal would be pretty awesome too 😉
URL:https://gottabesuperior.com/event/tarot-clubalchemy/2026-09-06/
LOCATION:Alchemy\, 2724 N 21st St\, Superior\, WI\, United States
CATEGORIES:Community Gathering,Discussion Group,Free
ATTACH;FMTTYPE=image/jpeg:https://gottabesuperior.com/wp-content/uploads/2025/01/Tarot-Club.jpg
ORGANIZER;CN="Alchemy":MAILTO:anndreasart@gmail.com
END:VEVENT
END:VCALENDAR