BEGIN:VCALENDAR
VERSION:2.0
PRODID:-//Gotta Be Superior - ECPv6.15.18//NONSGML v1.0//EN
CALSCALE:GREGORIAN
METHOD:PUBLISH
X-WR-CALNAME:Gotta Be Superior
X-ORIGINAL-URL:https://gottabesuperior.com
X-WR-CALDESC:Events for Gotta Be Superior
REFRESH-INTERVAL;VALUE=DURATION:PT1H
X-Robots-Tag:noindex
X-PUBLISHED-TTL:PT1H
BEGIN:VTIMEZONE
TZID:America/Chicago
BEGIN:DAYLIGHT
TZOFFSETFROM:-0600
TZOFFSETTO:-0500
TZNAME:CDT
DTSTART:20250309T080000
END:DAYLIGHT
BEGIN:STANDARD
TZOFFSETFROM:-0500
TZOFFSETTO:-0600
TZNAME:CST
DTSTART:20251102T070000
END:STANDARD
BEGIN:DAYLIGHT
TZOFFSETFROM:-0600
TZOFFSETTO:-0500
TZNAME:CDT
DTSTART:20260308T080000
END:DAYLIGHT
BEGIN:STANDARD
TZOFFSETFROM:-0500
TZOFFSETTO:-0600
TZNAME:CST
DTSTART:20261101T070000
END:STANDARD
BEGIN:DAYLIGHT
TZOFFSETFROM:-0600
TZOFFSETTO:-0500
TZNAME:CDT
DTSTART:20270314T080000
END:DAYLIGHT
BEGIN:STANDARD
TZOFFSETFROM:-0500
TZOFFSETTO:-0600
TZNAME:CST
DTSTART:20271107T070000
END:STANDARD
END:VTIMEZONE
BEGIN:VEVENT
DTSTART;TZID=America/Chicago:20260505T100000
DTEND;TZID=America/Chicago:20260505T140000
DTSTAMP:20260419T120404
CREATED:20260414T181819Z
LAST-MODIFIED:20260414T181819Z
UID:10019069-1777975200-1777989600@gottabesuperior.com
SUMMARY:Click & Learn Device Help @ Superior Public Library - Superior
DESCRIPTION:Need some help with your smartphone\, tablet\, or laptop? Make an appointment with CLICK & Learn Digital Navigator Ethan Compton and learn more about how technology can make your life better!\nEthan visits Superior Public Library on the first\, second\, and last Tuesday of the month from 10 a.m. to 2 p.m. Upcoming dates are April 14\, 28\, May 5\, 12\, 26\, June 2\, 9\, 23\, & 30.\nNo library card required. Laptop checkouts are also available.\nClick here to make an appointment to meet with Ethan at Superior Public Library: https://calendar.app.google/GgBuJT7FX6vDgZ978
URL:https://gottabesuperior.com/event/click-learn-device-help-superior-public-library-superior/2026-05-05/
LOCATION:Superior Public Library\, 1530 Tower Ave\, Superior\, WI\, 54880\, United States
CATEGORIES:Community Education,DIY Clinic,Event/Game/Sport Participation,Registration Required
ATTACH;FMTTYPE=image/jpeg:https://gottabesuperior.com/wp-content/uploads/2026/04/Click-and-learn.jpg
END:VEVENT
BEGIN:VEVENT
DTSTART;TZID=America/Chicago:20260509T100000
DTEND;TZID=America/Chicago:20260509T150000
DTSTAMP:20260419T120404
CREATED:20260415T013909Z
LAST-MODIFIED:20260415T013909Z
UID:10019097-1778320800-1778338800@gottabesuperior.com
SUMMARY:Create Fused Garden Art @ Shannon's Stained Glassery - Superior
DESCRIPTION:05-09-26 Fused Garden ArtSaturday 10:00am – 3:00pmAdd a splash of color and glass to your yard or garden with a lovely Garden Stake! There are many patterns and shapes to choose from\, starting with your stake to your glass art. Create as many stakes as you can in this fun summer class. Your class fee includes instruction and kiln firing\, all materials are extra.Price: $75.00\nRegistration – Your registration in any class is secured upon receipt of full payment of your class fee. If you need to cancel we need at least 7 days advance notice. With 7 days notice\, you will receive store credit for your tuition. Otherwise\, you will forfeit the tuition. In the event of class cancellation you will receive a full refund or can be applied to your account or another class. Our class minimum is 4 students and maximum enrollment is 8 for most classes.\nfollow link to register    https://checkout.square.site/merchant/RZVWBMX9QD3M3/checkout/HXQEE65ZYSBQLVIMK722GVPL?fbclid=IwY2xjawRLyvhleHRuA2FlbQIxMABicmlkETFIWm9SdHlEdkh0QjZXUktWc3J0YwZhcHBfaWQQMjIyMDM5MTc4ODIwMDg5MgABHqJB8NkF9PS4ZJPAiQokme2mlHt4mUT3-nviTstX52jv7k3dJDANvZm7exi2_aem_KSwZ_EoYhn5RDGjV88HZSw
URL:https://gottabesuperior.com/event/create-fused-garden-art-shannons-stained-glassery-superior/
LOCATION:Shannon’s Stained Glassery\, 5904 TOWER AVE\, Superior\, 54880\, United States
CATEGORIES:Art,Community Education,Community Gathering,DIY Clinic,Event/Game/Sport Participation,Makers Class
ATTACH;FMTTYPE=image/jpeg:https://gottabesuperior.com/wp-content/uploads/2026/04/Garden-Art.jpg
ORGANIZER;CN="Shannon's Stained Glassery":MAILTO:SHANNONSSTAINEDGLASSERY@GMAIL.COM
END:VEVENT
BEGIN:VEVENT
DTSTART;TZID=America/Chicago:20260512T100000
DTEND;TZID=America/Chicago:20260512T140000
DTSTAMP:20260419T120404
CREATED:20260414T181819Z
LAST-MODIFIED:20260414T181819Z
UID:10019070-1778580000-1778594400@gottabesuperior.com
SUMMARY:Click & Learn Device Help @ Superior Public Library - Superior
DESCRIPTION:Need some help with your smartphone\, tablet\, or laptop? Make an appointment with CLICK & Learn Digital Navigator Ethan Compton and learn more about how technology can make your life better!\nEthan visits Superior Public Library on the first\, second\, and last Tuesday of the month from 10 a.m. to 2 p.m. Upcoming dates are April 14\, 28\, May 5\, 12\, 26\, June 2\, 9\, 23\, & 30.\nNo library card required. Laptop checkouts are also available.\nClick here to make an appointment to meet with Ethan at Superior Public Library: https://calendar.app.google/GgBuJT7FX6vDgZ978
URL:https://gottabesuperior.com/event/click-learn-device-help-superior-public-library-superior/2026-05-12/
LOCATION:Superior Public Library\, 1530 Tower Ave\, Superior\, WI\, 54880\, United States
CATEGORIES:Community Education,DIY Clinic,Event/Game/Sport Participation,Registration Required
ATTACH;FMTTYPE=image/jpeg:https://gottabesuperior.com/wp-content/uploads/2026/04/Click-and-learn.jpg
END:VEVENT
BEGIN:VEVENT
DTSTART;TZID=America/Chicago:20260526T100000
DTEND;TZID=America/Chicago:20260526T140000
DTSTAMP:20260419T120404
CREATED:20260414T181819Z
LAST-MODIFIED:20260414T181819Z
UID:10019071-1779789600-1779804000@gottabesuperior.com
SUMMARY:Click & Learn Device Help @ Superior Public Library - Superior
DESCRIPTION:Need some help with your smartphone\, tablet\, or laptop? Make an appointment with CLICK & Learn Digital Navigator Ethan Compton and learn more about how technology can make your life better!\nEthan visits Superior Public Library on the first\, second\, and last Tuesday of the month from 10 a.m. to 2 p.m. Upcoming dates are April 14\, 28\, May 5\, 12\, 26\, June 2\, 9\, 23\, & 30.\nNo library card required. Laptop checkouts are also available.\nClick here to make an appointment to meet with Ethan at Superior Public Library: https://calendar.app.google/GgBuJT7FX6vDgZ978
URL:https://gottabesuperior.com/event/click-learn-device-help-superior-public-library-superior/2026-05-26/
LOCATION:Superior Public Library\, 1530 Tower Ave\, Superior\, WI\, 54880\, United States
CATEGORIES:Community Education,DIY Clinic,Event/Game/Sport Participation,Registration Required
ATTACH;FMTTYPE=image/jpeg:https://gottabesuperior.com/wp-content/uploads/2026/04/Click-and-learn.jpg
END:VEVENT
BEGIN:VEVENT
DTSTART;TZID=America/Chicago:20260530T103000
DTEND;TZID=America/Chicago:20260530T143000
DTSTAMP:20260419T120404
CREATED:20260415T015607Z
LAST-MODIFIED:20260415T015607Z
UID:10019099-1780137000-1780151400@gottabesuperior.com
SUMMARY:Create Stepping Stones @ Shannon's Stained Glassery - Superior
DESCRIPTION:05-30-26 Stepping StonesSaturday 10:30 am – 2:30 pmHow does your garden grow? By adding glass! In this class you will create an 8″ square stepping stone using colorful stained glass. Choose from several patterns\, including simple designs for beginners and more detailed options for those with glass-cutting experience. The class fee includes the concrete\, molds\, and use of studio tools. Glass materials are additional. Beginners are welcome!Price: $55.00\nRegistration – Your registration in any class is secured upon receipt of full payment of your class fee. If you need to cancel we need at least 7 days advance notice. With 7 days notice\, you will receive store credit for your tuition. Otherwise\, you will forfeit the tuition. In the event of class cancellation you will receive a full refund or can be applied to your account or another class. Our class minimum is 4 students and maximum enrollment is 8 for most classes.\nfollow link to register    https://checkout.square.site/merchant/RZVWBMX9QD3M3/checkout/S5WQTNHKNCHJRS5MZQS2TFSK?fbclid=IwY2xjawRLzhVleHRuA2FlbQIxMABicmlkETFIWm9SdHlEdkh0QjZXUktWc3J0YwZhcHBfaWQQMjIyMDM5MTc4ODIwMDg5MgABHl_TvkXbRf6IGkFAgopztf5TIawvRLhDcVwbJ7g-KrJk0tp3lHYaraKuOWia_aem_SACb_WaV-9jBn_vYDaCieA
URL:https://gottabesuperior.com/event/create-stepping-stones-shannons-stained-glassery-superior/
LOCATION:Shannon’s Stained Glassery\, 5904 TOWER AVE\, Superior\, 54880\, United States
CATEGORIES:Art,Community Education,Community Gathering,DIY Clinic,Event/Game/Sport Participation,Makers Class
ATTACH;FMTTYPE=image/jpeg:https://gottabesuperior.com/wp-content/uploads/2026/04/stepping-stone.jpg
ORGANIZER;CN="Shannon's Stained Glassery":MAILTO:SHANNONSSTAINEDGLASSERY@GMAIL.COM
END:VEVENT
END:VCALENDAR