BEGIN:VCALENDAR
VERSION:2.0
PRODID:-//Gotta Be Superior - ECPv6.15.18//NONSGML v1.0//EN
CALSCALE:GREGORIAN
METHOD:PUBLISH
X-WR-CALNAME:Gotta Be Superior
X-ORIGINAL-URL:https://gottabesuperior.com
X-WR-CALDESC:Events for Gotta Be Superior
REFRESH-INTERVAL;VALUE=DURATION:PT1H
X-Robots-Tag:noindex
X-PUBLISHED-TTL:PT1H
BEGIN:VTIMEZONE
TZID:America/Chicago
BEGIN:DAYLIGHT
TZOFFSETFROM:-0600
TZOFFSETTO:-0500
TZNAME:CDT
DTSTART:20250309T080000
END:DAYLIGHT
BEGIN:STANDARD
TZOFFSETFROM:-0500
TZOFFSETTO:-0600
TZNAME:CST
DTSTART:20251102T070000
END:STANDARD
BEGIN:DAYLIGHT
TZOFFSETFROM:-0600
TZOFFSETTO:-0500
TZNAME:CDT
DTSTART:20260308T080000
END:DAYLIGHT
BEGIN:STANDARD
TZOFFSETFROM:-0500
TZOFFSETTO:-0600
TZNAME:CST
DTSTART:20261101T070000
END:STANDARD
BEGIN:DAYLIGHT
TZOFFSETFROM:-0600
TZOFFSETTO:-0500
TZNAME:CDT
DTSTART:20270314T080000
END:DAYLIGHT
BEGIN:STANDARD
TZOFFSETFROM:-0500
TZOFFSETTO:-0600
TZNAME:CST
DTSTART:20271107T070000
END:STANDARD
END:VTIMEZONE
BEGIN:VEVENT
DTSTART;TZID=America/Chicago:20260504T173000
DTEND;TZID=America/Chicago:20260504T200000
DTSTAMP:20260419T115812
CREATED:20260319T160630Z
LAST-MODIFIED:20260319T160630Z
UID:10018837-1777915800-1777924800@gottabesuperior.com
SUMMARY:Nature & Glass @ Shannon's Stained Glassary - Superior
DESCRIPTION:05-04-26 Nature and GlassMondays 5:30 – 8:00 (3 weeks)Our popular intermediate course returns—this time with an option to create a one-of-a-kind project crafted just for your garden. Combine beautiful head glass\, non-traditional materials and decorative soldering to create amazing contemporary panels. You will learn custom pattern preparation and tricks to stabilize a non-rectangular shape to create a one of a kind piece of glass art. Class is 3 sessions\, fee is $85 and materials are extra. Prior stained glass experience is required.Price: $85.00 \nfollow link for registration  https://shop-shannonsstainedglassery.square.site/product/classfee/98?fbclid=IwY2xjawQo_cpleHRuA2FlbQIxMABicmlkETFkTE93WWR5MGtJN2RCOFVac3J0YwZhcHBfaWQQMjIyMDM5MTc4ODIwMDg5MgABHo7g1m9LtLUiE5jXYeMA8SY7bJ_YSQKJa-VY8DhsM5XfX_ftGdPAGLwS5rZj_aem_XTuBrEX4QyB8tXAI43QK8Q
URL:https://gottabesuperior.com/event/nature-glass-shannons-stained-glassary-superior/
LOCATION:Shannon’s Stained Glassery\, 5904 TOWER AVE\, Superior\, 54880\, United States
CATEGORIES:Art,Community Education,Event/Game/Sport Participation,Makers Class
ATTACH;FMTTYPE=image/jpeg:https://gottabesuperior.com/wp-content/uploads/2026/03/Natureandglass.jpg
ORGANIZER;CN="Shannon's Stained Glassery":MAILTO:SHANNONSSTAINEDGLASSERY@GMAIL.COM
END:VEVENT
BEGIN:VEVENT
DTSTART;TZID=America/Chicago:20260506T173000
DTEND;TZID=America/Chicago:20260506T200000
DTSTAMP:20260419T115812
CREATED:20260415T013425Z
LAST-MODIFIED:20260415T013425Z
UID:10019096-1778088600-1778097600@gottabesuperior.com
SUMMARY:Create a Mosaic Picture @ Shannon's Stained Glassery - Superior
DESCRIPTION:05-06-26 Mosaic PictureWednesdays 5:30 – 8:00 (4 weeks)Ready to dive into the dazzling world of mosaic art? Join our hands-on workshop and master every step\, from bringing your design visions to life\, to precision mosaic cutting\, and finally\, perfecting your masterpiece with professional grouting techniques. Your $100 class fee covers expert instruction and all the grout you’ll need. Stained Glass experience is required and materials are extraPrice: $100.00\nRegistration – Your registration in any class is secured upon receipt of full payment of your class fee. If you need to cancel we need at least 7 days advance notice. With 7 days notice\, you will receive store credit for your tuition. Otherwise\, you will forfeit the tuition. In the event of class cancellation you will receive a full refund or can be applied to your account or another class. Our class minimum is 4 students and maximum enrollment is 8 for most classes.\nfollow link to register    https://checkout.square.site/merchant/RZVWBMX9QD3M3/checkout/ONN3QYZRIZCJ52CYL5KLVLQP?fbclid=IwY2xjawRLyYJleHRuA2FlbQIxMABicmlkETFIWm9SdHlEdkh0QjZXUktWc3J0YwZhcHBfaWQQMjIyMDM5MTc4ODIwMDg5MgABHosHmgO0dopbxYgth3pRhawl6YpFPwv-4zDgkXEFiMyGF4T8QSQKVssFgeGn_aem_LdMaESWVaqdbL3PMNKY1xw
URL:https://gottabesuperior.com/event/create-a-mosaic-picture-shannons-stained-glassery-superior/
LOCATION:Shannon’s Stained Glassery\, 5904 TOWER AVE\, Superior\, 54880\, United States
CATEGORIES:Art,Community Education,Community Gathering,Event/Game/Sport Participation,Makers Class
ATTACH;FMTTYPE=image/jpeg:https://gottabesuperior.com/wp-content/uploads/2026/04/mosaic.jpg
ORGANIZER;CN="Shannon's Stained Glassery":MAILTO:SHANNONSSTAINEDGLASSERY@GMAIL.COM
END:VEVENT
BEGIN:VEVENT
DTSTART;TZID=America/Chicago:20260509T100000
DTEND;TZID=America/Chicago:20260509T150000
DTSTAMP:20260419T115812
CREATED:20260415T013909Z
LAST-MODIFIED:20260415T013909Z
UID:10019097-1778320800-1778338800@gottabesuperior.com
SUMMARY:Create Fused Garden Art @ Shannon's Stained Glassery - Superior
DESCRIPTION:05-09-26 Fused Garden ArtSaturday 10:00am – 3:00pmAdd a splash of color and glass to your yard or garden with a lovely Garden Stake! There are many patterns and shapes to choose from\, starting with your stake to your glass art. Create as many stakes as you can in this fun summer class. Your class fee includes instruction and kiln firing\, all materials are extra.Price: $75.00\nRegistration – Your registration in any class is secured upon receipt of full payment of your class fee. If you need to cancel we need at least 7 days advance notice. With 7 days notice\, you will receive store credit for your tuition. Otherwise\, you will forfeit the tuition. In the event of class cancellation you will receive a full refund or can be applied to your account or another class. Our class minimum is 4 students and maximum enrollment is 8 for most classes.\nfollow link to register    https://checkout.square.site/merchant/RZVWBMX9QD3M3/checkout/HXQEE65ZYSBQLVIMK722GVPL?fbclid=IwY2xjawRLyvhleHRuA2FlbQIxMABicmlkETFIWm9SdHlEdkh0QjZXUktWc3J0YwZhcHBfaWQQMjIyMDM5MTc4ODIwMDg5MgABHqJB8NkF9PS4ZJPAiQokme2mlHt4mUT3-nviTstX52jv7k3dJDANvZm7exi2_aem_KSwZ_EoYhn5RDGjV88HZSw
URL:https://gottabesuperior.com/event/create-fused-garden-art-shannons-stained-glassery-superior/
LOCATION:Shannon’s Stained Glassery\, 5904 TOWER AVE\, Superior\, 54880\, United States
CATEGORIES:Art,Community Education,Community Gathering,DIY Clinic,Event/Game/Sport Participation,Makers Class
ATTACH;FMTTYPE=image/jpeg:https://gottabesuperior.com/wp-content/uploads/2026/04/Garden-Art.jpg
ORGANIZER;CN="Shannon's Stained Glassery":MAILTO:SHANNONSSTAINEDGLASSERY@GMAIL.COM
END:VEVENT
BEGIN:VEVENT
DTSTART;TZID=America/Chicago:20260516T100000
DTEND;TZID=America/Chicago:20260516T150000
DTSTAMP:20260419T115812
CREATED:20260415T014804Z
LAST-MODIFIED:20260415T014804Z
UID:10019098-1778925600-1778943600@gottabesuperior.com
SUMMARY:Create a Stained Glass Terrarium @ Shannon's Stained Glassery - Superior
DESCRIPTION:05-16-26 Stained Glass TerrariumSaturday 10:00am – 3:00pmCreate your own beautiful little world in a beveled terrarium. In class you will learn to assemble bevels into this 3D sparkly miniature garden and will be given tips on how to fill it. Your class fee of $50 includes instruction and chemicals. Stained Glass experience is required and don’t forget to bring your foil and solder!Price: $50.00\nRegistration – Your registration in any class is secured upon receipt of full payment of your class fee. If you need to cancel we need at least 7 days advance notice. With 7 days notice\, you will receive store credit for your tuition. Otherwise\, you will forfeit the tuition. In the event of class cancellation you will receive a full refund or can be applied to your account or another class. Our class minimum is 4 students and maximum enrollment is 8 for most classes.\nfollow link to register  https://checkout.square.site/merchant/RZVWBMX9QD3M3/checkout/GUQ26CGHPLVELDLR2V5WJ2HL?fbclid=IwY2xjawRLzPZleHRuA2FlbQIxMABicmlkETFIWm9SdHlEdkh0QjZXUktWc3J0YwZhcHBfaWQQMjIyMDM5MTc4ODIwMDg5MgABHl_TvkXbRf6IGkFAgopztf5TIawvRLhDcVwbJ7g-KrJk0tp3lHYaraKuOWia_aem_SACb_WaV-9jBn_vYDaCieA
URL:https://gottabesuperior.com/event/create-a-stained-glass-terrarium-shannons-stained-glassery-superior/
LOCATION:Shannon’s Stained Glassery\, 5904 TOWER AVE\, Superior\, 54880\, United States
CATEGORIES:Art,Community Education,Community Gathering,Event/Game/Sport Participation,Makers Class
ATTACH;FMTTYPE=image/jpeg:https://gottabesuperior.com/wp-content/uploads/2026/04/terrarium.jpg
ORGANIZER;CN="Shannon's Stained Glassery":MAILTO:SHANNONSSTAINEDGLASSERY@GMAIL.COM
END:VEVENT
BEGIN:VEVENT
DTSTART;TZID=America/Chicago:20260530T103000
DTEND;TZID=America/Chicago:20260530T143000
DTSTAMP:20260419T115812
CREATED:20260415T015607Z
LAST-MODIFIED:20260415T015607Z
UID:10019099-1780137000-1780151400@gottabesuperior.com
SUMMARY:Create Stepping Stones @ Shannon's Stained Glassery - Superior
DESCRIPTION:05-30-26 Stepping StonesSaturday 10:30 am – 2:30 pmHow does your garden grow? By adding glass! In this class you will create an 8″ square stepping stone using colorful stained glass. Choose from several patterns\, including simple designs for beginners and more detailed options for those with glass-cutting experience. The class fee includes the concrete\, molds\, and use of studio tools. Glass materials are additional. Beginners are welcome!Price: $55.00\nRegistration – Your registration in any class is secured upon receipt of full payment of your class fee. If you need to cancel we need at least 7 days advance notice. With 7 days notice\, you will receive store credit for your tuition. Otherwise\, you will forfeit the tuition. In the event of class cancellation you will receive a full refund or can be applied to your account or another class. Our class minimum is 4 students and maximum enrollment is 8 for most classes.\nfollow link to register    https://checkout.square.site/merchant/RZVWBMX9QD3M3/checkout/S5WQTNHKNCHJRS5MZQS2TFSK?fbclid=IwY2xjawRLzhVleHRuA2FlbQIxMABicmlkETFIWm9SdHlEdkh0QjZXUktWc3J0YwZhcHBfaWQQMjIyMDM5MTc4ODIwMDg5MgABHl_TvkXbRf6IGkFAgopztf5TIawvRLhDcVwbJ7g-KrJk0tp3lHYaraKuOWia_aem_SACb_WaV-9jBn_vYDaCieA
URL:https://gottabesuperior.com/event/create-stepping-stones-shannons-stained-glassery-superior/
LOCATION:Shannon’s Stained Glassery\, 5904 TOWER AVE\, Superior\, 54880\, United States
CATEGORIES:Art,Community Education,Community Gathering,DIY Clinic,Event/Game/Sport Participation,Makers Class
ATTACH;FMTTYPE=image/jpeg:https://gottabesuperior.com/wp-content/uploads/2026/04/stepping-stone.jpg
ORGANIZER;CN="Shannon's Stained Glassery":MAILTO:SHANNONSSTAINEDGLASSERY@GMAIL.COM
END:VEVENT
END:VCALENDAR