BEGIN:VCALENDAR
VERSION:2.0
PRODID:-//Gotta Be Superior - ECPv6.15.18//NONSGML v1.0//EN
CALSCALE:GREGORIAN
METHOD:PUBLISH
X-ORIGINAL-URL:https://gottabesuperior.com
X-WR-CALDESC:Events for Gotta Be Superior
REFRESH-INTERVAL;VALUE=DURATION:PT1H
X-Robots-Tag:noindex
X-PUBLISHED-TTL:PT1H
BEGIN:VTIMEZONE
TZID:America/Chicago
BEGIN:DAYLIGHT
TZOFFSETFROM:-0600
TZOFFSETTO:-0500
TZNAME:CDT
DTSTART:20250309T080000
END:DAYLIGHT
BEGIN:STANDARD
TZOFFSETFROM:-0500
TZOFFSETTO:-0600
TZNAME:CST
DTSTART:20251102T070000
END:STANDARD
BEGIN:DAYLIGHT
TZOFFSETFROM:-0600
TZOFFSETTO:-0500
TZNAME:CDT
DTSTART:20260308T080000
END:DAYLIGHT
BEGIN:STANDARD
TZOFFSETFROM:-0500
TZOFFSETTO:-0600
TZNAME:CST
DTSTART:20261101T070000
END:STANDARD
BEGIN:DAYLIGHT
TZOFFSETFROM:-0600
TZOFFSETTO:-0500
TZNAME:CDT
DTSTART:20270314T080000
END:DAYLIGHT
BEGIN:STANDARD
TZOFFSETFROM:-0500
TZOFFSETTO:-0600
TZNAME:CST
DTSTART:20271107T070000
END:STANDARD
END:VTIMEZONE
BEGIN:VEVENT
DTSTART;TZID=America/Chicago:20260418T130000
DTEND;TZID=America/Chicago:20260418T153000
DTSTAMP:20260420T101705
CREATED:20260220T001111Z
LAST-MODIFIED:20260220T001111Z
UID:10018535-1776517200-1776526200@gottabesuperior.com
SUMMARY:Abstract Animal Paint Class w/ Nana's Paint Nook @ Hank's Sports Bar & Grill - Scanlon
DESCRIPTION:Join us to paint your favorite Pet in an Abstract Way! You will be sending me a “clear” pic of your favorite animal to paintnook@hotmail.com. At the event you will transform that pic to a colorful abstract work of art. All supplies will be provided. NET PROCEEDS from this event will go to benefit the building fund for Carlton Co Animal Rescue. There will also be paint kits for purchase with part of those proceeds to go to Carlton Co Animal Rescue. Cash or Venmo please for those items.\nHanks has graciously provided an area for us and you will be able to order food/drink. (Your cost) Please come a few minutes early to order your food so we can all start promptly at p1m.\nDon’t forget to email me your pic or you won’t have anything to paint that nite!\nNo refunds. Min. age is 10 yrs old.\nfollow link to register  https://www.nanaspaintnook.com/event-details/abstract-animal-paint-class-fundraiser-for-carlton-co-animal-rescue?fbclid=IwY2xjawQEhM1leHRuA2FlbQIxMABicmlkETI3VFZiVTZ6U1FIanZZR05Jc3J0YwZhcHBfaWQQMjIyMDM5MTc4ODIwMDg5MgABHkOCntkrJoxgyeh0jS6Hfitpgov8etUqsR_ZPN2nRGEtr3WESxwvQd7_lQza_aem_1FQtJwn_033MoG7okRhpkA
URL:https://gottabesuperior.com/event/abstract-animal-paint-class-w-nanas-paint-nook-hanks-sports-bar-grill-scanlon/
LOCATION:Hank’s Bar & Grill\, 1306 MN-45\, Scanlon\, MN\, United States
CATEGORIES:Animal Benefit,Art,Community Education,Community Gathering,Event/Game/Sport Participation,Fundraiser,Makers Class,Registration Required
ATTACH;FMTTYPE=image/jpeg:https://gottabesuperior.com/wp-content/uploads/2026/02/633897651_965115945864765_1797068178751636252_n.jpg
ORGANIZER;CN="Nannas Paint Nook%3A Noreen Knight%2C":MAILTO:paintnook@hotmail.com
END:VEVENT
BEGIN:VEVENT
DTSTART;TZID=America/Chicago:20260415T180000
DTEND;TZID=America/Chicago:20260415T200000
DTSTAMP:20260420T101705
CREATED:20260317T192532Z
LAST-MODIFIED:20260317T192532Z
UID:10018829-1776276000-1776283200@gottabesuperior.com
SUMMARY:Black Light Paint Event w/Nana's Paint Nook @ Aces of 29th - Superior
DESCRIPTION:This Paint Class is bold. This one is neon. This one is gonna be FUN!\nGrab some friends and make this a “Girls Nite”!\nJoin us for a Black Light Paint Party where your artwork literally comes to life under glowing lights. You choice is 4 different scenes. We’ll guide you step by step using high-impact fluorescent paints that pop in the dark.\nNo experience needed. Just show up ready to glow. Enjoy a meal/apps/drinks while you paint (Your cost)\nNo refunds!\nfollow link for tickets  https://www.nanaspaintnook.com/event-details/black-light-paint-event-at-aces-on-29th-in-superior?fbclid=IwY2xjawQmiXVleHRuA2FlbQIxMABicmlkETFlMlBrRXdiYnRNdW1FUkd1c3J0YwZhcHBfaWQQMjIyMDM5MTc4ODIwMDg5MgABHlWcaOjXKD47A6kMwjeW-EjGoeRsoW48kQymtrgLI2doRkVdgIGz7Qbw8803_aem_-SBiDiVi3lmJdJByv7lvQw
URL:https://gottabesuperior.com/event/black-light-paint-event-w-nanas-paint-nook-aces-of-29th-superior/
LOCATION:Aces on 29th\, 2827 Oakes Ave\, Superior\, WI\, 54880\, United States
CATEGORIES:Art,Community Gathering,Event/Game/Sport Participation,Makers Class
ATTACH;FMTTYPE=image/jpeg:https://gottabesuperior.com/wp-content/uploads/2026/03/blacklight.jpg
ORGANIZER;CN="Nannas Paint Nook%3A Noreen Knight%2C":MAILTO:paintnook@hotmail.com
END:VEVENT
BEGIN:VEVENT
DTSTART;TZID=America/Chicago:20260411T103000
DTEND;TZID=America/Chicago:20260411T143000
DTSTAMP:20260420T101705
CREATED:20260314T155601Z
LAST-MODIFIED:20260314T155601Z
UID:10018771-1775903400-1775917800@gottabesuperior.com
SUMMARY:Create a Flutter Vase @ Shannon's Stained Glassery - Superior
DESCRIPTION:04-11-26 Flutter VaseSaturday 10:30am – 2:30pmGet creative with glass! In this fused glass class\, we’ll use butterflies as inspiration to craft colorful vases. Experiment with various glass forms and techniques to bring nature’s beauty to life. Includes instruction\, kiln firing\, and all materials. No experience needed!Price: $85.00
URL:https://gottabesuperior.com/event/create-a-flutter-vase-shannons-stained-glassery-superior/
LOCATION:Shannon’s Stained Glassery\, 5904 TOWER AVE\, Superior\, 54880\, United States
CATEGORIES:Art,Community Education,Event/Game/Sport Participation,Makers Class
ATTACH;FMTTYPE=image/jpeg:https://gottabesuperior.com/wp-content/uploads/2026/03/649252769_1527160416081260_1734530825686212477_n.jpg
ORGANIZER;CN="Shannon's Stained Glassery":MAILTO:SHANNONSSTAINEDGLASSERY@GMAIL.COM
END:VEVENT
BEGIN:VEVENT
DTSTART;TZID=America/Chicago:20260406T173000
DTEND;TZID=America/Chicago:20260406T200000
DTSTAMP:20260420T101705
CREATED:20260319T160240Z
LAST-MODIFIED:20260319T160240Z
UID:10018836-1775496600-1775505600@gottabesuperior.com
SUMMARY:Lead Came Class @ Shannon's Stained Glassary - Superior
DESCRIPTION:04-06-26 Lead CameMondays 5:30pm – 8:00pm (3 weeks\, 4/6\, 4/13 and 4/20)This class is designed to teach you the techniques of lead came including pattern preparation\, safety\, cutting the Lead Came and soldering it together. You will leave with a finished leaded panel. Please choose your glass and bevels prior to class to save time on class day. Several pattern to choose from depending on skill level. Prerequisite is Beginning Stained Glass; great for all levels of Lead Came knowledge. Class fee is $85 and materials are extra.Price: $85.00 \nfollow link for registration  https://shop-shannonsstainedglassery.square.site/product/classfee/98?fbclid=IwY2xjawQo_OhleHRuA2FlbQIxMABicmlkETFkTE93WWR5MGtJN2RCOFVac3J0YwZhcHBfaWQQMjIyMDM5MTc4ODIwMDg5MgABHojvdu3C-BqzwhhCTBqZtJhj9ixNdZe_Uh-AmoD1BwQeaqZnFm_nu2_B9AqW_aem_ukOnjozXUVN7MbPgTlwzMw
URL:https://gottabesuperior.com/event/lead-came-class-shannons-stained-glassary-superior/
LOCATION:Shannon’s Stained Glassery\, 5904 TOWER AVE\, Superior\, 54880\, United States
CATEGORIES:Art,Community Education,Community Gathering,Event/Game/Sport Participation,Makers Class
ATTACH;FMTTYPE=image/jpeg:https://gottabesuperior.com/wp-content/uploads/2026/03/Lead-Came.jpg
ORGANIZER;CN="Shannon's Stained Glassery":MAILTO:SHANNONSSTAINEDGLASSERY@GMAIL.COM
END:VEVENT
BEGIN:VEVENT
DTSTART;TZID=America/Chicago:20260323T173000
DTEND;TZID=America/Chicago:20260323T203000
DTSTAMP:20260420T101705
CREATED:20260217T184129Z
LAST-MODIFIED:20260217T184129Z
UID:10018528-1774287000-1774297800@gottabesuperior.com
SUMMARY:Pysanky/Ukrainian Egg Decorating @ Spirit of the Lake Community Arts @ Duluth
DESCRIPTION:Welcome Spring with a centuries-old craft found throughout Eastern Europe.  Ukrainian eggs\, or pysanky\, are created using a wax batik method.  We’ll examine traditional design elements\, what the colors symbolize\, and some of the stories associated with the eggs. During this class\, you will learn to use a kistka (tiny funnel on a stick) to draw with melted wax on egg shells.  Once you’ve drawn the initial design\, you dye the egg in a light color\, add more wax\, and dye again in the next color.  Once all the dyeing is complete\, you melt off the wax to reveal your colorful design. \nfollow link to register  https://www.zeffy.com/en-US/ticketing/ukrainian-style-eggs-2?utm_medium=paid&utm_source=fb&utm_id=120243812248360274&utm_content=120243812250460274&utm_term=120243812249200274&utm_campaign=120243812248360274&fbclid=IwY2xjawQBk4lleHRuA2FlbQEwAGFkaWQBqzEcNEbyknNydGMGYXBwX2lkEDIyMjAzOTE3ODgyMDA4OTIAAR4Q7gePm2EEr_K6401ll3SVCOCci5CQ2USp_H9p_DDb7nDrsVN3NIuRhqa5Wg_aem_NckUVvf9JOYuupRl1wHt5g
URL:https://gottabesuperior.com/event/pysanky-ukrainian-egg-decorating-spirit-of-the-lake-community-arts-duluth/
LOCATION:Spirit of the Lakes Community Arts\, 5401 E Superior St\, Duluth\, MN\, United States
CATEGORIES:Art,Community Education,Community Gathering,Culture,Event/Game/Sport Participation,History/Museum,Makers Class
ATTACH;FMTTYPE=image/jpeg:https://gottabesuperior.com/wp-content/uploads/2026/02/eggs.jpg
ORGANIZER;CN="Spirit of the Lakes Community Arts":MAILTO:welcome@spiritofthelakearts.org
END:VEVENT
BEGIN:VEVENT
DTSTART;TZID=America/Chicago:20260321T130000
DTEND;TZID=America/Chicago:20260321T153000
DTSTAMP:20260420T101705
CREATED:20260220T000232Z
LAST-MODIFIED:20260220T000232Z
UID:10018534-1774098000-1774107000@gottabesuperior.com
SUMMARY:Hippity Hop Paint Class w/ Nana's Paint Nook @ Winter White Winery - Iron River
DESCRIPTION:Get ready to add a splash of color to your spring! Nana’s Paint Nook will be here for a special Hippity Hop Paint Class.Whether you’re looking for a festive porch decoration or a beautiful piece of seasonal art\, we have three adorable projects to choose from.\nGrab a glass of mead or cider and let your creativity bloom!\n Choose Your Project\n*The “Hello” Bunny & Egg Display: A large\, colorful statement piece for your home. ($55)\n*Floral Cross Canvas: A beautiful\, scalloped edge design featuring bright spring flowerss. ($38)\n*Wood Block Bunnies: A whimsical duo with fabric ears and glasses—perfect for a mantle or shelf! ($38)\n Important: Space is limited and projects are prepped in advance\, so you must pre-register to secure your spot!\nCome enjoy a creative afternoon at White Winter. We can’t wait to see what you create!\nfollow link to register    https://whitewinter.com/events/hippity-hop/?fbclid=IwY2xjawQEgqRleHRuA2FlbQIxMABicmlkETI3VFZiVTZ6U1FIanZZR05Jc3J0YwZhcHBfaWQQMjIyMDM5MTc4ODIwMDg5MgABHposr2ljYaDa2DPxaWP7142YHXAJI9aPfZUhkJiBD4CdoNrd3EEK8sUjGKS6_aem_RzvhPdZGvjB4jTllinWAng
URL:https://gottabesuperior.com/event/hippity-hop-paint-class-w-nanas-paint-nook-winter-white-winery-iron-river/
LOCATION:White Winter Winery\, 68323A Lea Street\, Iron River\, WI\, United States
CATEGORIES:Art,Community Education,Community Gathering,Event/Game/Sport Participation,Makers Class,Registration Required
ATTACH;FMTTYPE=image/jpeg:https://gottabesuperior.com/wp-content/uploads/2026/02/white-winter-hippty.jpg
ORGANIZER;CN="Nannas Paint Nook%3A Noreen Knight%2C":MAILTO:paintnook@hotmail.com
END:VEVENT
BEGIN:VEVENT
DTSTART;TZID=America/Chicago:20260321T110000
DTEND;TZID=America/Chicago:20260321T133000
DTSTAMP:20260420T101705
CREATED:20260212T022058Z
LAST-MODIFIED:20260212T022058Z
UID:10018508-1774090800-1774099800@gottabesuperior.com
SUMMARY:Create Driftwood Chimes @ Shannon's Stained Glassery - Superior
DESCRIPTION:03-21-26 Driftwood Wind ChimesSaturday 11 am – 1:30pmCombine glass fusing with the beauty of natural driftwood to create a one of a kind wind chime. There are several ideas for chimes to choose from\, but wind chimes open the door for creativity and the possibilities are endless. Class is one day\, and fee of $40 includes instruction\, use of tools\, wire and kiln firing. Other materials are additional. There will be several pieces of drift wood available for you to choose from\, otherwise use this class as an excuse to comb the beaches.Price: $40.00 \nFollow link for tickets  https://checkout.square.site/merchant/RZVWBMX9QD3M3/checkout/AA5UEMFXP3KAR3RPC3CHN7EX?fbclid=IwY2xjawP6F_NleHRuA2FlbQIxMABicmlkETEwOGNvQjdVRjZnRGpsMEt1c3J0YwZhcHBfaWQQMjIyMDM5MTc4ODIwMDg5MgABHqrZLaV-KSWkzNCGN7CPhE4THNlSOOjrtwQfwl146LOKeqZEDujdOedULxmE_aem_KyFREOvsEkkiFfU7BFKaXQ
URL:https://gottabesuperior.com/event/create-driftwood-chimes-shannons-stained-glassery-superior/
LOCATION:Shannon’s Stained Glassery\, 5904 TOWER AVE\, Superior\, 54880\, United States
CATEGORIES:Art,Community Education,Event/Game/Sport Participation,Makers Class
ATTACH;FMTTYPE=image/jpeg:https://gottabesuperior.com/wp-content/uploads/2026/02/633195066_1502794535184515_4771464279907308503_n.jpg
ORGANIZER;CN="Shannon's Stained Glassery":MAILTO:SHANNONSSTAINEDGLASSERY@GMAIL.COM
END:VEVENT
END:VCALENDAR