BEGIN:VCALENDAR
VERSION:2.0
PRODID:-//Gotta Be Superior - ECPv6.15.18//NONSGML v1.0//EN
CALSCALE:GREGORIAN
METHOD:PUBLISH
X-ORIGINAL-URL:https://gottabesuperior.com
X-WR-CALDESC:Events for Gotta Be Superior
REFRESH-INTERVAL;VALUE=DURATION:PT1H
X-Robots-Tag:noindex
X-PUBLISHED-TTL:PT1H
BEGIN:VTIMEZONE
TZID:America/Chicago
BEGIN:DAYLIGHT
TZOFFSETFROM:-0600
TZOFFSETTO:-0500
TZNAME:CDT
DTSTART:20250309T080000
END:DAYLIGHT
BEGIN:STANDARD
TZOFFSETFROM:-0500
TZOFFSETTO:-0600
TZNAME:CST
DTSTART:20251102T070000
END:STANDARD
BEGIN:DAYLIGHT
TZOFFSETFROM:-0600
TZOFFSETTO:-0500
TZNAME:CDT
DTSTART:20260308T080000
END:DAYLIGHT
BEGIN:STANDARD
TZOFFSETFROM:-0500
TZOFFSETTO:-0600
TZNAME:CST
DTSTART:20261101T070000
END:STANDARD
BEGIN:DAYLIGHT
TZOFFSETFROM:-0600
TZOFFSETTO:-0500
TZNAME:CDT
DTSTART:20270314T080000
END:DAYLIGHT
BEGIN:STANDARD
TZOFFSETFROM:-0500
TZOFFSETTO:-0600
TZNAME:CST
DTSTART:20271107T070000
END:STANDARD
END:VTIMEZONE
BEGIN:VEVENT
DTSTART;TZID=America/Chicago:20260415T110000
DTEND;TZID=America/Chicago:20260415T180000
DTSTAMP:20260424T200953
CREATED:20260319T163858Z
LAST-MODIFIED:20260319T163858Z
UID:10018841-1776250800-1776276000@gottabesuperior.com
SUMMARY:Veterans Resource Fair @ Black Bear Casino - Carlton
DESCRIPTION:Another great resource fair is coming up!\nBlack Bear Casino Otter Creek Event Center\n April 15th
URL:https://gottabesuperior.com/event/veterans-resource-fair-black-bear-casino-carlton/
LOCATION:Black Bear Casino\, I-35\, Exit 235\, Carlton\, MN\, United States
CATEGORIES:Career Fair,Event/Game/Sport Participation,Meet/Greet,Veterans
ATTACH;FMTTYPE=image/jpeg:https://gottabesuperior.com/wp-content/uploads/2026/03/Veterans-Resource-Fair.jpg
ORGANIZER;CN="Black Bear Casino Resort":MAILTO:blackbearcasino@fdlrez.com
END:VEVENT
BEGIN:VEVENT
DTSTART;TZID=America/Chicago:20260414T190000
DTEND;TZID=America/Chicago:20260414T200000
DTSTAMP:20260424T200953
CREATED:20260405T192423Z
LAST-MODIFIED:20260405T192423Z
UID:10019007-1776193200-1776196800@gottabesuperior.com
SUMMARY:Gaelynn Lea Concert & Book Launch @ Zeitgeist Arts - Duluth
DESCRIPTION:Celebrate musician and author Gaelynn Lea as she launches her new book\, It Wasn’t Meant to Be Perfect: A Memoir (Algonquin Books). Gaelynn will share her music\, be in conversation with Claire Kirch and Walt “Dizzo” Raschick and personally autograph her book for those in attendance. \nGaelynn Lea was born with Osteogenesis Imperfecta\, a genetic condition that causes brittle bones and a smaller stature. She is a classically trained musician\, disability rights advocate\, speaker and author. The winner of NPR Music’s Tiny Desk Contest in 2016\, Lea has collaborated with Michael Stipe\, The Decemberists and Wilco. In 2022\, she composed an original score for Macbeth on Broadway. Lea is a sought-after public speaker about disability culture\, inclusion and accessibility in the arts. She was awarded a Disability Futures Fellowship in 2024. \nTickets can be purchased at Zeitgeist Bookstore  https://zenithbookstore.com/events/4607220260414
URL:https://gottabesuperior.com/event/gaelynn-lea-concert-book-launch-zeitgeist-arts-duluth/
LOCATION:Zeitgeist Arts\, 222 E. Superior St.\, Duluth\, MN\, United States
CATEGORIES:Art,Book Club/Discussion,Culture,Event/Game/Sports Spectator,Live Entertainment,Meet/Greet
ATTACH;FMTTYPE=image/jpeg:https://gottabesuperior.com/wp-content/uploads/2026/04/book-launch.jpg
ORGANIZER;CN="Zeitgeist Zinema":MAILTO:https://zeitgeistarts.com/zinema2/
END:VEVENT
BEGIN:VEVENT
DTSTART;TZID=America/Chicago:20260328T130000
DTEND;TZID=America/Chicago:20260328T150000
DTSTAMP:20260424T200953
CREATED:20260314T161548Z
LAST-MODIFIED:20260314T161548Z
UID:10018774-1774702800-1774710000@gottabesuperior.com
SUMMARY:Author Steve Fox @ Foxes & Fireflies - Superior
DESCRIPTION:Wisconsin author Steve Fox will read from his newest anthology\, “These Are My People\,” followed by discussion and snacks.The award-winning author’s short stories have been praised as stunning\, grim and entrancing.They feature “The toughest and kindest and weirdest people you will ever meet\,” according to author Nikki Kallio.Come meet Steve\, hear and awesome story and learn more about his writing process.There will be cookies.
URL:https://gottabesuperior.com/event/author-steve-fox-foxes-fireflies-superior/
LOCATION:Foxes & Fireflies Booksellers\, 1401 Tower Ave\, Superior\, 54880\, United States
CATEGORIES:Art,Book Club/Discussion,Community Gathering,Culture,Event/Game/Sport Participation,Free,Meet/Greet
ATTACH;FMTTYPE=image/jpeg:https://gottabesuperior.com/wp-content/uploads/2026/03/Steve-Fox.jpg
ORGANIZER;CN="Foxes & Fireflies Booksellers":MAILTO:foxesandfirefliesbooksellers@gmail.com
END:VEVENT
END:VCALENDAR