BEGIN:VCALENDAR
VERSION:2.0
PRODID:-//Gotta Be Superior - ECPv6.15.18//NONSGML v1.0//EN
CALSCALE:GREGORIAN
METHOD:PUBLISH
X-WR-CALNAME:Gotta Be Superior
X-ORIGINAL-URL:https://gottabesuperior.com
X-WR-CALDESC:Events for Gotta Be Superior
REFRESH-INTERVAL;VALUE=DURATION:PT1H
X-Robots-Tag:noindex
X-PUBLISHED-TTL:PT1H
BEGIN:VTIMEZONE
TZID:America/Chicago
BEGIN:DAYLIGHT
TZOFFSETFROM:-0600
TZOFFSETTO:-0500
TZNAME:CDT
DTSTART:20250309T080000
END:DAYLIGHT
BEGIN:STANDARD
TZOFFSETFROM:-0500
TZOFFSETTO:-0600
TZNAME:CST
DTSTART:20251102T070000
END:STANDARD
BEGIN:DAYLIGHT
TZOFFSETFROM:-0600
TZOFFSETTO:-0500
TZNAME:CDT
DTSTART:20260308T080000
END:DAYLIGHT
BEGIN:STANDARD
TZOFFSETFROM:-0500
TZOFFSETTO:-0600
TZNAME:CST
DTSTART:20261101T070000
END:STANDARD
BEGIN:DAYLIGHT
TZOFFSETFROM:-0600
TZOFFSETTO:-0500
TZNAME:CDT
DTSTART:20270314T080000
END:DAYLIGHT
BEGIN:STANDARD
TZOFFSETFROM:-0500
TZOFFSETTO:-0600
TZNAME:CST
DTSTART:20271107T070000
END:STANDARD
END:VTIMEZONE
BEGIN:VEVENT
DTSTART;TZID=America/Chicago:20260702T160000
DTEND;TZID=America/Chicago:20260702T180000
DTSTAMP:20260419T120244
CREATED:20250802T213204Z
LAST-MODIFIED:20250802T213204Z
UID:10015691-1783008000-1783015200@gottabesuperior.com
SUMMARY:Tarot w/ Barbi @ Alchemy - Superior
DESCRIPTION:  \n  \n 
URL:https://gottabesuperior.com/event/tarot-w-barbi-alchemy-superior/2026-07-02/
LOCATION:Alchemy\, 2724 N 21st St\, Superior\, WI\, United States
CATEGORIES:Self Care
ATTACH;FMTTYPE=image/jpeg:https://gottabesuperior.com/wp-content/uploads/2025/01/Alchemy-logo.jpg
ORGANIZER;CN="Alchemy":MAILTO:anndreasart@gmail.com
END:VEVENT
BEGIN:VEVENT
DTSTART;TZID=America/Chicago:20260703T120000
DTEND;TZID=America/Chicago:20260703T160000
DTSTAMP:20260419T120244
CREATED:20250802T213746Z
LAST-MODIFIED:20250802T213746Z
UID:10015747-1783080000-1783094400@gottabesuperior.com
SUMMARY:Tarot w/Orin @ Alchemy - Superior
DESCRIPTION:
URL:https://gottabesuperior.com/event/tarot-w-orin-alchemy-superior/2026-07-03/
LOCATION:Alchemy\, 2724 N 21st St\, Superior\, WI\, United States
CATEGORIES:Self Care
ATTACH;FMTTYPE=image/jpeg:https://gottabesuperior.com/wp-content/uploads/2025/01/Alchemy-logo.jpg
ORGANIZER;CN="Alchemy":MAILTO:anndreasart@gmail.com
END:VEVENT
BEGIN:VEVENT
DTSTART;TZID=America/Chicago:20260709T160000
DTEND;TZID=America/Chicago:20260709T180000
DTSTAMP:20260419T120244
CREATED:20250802T213204Z
LAST-MODIFIED:20250802T213204Z
UID:10015692-1783612800-1783620000@gottabesuperior.com
SUMMARY:Tarot w/ Barbi @ Alchemy - Superior
DESCRIPTION:  \n  \n 
URL:https://gottabesuperior.com/event/tarot-w-barbi-alchemy-superior/2026-07-09/
LOCATION:Alchemy\, 2724 N 21st St\, Superior\, WI\, United States
CATEGORIES:Self Care
ATTACH;FMTTYPE=image/jpeg:https://gottabesuperior.com/wp-content/uploads/2025/01/Alchemy-logo.jpg
ORGANIZER;CN="Alchemy":MAILTO:anndreasart@gmail.com
END:VEVENT
BEGIN:VEVENT
DTSTART;TZID=America/Chicago:20260710T120000
DTEND;TZID=America/Chicago:20260710T160000
DTSTAMP:20260419T120244
CREATED:20250802T213746Z
LAST-MODIFIED:20250802T213746Z
UID:10015748-1783684800-1783699200@gottabesuperior.com
SUMMARY:Tarot w/Orin @ Alchemy - Superior
DESCRIPTION:
URL:https://gottabesuperior.com/event/tarot-w-orin-alchemy-superior/2026-07-10/
LOCATION:Alchemy\, 2724 N 21st St\, Superior\, WI\, United States
CATEGORIES:Self Care
ATTACH;FMTTYPE=image/jpeg:https://gottabesuperior.com/wp-content/uploads/2025/01/Alchemy-logo.jpg
ORGANIZER;CN="Alchemy":MAILTO:anndreasart@gmail.com
END:VEVENT
BEGIN:VEVENT
DTSTART;TZID=America/Chicago:20260716T160000
DTEND;TZID=America/Chicago:20260716T180000
DTSTAMP:20260419T120244
CREATED:20250802T213204Z
LAST-MODIFIED:20250802T213204Z
UID:10015693-1784217600-1784224800@gottabesuperior.com
SUMMARY:Tarot w/ Barbi @ Alchemy - Superior
DESCRIPTION:  \n  \n 
URL:https://gottabesuperior.com/event/tarot-w-barbi-alchemy-superior/2026-07-16/
LOCATION:Alchemy\, 2724 N 21st St\, Superior\, WI\, United States
CATEGORIES:Self Care
ATTACH;FMTTYPE=image/jpeg:https://gottabesuperior.com/wp-content/uploads/2025/01/Alchemy-logo.jpg
ORGANIZER;CN="Alchemy":MAILTO:anndreasart@gmail.com
END:VEVENT
BEGIN:VEVENT
DTSTART;TZID=America/Chicago:20260717T120000
DTEND;TZID=America/Chicago:20260717T160000
DTSTAMP:20260419T120244
CREATED:20250802T213746Z
LAST-MODIFIED:20250802T213746Z
UID:10015749-1784289600-1784304000@gottabesuperior.com
SUMMARY:Tarot w/Orin @ Alchemy - Superior
DESCRIPTION:
URL:https://gottabesuperior.com/event/tarot-w-orin-alchemy-superior/2026-07-17/
LOCATION:Alchemy\, 2724 N 21st St\, Superior\, WI\, United States
CATEGORIES:Self Care
ATTACH;FMTTYPE=image/jpeg:https://gottabesuperior.com/wp-content/uploads/2025/01/Alchemy-logo.jpg
ORGANIZER;CN="Alchemy":MAILTO:anndreasart@gmail.com
END:VEVENT
BEGIN:VEVENT
DTSTART;TZID=America/Chicago:20260723T160000
DTEND;TZID=America/Chicago:20260723T180000
DTSTAMP:20260419T120244
CREATED:20250802T213204Z
LAST-MODIFIED:20250802T213204Z
UID:10015694-1784822400-1784829600@gottabesuperior.com
SUMMARY:Tarot w/ Barbi @ Alchemy - Superior
DESCRIPTION:  \n  \n 
URL:https://gottabesuperior.com/event/tarot-w-barbi-alchemy-superior/2026-07-23/
LOCATION:Alchemy\, 2724 N 21st St\, Superior\, WI\, United States
CATEGORIES:Self Care
ATTACH;FMTTYPE=image/jpeg:https://gottabesuperior.com/wp-content/uploads/2025/01/Alchemy-logo.jpg
ORGANIZER;CN="Alchemy":MAILTO:anndreasart@gmail.com
END:VEVENT
BEGIN:VEVENT
DTSTART;TZID=America/Chicago:20260724T120000
DTEND;TZID=America/Chicago:20260724T160000
DTSTAMP:20260419T120244
CREATED:20250802T213746Z
LAST-MODIFIED:20250802T213746Z
UID:10015750-1784894400-1784908800@gottabesuperior.com
SUMMARY:Tarot w/Orin @ Alchemy - Superior
DESCRIPTION:
URL:https://gottabesuperior.com/event/tarot-w-orin-alchemy-superior/2026-07-24/
LOCATION:Alchemy\, 2724 N 21st St\, Superior\, WI\, United States
CATEGORIES:Self Care
ATTACH;FMTTYPE=image/jpeg:https://gottabesuperior.com/wp-content/uploads/2025/01/Alchemy-logo.jpg
ORGANIZER;CN="Alchemy":MAILTO:anndreasart@gmail.com
END:VEVENT
BEGIN:VEVENT
DTSTART;TZID=America/Chicago:20260730T160000
DTEND;TZID=America/Chicago:20260730T180000
DTSTAMP:20260419T120244
CREATED:20250802T213204Z
LAST-MODIFIED:20250802T213204Z
UID:10015695-1785427200-1785434400@gottabesuperior.com
SUMMARY:Tarot w/ Barbi @ Alchemy - Superior
DESCRIPTION:  \n  \n 
URL:https://gottabesuperior.com/event/tarot-w-barbi-alchemy-superior/2026-07-30/
LOCATION:Alchemy\, 2724 N 21st St\, Superior\, WI\, United States
CATEGORIES:Self Care
ATTACH;FMTTYPE=image/jpeg:https://gottabesuperior.com/wp-content/uploads/2025/01/Alchemy-logo.jpg
ORGANIZER;CN="Alchemy":MAILTO:anndreasart@gmail.com
END:VEVENT
BEGIN:VEVENT
DTSTART;TZID=America/Chicago:20260731T120000
DTEND;TZID=America/Chicago:20260731T160000
DTSTAMP:20260419T120244
CREATED:20250802T213746Z
LAST-MODIFIED:20250802T213746Z
UID:10015751-1785499200-1785513600@gottabesuperior.com
SUMMARY:Tarot w/Orin @ Alchemy - Superior
DESCRIPTION:
URL:https://gottabesuperior.com/event/tarot-w-orin-alchemy-superior/2026-07-31/
LOCATION:Alchemy\, 2724 N 21st St\, Superior\, WI\, United States
CATEGORIES:Self Care
ATTACH;FMTTYPE=image/jpeg:https://gottabesuperior.com/wp-content/uploads/2025/01/Alchemy-logo.jpg
ORGANIZER;CN="Alchemy":MAILTO:anndreasart@gmail.com
END:VEVENT
END:VCALENDAR