BEGIN:VCALENDAR
VERSION:2.0
PRODID:-//Gotta Be Superior - ECPv6.15.18//NONSGML v1.0//EN
CALSCALE:GREGORIAN
METHOD:PUBLISH
X-ORIGINAL-URL:https://gottabesuperior.com
X-WR-CALDESC:Events for Gotta Be Superior
REFRESH-INTERVAL;VALUE=DURATION:PT1H
X-Robots-Tag:noindex
X-PUBLISHED-TTL:PT1H
BEGIN:VTIMEZONE
TZID:America/Chicago
BEGIN:DAYLIGHT
TZOFFSETFROM:-0600
TZOFFSETTO:-0500
TZNAME:CDT
DTSTART:20250309T080000
END:DAYLIGHT
BEGIN:STANDARD
TZOFFSETFROM:-0500
TZOFFSETTO:-0600
TZNAME:CST
DTSTART:20251102T070000
END:STANDARD
BEGIN:DAYLIGHT
TZOFFSETFROM:-0600
TZOFFSETTO:-0500
TZNAME:CDT
DTSTART:20260308T080000
END:DAYLIGHT
BEGIN:STANDARD
TZOFFSETFROM:-0500
TZOFFSETTO:-0600
TZNAME:CST
DTSTART:20261101T070000
END:STANDARD
BEGIN:DAYLIGHT
TZOFFSETFROM:-0600
TZOFFSETTO:-0500
TZNAME:CDT
DTSTART:20270314T080000
END:DAYLIGHT
BEGIN:STANDARD
TZOFFSETFROM:-0500
TZOFFSETTO:-0600
TZNAME:CST
DTSTART:20271107T070000
END:STANDARD
END:VTIMEZONE
BEGIN:VEVENT
DTSTART;TZID=America/Chicago:20260418T140000
DTEND;TZID=America/Chicago:20260418T160000
DTSTAMP:20260419T122908
CREATED:20260405T190718Z
LAST-MODIFIED:20260405T190718Z
UID:10019006-1776520800-1776528000@gottabesuperior.com
SUMMARY:Godspell @ UWS Manion Theater @ Superior
DESCRIPTION:Follow link for tickets  https://commerce.cashnet.com/cashnetg/static/storefront/UWSTheatre/catalog/THTR-CC%20P4
URL:https://gottabesuperior.com/event/godspell-uws-manion-theater-superior/2026-04-18/
LOCATION:Manion Theatre\, 1805 Catlin Ave.\, Superior\, WI\, 54880\, United States
CATEGORIES:Art,Community Gathering,Culture,Event/Game/Sports Spectator,Theater
ATTACH;FMTTYPE=image/jpeg:https://gottabesuperior.com/wp-content/uploads/2026/04/Godspell.jpg
END:VEVENT
BEGIN:VEVENT
DTSTART;TZID=America/Chicago:20260412T140000
DTEND;TZID=America/Chicago:20260412T160000
DTSTAMP:20260419T122908
CREATED:20250808T221000Z
LAST-MODIFIED:20250808T221000Z
UID:10015893-1776002400-1776009600@gottabesuperior.com
SUMMARY:Watch on the Rhine  by Lillian Hellman​ w/ Time Arc Theater - Superior
DESCRIPTION:During WWII Sara returns home in the U.S. with her German husband\, an \nanti-fascist activist and their children to escape from Hitler’s regime. \nFollow link for tickets    https://givebutter.com/IEVrDg
URL:https://gottabesuperior.com/event/watch-on-the-rhine-by-lillian-hellman-w-time-arc-theater-superior/2026-04-12/
LOCATION:MN
CATEGORIES:Art,Live Entertainment,Theater
ATTACH;FMTTYPE=image/webp:https://gottabesuperior.com/wp-content/uploads/2024/11/TimeArcLogo_TextLogo_Color-01.webp
END:VEVENT
END:VCALENDAR