BEGIN:VCALENDAR
VERSION:2.0
PRODID:-//Gotta Be Superior - ECPv6.15.18//NONSGML v1.0//EN
CALSCALE:GREGORIAN
METHOD:PUBLISH
X-WR-CALNAME:Gotta Be Superior
X-ORIGINAL-URL:https://gottabesuperior.com
X-WR-CALDESC:Events for Gotta Be Superior
REFRESH-INTERVAL;VALUE=DURATION:PT1H
X-Robots-Tag:noindex
X-PUBLISHED-TTL:PT1H
BEGIN:VTIMEZONE
TZID:America/Chicago
BEGIN:DAYLIGHT
TZOFFSETFROM:-0600
TZOFFSETTO:-0500
TZNAME:CDT
DTSTART:20250309T080000
END:DAYLIGHT
BEGIN:STANDARD
TZOFFSETFROM:-0500
TZOFFSETTO:-0600
TZNAME:CST
DTSTART:20251102T070000
END:STANDARD
BEGIN:DAYLIGHT
TZOFFSETFROM:-0600
TZOFFSETTO:-0500
TZNAME:CDT
DTSTART:20260308T080000
END:DAYLIGHT
BEGIN:STANDARD
TZOFFSETFROM:-0500
TZOFFSETTO:-0600
TZNAME:CST
DTSTART:20261101T070000
END:STANDARD
BEGIN:DAYLIGHT
TZOFFSETFROM:-0600
TZOFFSETTO:-0500
TZNAME:CDT
DTSTART:20270314T080000
END:DAYLIGHT
BEGIN:STANDARD
TZOFFSETFROM:-0500
TZOFFSETTO:-0600
TZNAME:CST
DTSTART:20271107T070000
END:STANDARD
END:VTIMEZONE
BEGIN:VEVENT
DTSTART;TZID=America/Chicago:20260424T100000
DTEND;TZID=America/Chicago:20260424T140000
DTSTAMP:20260425T054549
CREATED:20260220T004727Z
LAST-MODIFIED:20260220T004727Z
UID:10018549-1777024800-1777039200@gottabesuperior.com
SUMMARY:Lake Superior Estuarium Open - Superior
DESCRIPTION:The Lake Superior Estuarium is a gateway to the headwaters of the Great Lakes. Beautiful interactive displays tell stories of the St. Louis River Estuary\, Lake Superior\, and the communities on their shores. The exhibit hall includes a play area for young children\, maps to orient you to the largest estuary on Lake Superior\, and information to help you get out and explore.
URL:https://gottabesuperior.com/event/lake-superior-estuarium-open-superior/2026-04-24/
LOCATION:Lake Superior Estuarium\, 3 Marina Drive\, Superior\, WI\, 54880\, United States
CATEGORIES:Community Education,Community Gathering,Event/Game/Sport Participation,Kids & Family,Nature
ATTACH;FMTTYPE=image/png:https://gottabesuperior.com/wp-content/uploads/2025/03/Lake-Superior-Estuarium.png
END:VEVENT
BEGIN:VEVENT
DTSTART;TZID=America/Chicago:20260424T103000
DTEND;TZID=America/Chicago:20260424T113000
DTSTAMP:20260425T054549
CREATED:20260414T183642Z
LAST-MODIFIED:20260414T183642Z
UID:10019079-1777026600-1777030200@gottabesuperior.com
SUMMARY:Mindful Motion @ Superior Public Library - Superior
DESCRIPTION:Come to the library on April 24 for Mindful Motion at 10:30 a.m.! Led by instructors from the YMCA\, this gentle wellness class for older adults combines stretches with simple breathing and meditation techniques to help improve flexibility\, reduce stress\, and promote overall well-being. No registration is required! Just wear comfy clothes and come as you are! No experience necessary!
URL:https://gottabesuperior.com/event/mindful-motion-superior-public-library-superior-2/
LOCATION:Superior Public Library\, 1530 Tower Ave\, Superior\, WI\, 54880\, United States
CATEGORIES:Community Education,Community Gathering,Event/Game/Sport Participation,Free,Self Care,Seniors
ATTACH;FMTTYPE=image/jpeg:https://gottabesuperior.com/wp-content/uploads/2026/04/Mindfulmotion.jpg
END:VEVENT
BEGIN:VEVENT
DTSTART;TZID=America/Chicago:20260424T110000
DTEND;TZID=America/Chicago:20260424T170000
DTSTAMP:20260425T054549
CREATED:20260304T174130Z
LAST-MODIFIED:20260306T164058Z
UID:10018723-1777028400-1777050000@gottabesuperior.com
SUMMARY:Take Back the Night 2026 @ KindredHeart - Superior
DESCRIPTION:Take Back the Night brings awareness to the sexual and domestic violence that many people\, especially women\, have experienced. Take Back the Night began in the 1970s with a Tribunal Council meeting in Belgium attended by 2000+ women representing 40+ countries protesting the lack of safety women experience walking the streets at night. In 2024 Wisconsin experienced 110 domestic violence related deaths\, the ages of this range from infanthood-81 years old. This means that Wisconsin is experiencing a death from domestic violence every 3.7 days.\nThis is Superior\, WI’s second ever Take Back the Night against sexual and domestic violence. Let’s make it amazing! KindredHeart is welcoming several non-profit organizations and looking for artists and creators to vend for our event for a good cause. Contact Mikinzie at 218.590.6377 or email at readingsbykls@gmail.com for more details.\nLet’s End the Darkness\, Embrace the Light. Empower Women.\nTake Back the Night 2026!
URL:https://gottabesuperior.com/event/take-back-the-night-2026-kindredheart-superior/
LOCATION:Kindred Heart\, 820 Tower Ave\, Superior\, WI\, United States
CATEGORIES:Art,Community Education,Community Gathering,Discussion Group,Food & Drink,Free,Fundraiser,Markets/Sales,Open Mic
ATTACH;FMTTYPE=image/jpeg:https://gottabesuperior.com/wp-content/uploads/2026/03/615356196_122200116506360996_8631298242428860378_n.jpg
ORGANIZER;CN="MIKINZIE SCHILLING":MAILTO:mikinzieschilling@gmail.com
END:VEVENT
BEGIN:VEVENT
DTSTART;TZID=America/Chicago:20260424T120000
DTEND;TZID=America/Chicago:20260424T160000
DTSTAMP:20260425T054549
CREATED:20250802T213746Z
LAST-MODIFIED:20250802T213746Z
UID:10015737-1777032000-1777046400@gottabesuperior.com
SUMMARY:Tarot w/Orin @ Alchemy - Superior
DESCRIPTION:
URL:https://gottabesuperior.com/event/tarot-w-orin-alchemy-superior/2026-04-24/
LOCATION:Alchemy\, 2724 N 21st St\, Superior\, WI\, United States
CATEGORIES:Self Care
ATTACH;FMTTYPE=image/jpeg:https://gottabesuperior.com/wp-content/uploads/2025/01/Alchemy-logo.jpg
ORGANIZER;CN="Alchemy":MAILTO:anndreasart@gmail.com
END:VEVENT
BEGIN:VEVENT
DTSTART;TZID=America/Chicago:20260424T130000
DTEND;TZID=America/Chicago:20260424T150000
DTSTAMP:20260425T054549
CREATED:20260220T175350Z
LAST-MODIFIED:20260220T175350Z
UID:10018660-1777035600-1777042800@gottabesuperior.com
SUMMARY:UW Superior Men's Tennis vs. Crown @ Yellowjacket Tennis Complex - Superior
DESCRIPTION:
URL:https://gottabesuperior.com/event/uw-superior-mens-tennis-vs-crown-yellowjacket-tennis-complex-superior/
LOCATION:Yellowjacket Outdoor Tennis Complex\, 1810 Catlin Ave\, Superior\, 54880\, United States
CATEGORIES:College Sports,Event/Game/Sports Spectator
ATTACH;FMTTYPE=image/jpeg:https://gottabesuperior.com/wp-content/uploads/2026/02/UW-Superior-Tennis.jpg
END:VEVENT
BEGIN:VEVENT
DTSTART;TZID=America/Chicago:20260424T153000
DTEND;TZID=America/Chicago:20260424T210000
DTSTAMP:20260425T054549
CREATED:20260319T172301Z
LAST-MODIFIED:20260319T172301Z
UID:10018847-1777044600-1777064400@gottabesuperior.com
SUMMARY:Wisconsin Hunter Safety Class @ Northwestern Elementary School - Poplar WI
DESCRIPTION:Class Fee is $10.  Class size is limited\, for more information call Tom Chandler at 218-391-1374 or Brad Larabee at 715-828-0308
URL:https://gottabesuperior.com/event/wisconsin-hunter-safety-class-northwestern-elementary-school-poplar-wi/
LOCATION:Northwestern Elementary\, 10465 E US Hwy 2\, Poplar\, 54864\, United States
CATEGORIES:Community Education,Event/Game/Sport Participation
ATTACH;FMTTYPE=image/jpeg:https://gottabesuperior.com/wp-content/uploads/2026/03/Hunt-smart.jpeg
END:VEVENT
BEGIN:VEVENT
DTSTART;TZID=America/Chicago:20260424T160000
DTEND;TZID=America/Chicago:20260424T173000
DTSTAMP:20260425T054549
CREATED:20260220T183053Z
LAST-MODIFIED:20260220T183053Z
UID:10018681-1777046400-1777051800@gottabesuperior.com
SUMMARY:UW Superior Softball vs. Crown @ NBC Baseball & Softball Complex - Superior
DESCRIPTION:
URL:https://gottabesuperior.com/event/uw-superior-softball-vs-crown-nbc-baseball-softball-complex-superior/2026-04-24/
LOCATION:NBC Baseball & Softball Complex\, 2319 Cypress Ave\, Superior\, WI\, United States
CATEGORIES:College Sports,Event/Game/Sports Spectator
ATTACH;FMTTYPE=image/png:https://gottabesuperior.com/wp-content/uploads/2025/03/yellowjacket-softball.png
END:VEVENT
BEGIN:VEVENT
DTSTART;TZID=America/Chicago:20260424T160000
DTEND;TZID=America/Chicago:20260424T180000
DTSTAMP:20260425T054549
CREATED:20260220T180238Z
LAST-MODIFIED:20260220T180238Z
UID:10018663-1777046400-1777053600@gottabesuperior.com
SUMMARY:UW Superior Women's Tennis vs. Crown @ Yellowjacket Tennis Complex - Superior
DESCRIPTION:
URL:https://gottabesuperior.com/event/uw-superior-womens-tennis-vs-crown-yellowjacket-tennis-complex-superior/
LOCATION:Yellowjacket Outdoor Tennis Complex\, 1810 Catlin Ave\, Superior\, 54880\, United States
CATEGORIES:College Sports,Event/Game/Sports Spectator
ATTACH;FMTTYPE=image/jpeg:https://gottabesuperior.com/wp-content/uploads/2026/02/UW-Superior-Tennis.jpg
END:VEVENT
BEGIN:VEVENT
DTSTART;TZID=America/Chicago:20260424T170000
DTEND;TZID=America/Chicago:20260424T180000
DTSTAMP:20260425T054549
CREATED:20260405T203218Z
LAST-MODIFIED:20260405T203218Z
UID:10019013-1777050000-1777053600@gottabesuperior.com
SUMMARY:Stas Venglevski @ Harrington Arts Center - Superior
DESCRIPTION:
URL:https://gottabesuperior.com/event/stas-venglevski-harrington-arts-center-superior/
LOCATION:Harrington ARTS Center\, 1401 Belknap St\, Superior\, WI\, 54880\, United States
CATEGORIES:Art,Live Entertainment
ATTACH;FMTTYPE=image/jpeg:https://gottabesuperior.com/wp-content/uploads/2026/04/stas.jpg
END:VEVENT
BEGIN:VEVENT
DTSTART;TZID=America/Chicago:20260424T170000
DTEND;TZID=America/Chicago:20260424T200000
DTSTAMP:20260425T054549
CREATED:20260401T230555Z
LAST-MODIFIED:20260401T230555Z
UID:10018934-1777050000-1777060800@gottabesuperior.com
SUMMARY:Super Glow Skate! @ World of Wheels - Superior
DESCRIPTION:$9.95 plus rental
URL:https://gottabesuperior.com/event/super-glow-skate-world-of-wheels-superior/2026-04-24/
LOCATION:World of Wheels\, 1218 Oakes Ave\, Superior\, WI\, 54880\, United States
CATEGORIES:Event/Game/Sport Participation,Kids & Family
ATTACH;FMTTYPE=image/png:https://gottabesuperior.com/wp-content/uploads/2024/08/World-of-Wheels.png
END:VEVENT
BEGIN:VEVENT
DTSTART;TZID=America/Chicago:20260424T170000
DTEND;TZID=America/Chicago:20260424T200000
DTSTAMP:20260425T054549
CREATED:20260418T171506Z
LAST-MODIFIED:20260418T171506Z
UID:10019125-1777050000-1777060800@gottabesuperior.com
SUMMARY:Owen's Piano @ Thirsty Pagan - Superior
DESCRIPTION:
URL:https://gottabesuperior.com/event/owens-piano-thirsty-pagan-superior/
LOCATION:The Thirsty Pagan\, 1615 Winter St\, Superior\, WI\, 54880\, United States
CATEGORIES:Live Entertainment
ATTACH;FMTTYPE=image/jpeg:https://gottabesuperior.com/wp-content/uploads/2025/02/Owen.jpg
END:VEVENT
BEGIN:VEVENT
DTSTART;TZID=America/Chicago:20260424T180000
DTEND;TZID=America/Chicago:20260424T210000
DTSTAMP:20260425T054549
CREATED:20260110T212328Z
LAST-MODIFIED:20260110T212328Z
UID:10017836-1777053600-1777064400@gottabesuperior.com
SUMMARY:Friday Night Gundam! @ Level UP - Superior
DESCRIPTION:Gundam TCG Night Fridays at 6 PM!Suit up\, Pilots. The Gundam Trading Card Game has landed. Join us every Friday night at 6 PM to learn\, play\, and battle in this brand-new Bandai TCG.\nFree entryPromos for every participantA welcoming community for new and veteran Pilots alike\nBring your deck\, rally your squad\, and take the battlefield. Friday nights are for Gundam!
URL:https://gottabesuperior.com/event/friday-night-gundam-level-up-superior/2026-04-24/
LOCATION:Level Up\, 525 Tower Ave\, Superior\, WI\, 54880\, United States
CATEGORIES:Community Gathering,Culture,Event/Game/Sport Participation
ATTACH;FMTTYPE=image/jpeg:https://gottabesuperior.com/wp-content/uploads/2026/01/Gundam.jpg
END:VEVENT
BEGIN:VEVENT
DTSTART;TZID=America/Chicago:20260424T180000
DTEND;TZID=America/Chicago:20260424T210000
DTSTAMP:20260425T054549
CREATED:20260110T215315Z
LAST-MODIFIED:20260110T215315Z
UID:10017903-1777053600-1777064400@gottabesuperior.com
SUMMARY:FNM Commander @ Level UP - Superior
DESCRIPTION:Greetings\, Planeswalkers!Ever wondered what all the excitement is about on Friday nights? It’s Friday Night Commander and you’re invited to join the fun!\nFridays at 6 PMEntry: $17 or $27 in product purchase\nHere’s how it works:\nPlayers are seated in pods of 3-4 (grouped by power level).\nEveryone gets 3 booster packs just for playing.\nPod winners walk away with a total of 7 packs!\nPlus\, snag exclusive promo cards while supplies last.\nBonus: Each time you play\, you’ll earn a raffle ticket for our end-of-month big prize drawing. The more you play\, the better your chances!\nSo\, grab your best deck\, grab your friends\, and flip the table when your opponent plays turn 1 Sol Ring! Whether you’re forging new alliances or betraying old ones\, Friday night is your night to battle!
URL:https://gottabesuperior.com/event/fnm-commander-level-up-superior/2026-04-24/
LOCATION:Level Up\, 525 Tower Ave\, Superior\, WI\, 54880\, United States
CATEGORIES:Community Gathering,Culture,Event/Game/Sport Participation
ATTACH;FMTTYPE=image/jpeg:https://gottabesuperior.com/wp-content/uploads/2026/01/Magic-Commander-Night.jpg
END:VEVENT
BEGIN:VEVENT
DTSTART;TZID=America/Chicago:20260424T180000
DTEND;TZID=America/Chicago:20260424T210000
DTSTAMP:20260425T054549
CREATED:20260220T041108Z
LAST-MODIFIED:20260220T041832Z
UID:10018641-1777053600-1777064400@gottabesuperior.com
SUMMARY:Night Song Trio @ Superior Tavern - Superior
DESCRIPTION:
URL:https://gottabesuperior.com/event/night-song-trio-superior-tavern-superior/2026-04-24/
LOCATION:Superior Tavern\, 1224 Tower Ave.\, Superior\, WI\, 54880\, United States
CATEGORIES:Live Entertainment
ATTACH;FMTTYPE=image/jpeg:https://gottabesuperior.com/wp-content/uploads/2026/02/Night-Song-Trio.jpg
END:VEVENT
BEGIN:VEVENT
DTSTART;TZID=America/Chicago:20260424T190000
DTEND;TZID=America/Chicago:20260424T220000
DTSTAMP:20260425T054549
CREATED:20260103T220228Z
LAST-MODIFIED:20260103T220228Z
UID:10017537-1777057200-1777068000@gottabesuperior.com
SUMMARY:The Mackie Bros. @ Belknap Liquor & Lounge - Superior
DESCRIPTION:
URL:https://gottabesuperior.com/event/the-mackie-bros-belknap-liquor-lounge-superior/2026-04-24/
LOCATION:Belknap Liquor & Lounge\, 130 Belknap St.\, Superior\, WI\, 54880\, United States
CATEGORIES:Live Entertainment
ATTACH;FMTTYPE=image/png:https://gottabesuperior.com/wp-content/uploads/2026/01/Mackie-Brothers-logo.png
ORGANIZER;CN="Belknap Liquors & Lounge":MAILTO:Al@BelknapLiquor.com
END:VEVENT
BEGIN:VEVENT
DTSTART;TZID=America/Chicago:20260424T200000
DTEND;TZID=America/Chicago:20260424T230000
DTSTAMP:20260425T054549
CREATED:20260418T185410Z
LAST-MODIFIED:20260418T185410Z
UID:10019145-1777060800-1777071600@gottabesuperior.com
SUMMARY:The Old 13 String Bandits\, Cosmic Otter Club and Kyle Orla @ Cedar Lounge - Superior
DESCRIPTION:Follow link for tickets \nhttps://www.eventbrite.com/e/the-old-13-string-bandits-cosmic-otter-club-and-kyle-orla-tickets-1986460504844?aff=ebdsoporgprofile
URL:https://gottabesuperior.com/event/the-old-13-string-bandits-cosmic-otter-club-and-kyle-orla-cedar-lounge-superior/
LOCATION:Cedar Lounge\, 1715 N. 3rd St.\, Superior\, WI\, 54880\, United States
CATEGORIES:Live Entertainment
ATTACH;FMTTYPE=image/jpeg:https://gottabesuperior.com/wp-content/uploads/2024/04/cedar-lounge.jpg
END:VEVENT
BEGIN:VEVENT
DTSTART;TZID=America/Chicago:20260424T203000
DTEND;TZID=America/Chicago:20260424T230000
DTSTAMP:20260425T054549
CREATED:20260401T230914Z
LAST-MODIFIED:20260401T230914Z
UID:10018943-1777062600-1777071600@gottabesuperior.com
SUMMARY:Adult Skate Night @ World of Wheels - Superior
DESCRIPTION:$10.90 plus rentals \n$9.90 plus rentals College Rate w/valid photo ID
URL:https://gottabesuperior.com/event/adult-skate-night-world-of-wheels-superior-2/2026-04-24/
LOCATION:WI
CATEGORIES:Event/Game/Sport Participation
END:VEVENT
BEGIN:VEVENT
DTSTART;TZID=America/Chicago:20260425T080000
DTEND;TZID=America/Chicago:20260425T160000
DTSTAMP:20260425T054549
CREATED:20260319T173207Z
LAST-MODIFIED:20260319T173207Z
UID:10018848-1777104000-1777132800@gottabesuperior.com
SUMMARY:Wisconsin Hunter Safety Class @ Mission Covenant Church - Poplar WI
DESCRIPTION:Class fee will be $10.  Class size is limited.  For more information call Tome Chandler at 218-391-1374  or Brad Larabee at 715-828-0308
URL:https://gottabesuperior.com/event/wisconsin-hunter-safety-class-mission-covenant-church-poplar-wi/
LOCATION:Mission Covenant Church\, 5161 County Rd P\, Poplar\, 54864\, United States
CATEGORIES:Community Education,Event/Game/Sport Participation
ATTACH;FMTTYPE=image/jpeg:https://gottabesuperior.com/wp-content/uploads/2026/03/Hunt-smart.jpeg
END:VEVENT
BEGIN:VEVENT
DTSTART;TZID=America/Chicago:20260425T080000
DTEND;TZID=America/Chicago:20260425T170000
DTSTAMP:20260425T054549
CREATED:20260124T193414Z
LAST-MODIFIED:20260124T193414Z
UID:10018048-1777104000-1777136400@gottabesuperior.com
SUMMARY:UW Superior Men's & Women's Track & Field Conway Classic @  Superior Choice Credit Union Stadium- Superior
DESCRIPTION:
URL:https://gottabesuperior.com/event/uw-superior-mens-womens-track-field-conway-classic-superior-choice-credit-union-stadium-superior/
LOCATION:Superior Choice Credit Union Stadium\, 1714 Catlin Ave\, Superior\, WI\, United States
CATEGORIES:College Sports,Event/Game/Sports Spectator
ATTACH;FMTTYPE=image/jpeg:https://gottabesuperior.com/wp-content/uploads/2025/01/UWSuperior-TF.jpg
END:VEVENT
BEGIN:VEVENT
DTSTART;TZID=America/Chicago:20260425T090000
DTEND;TZID=America/Chicago:20260425T100000
DTSTAMP:20260425T054549
CREATED:20250718T183519Z
LAST-MODIFIED:20250718T183519Z
UID:10015359-1777107600-1777111200@gottabesuperior.com
SUMMARY:Coffee & Guitar w/ Darin Bergsven Livestream
DESCRIPTION:Jazz guitarist Darin Bergsven performs a livestream show every Saturday morning on his YouTube channel\, sometimes with guest musicians. \nhttps://www.youtube.com/channel/UCy810FRxbrv5kJ6ShcTzODQ
URL:https://gottabesuperior.com/event/coffee-guitar-w-darin-bergsven-livestream/2026-04-25/
LOCATION:Online
CATEGORIES:Free,Live Entertainment,Online or Radio Event
ATTACH;FMTTYPE=image/jpeg:https://gottabesuperior.com/wp-content/uploads/2025/07/Coffee-and-Guitar-with-Darin-Bergsven.jpg
END:VEVENT
BEGIN:VEVENT
DTSTART;TZID=America/Chicago:20260425T090000
DTEND;TZID=America/Chicago:20260425T160000
DTSTAMP:20260425T054549
CREATED:20251216T013306Z
LAST-MODIFIED:20251216T013306Z
UID:10017398-1777107600-1777132800@gottabesuperior.com
SUMMARY:Spring Makers Market @ Aces on 29th - Superior
DESCRIPTION:Featuring handmade crafts and baked goods from local artists. \nMany Vendor spaces open.
URL:https://gottabesuperior.com/event/spring-makers-market-aces-on-29th-superior/
LOCATION:Aces on 29th\, 2827 Oakes Ave\, Superior\, WI\, 54880\, United States
CATEGORIES:Markets/Sales
ATTACH;FMTTYPE=image/jpeg:https://gottabesuperior.com/wp-content/uploads/2025/12/Spring-Market-at-Aces.jpg
ORGANIZER;CN="Belle Littler":MAILTO:belle.littler@hotmail.com
END:VEVENT
BEGIN:VEVENT
DTSTART;TZID=America/Chicago:20260425T090000
DTEND;TZID=America/Chicago:20260425T160000
DTSTAMP:20260425T054549
CREATED:20260219T233123Z
LAST-MODIFIED:20260219T233123Z
UID:10018529-1777107600-1777132800@gottabesuperior.com
SUMMARY:Spring Paint/Craft Retreat w/Nana's Paint Nook @ Superior WI
DESCRIPTION:Join me for our 1st Spring Paint/Craft 2 Day Retreat here locally in Superior! (no overnite). Seven projects to choose from.  2 continental breakfast and two lunches included.\n\nGet your deposit in….limited seats!\nfollow link to register  https://www.nanaspaintnook.com/product-page/nanas-paint-nook-spring-retreat-2026?fbclid=IwY2xjawQEeeJleHRuA2FlbQIxMABicmlkETI3VFZiVTZ6U1FIanZZR05Jc3J0YwZhcHBfaWQQMjIyMDM5MTc4ODIwMDg5MgABHobUYB3Fxhx6olfN7Ix9RLU7S21ilJiNoVa7EA7rloPQTjJVUqSYSAmQ05Xf_aem_JFJj6K4DovrDEkBy0B56hw
URL:https://gottabesuperior.com/event/spring-paint-craft-retreat-w-nanas-paint-nook-superior-wi/2026-04-25/
LOCATION:Superior WI
CATEGORIES:Art,Community Education,Community Gathering,Event/Game/Sport Participation,Makers Class,Registration Required
ATTACH;FMTTYPE=image/jpeg:https://gottabesuperior.com/wp-content/uploads/2026/02/626122252_954457456930614_530751714450231726_n.jpg
ORGANIZER;CN="Nannas Paint Nook%3A Noreen Knight%2C":MAILTO:paintnook@hotmail.com
END:VEVENT
BEGIN:VEVENT
DTSTART;TZID=America/Chicago:20260425T100000
DTEND;TZID=America/Chicago:20260425T120000
DTSTAMP:20260425T054549
CREATED:20260414T184023Z
LAST-MODIFIED:20260414T184023Z
UID:10019080-1777111200-1777118400@gottabesuperior.com
SUMMARY:Make a Brick Book! @ Superior Public Library - Superior
DESCRIPTION:Join us for a FREE craft program for ages 12+ on Saturday\, April 25 from 10 a.m. to 12 p.m. and make your very own book brick! We’ll provide all the supplies you need (bricks\, paint\, markers) to decorate a brick to look like a book — perfect for adding to your garden or displaying on a shelf! No registration is required!
URL:https://gottabesuperior.com/event/make-a-brick-book-superior-public-library-superior/
LOCATION:Superior Public Library\, 1530 Tower Ave\, Superior\, WI\, 54880\, United States
CATEGORIES:Art,Community Gathering,Event/Game/Sport Participation,Free,Youth Activity
ATTACH;FMTTYPE=image/jpeg:https://gottabesuperior.com/wp-content/uploads/2026/04/brick-book.jpg
END:VEVENT
BEGIN:VEVENT
DTSTART;TZID=America/Chicago:20260425T100000
DTEND;TZID=America/Chicago:20260425T190000
DTSTAMP:20260425T054549
CREATED:20260423T194354Z
LAST-MODIFIED:20260423T194428Z
UID:10019199-1777111200-1777143600@gottabesuperior.com
SUMMARY:Independent Book Store Day @ Foxes & Fireflies Booksellers - Superior
DESCRIPTION:It’s Independent Bookstore Day!!!\nWe’ve got so much fun for you:\n2 local authors\n1 passport adventure featuring 7 area bookstores\nExclusive items\nA 50% off book table\nAnd\, of course\, cookies.\nWe’ll even be open late to help you pack in all the fun.
URL:https://gottabesuperior.com/event/independant-book-store-day-foxes-fireflies-booksellers-superior/
LOCATION:Foxes & Fireflies Booksellers\, 1401 Tower Ave\, Superior\, 54880\, United States
CATEGORIES:Book Club/Discussion,Community Gathering,Culture,Event/Game/Sport Participation,Free,Kids & Family,Meet/Greet
ATTACH;FMTTYPE=image/jpeg:https://gottabesuperior.com/wp-content/uploads/2026/04/Independant-Book-Store-day.jpg
ORGANIZER;CN="Foxes & Fireflies Booksellers":MAILTO:foxesandfirefliesbooksellers@gmail.com
END:VEVENT
BEGIN:VEVENT
DTSTART;TZID=America/Chicago:20260425T110000
DTEND;TZID=America/Chicago:20260425T130000
DTSTAMP:20260425T054549
CREATED:20260415T012257Z
LAST-MODIFIED:20260415T012257Z
UID:10019095-1777114800-1777122000@gottabesuperior.com
SUMMARY:Author Denis James Book Launch @ Foxes & Fireflies Bookseller - Superior
DESCRIPTION:Denis James will be launching the third book in The Arcane Rebellion\, “Aurora\,” on Independent Bookstore Day.\nStop by for treats\, discussion and a chance to get your book signed by our local author.\nKeep the pages turning.
URL:https://gottabesuperior.com/event/author-denis-james-book-launch-foxes-fireflies-bookseller-superior/
LOCATION:Foxes & Fireflies Booksellers\, 1401 Tower Ave\, Superior\, 54880\, United States
CATEGORIES:Book Club/Discussion,Community Gathering,Culture,Event/Game/Sport Participation,Free,Meet/Greet
ATTACH;FMTTYPE=image/jpeg:https://gottabesuperior.com/wp-content/uploads/2026/04/Aurora.jpg
ORGANIZER;CN="Foxes & Fireflies Booksellers":MAILTO:foxesandfirefliesbooksellers@gmail.com
END:VEVENT
BEGIN:VEVENT
DTSTART;TZID=America/Chicago:20260425T110000
DTEND;TZID=America/Chicago:20260425T150000
DTSTAMP:20260425T054549
CREATED:20260401T173229Z
LAST-MODIFIED:20260401T173229Z
UID:10018891-1777114800-1777129200@gottabesuperior.com
SUMMARY:The Rhythm of Her @ St. Scholastica Somers Lounge - Duluth
DESCRIPTION:Putting on a women’s health immersion that covers the essential in understanding and supporting your female body — cycles\, hormones\, pregnancy\, postpartum\, perimenopause\, menopause\, and the nervous system changes underneath all of it.\n\n\nAnd raising money to build something lasting for this community.\n\n\nThe Northland Holistic Collective is working to establish a real\, registered directory of alternative and integrative health practitioners in the Twin Ports.\n\n\nEvery ticket to The Rhythm of Her goes toward making that real.\n\n\nApril 25th | CSS Somers Lounge\, Duluth | 11am–3pm\n$30–60 | Sliding scale\n\n\n Links in bio — register and payment both there\nTag someone who’s been looking for this kind of community.
URL:https://gottabesuperior.com/event/the-rhythm-of-her-st-scholastica-somers-lounge-duluth/
LOCATION:CSS Somers Lounge\, 1200 Kenwood Ave\, Duluth\, MN\, United States
CATEGORIES:Community Education,Community Gathering,Discussion Group,Event/Game/Sport Participation,Event/Game/Sports Spectator,Fundraiser
ATTACH;FMTTYPE=image/jpeg:https://gottabesuperior.com/wp-content/uploads/2026/04/rhythm.jpg
ORGANIZER;CN="Northland Holistic Collective":MAILTO:northlandholisticcollective@gmail.com
END:VEVENT
BEGIN:VEVENT
DTSTART;TZID=America/Chicago:20260425T110000
DTEND;TZID=America/Chicago:20260425T150000
DTSTAMP:20260425T054549
CREATED:20260401T221807Z
LAST-MODIFIED:20260401T221807Z
UID:10018901-1777114800-1777129200@gottabesuperior.com
SUMMARY:Pages and Pines: Where Books and Nature Come Together @ Jay Cooke State Park - Carlton
DESCRIPTION:Join us during National Library Week at Jay Cooke State Park\nfor stories\, fresh air\, and nature fun! You are invited to this\nfree\, all-ages event where you can meet your local libraries.\nWe’ll share books inspired by the outdoors\, explore our\nsurroundings through activities and programs\, and discover\nhow the park is full of stories waiting to be read.
URL:https://gottabesuperior.com/event/pages-and-pines-where-books-and-nature-come-together-jay-cooke-state-park-carlton/
LOCATION:Jay Cooke State Park\, 780 Highway 210\, Carlton\, MN\, 55718\, United States
CATEGORIES:Community Education,Event/Game/Sport Participation,Kids & Family,Nature
ATTACH;FMTTYPE=image/jpeg:https://gottabesuperior.com/wp-content/uploads/2024/12/jay-cooke-state-park.jpg
ORGANIZER;CN="Jay Cooke State Park":MAILTO:kris.hiller@state.mn.us
END:VEVENT
BEGIN:VEVENT
DTSTART;TZID=America/Chicago:20260425T120000
DTEND;TZID=America/Chicago:20260425T200000
DTSTAMP:20260425T054549
CREATED:20250805T135556Z
LAST-MODIFIED:20250805T135556Z
UID:10015795-1777118400-1777147200@gottabesuperior.com
SUMMARY:MTG Casual Commander @ Globe News - Superior
DESCRIPTION:
URL:https://gottabesuperior.com/event/mtg-casual-commander-globe-news-superior/2026-04-25/
LOCATION:Globe News
CATEGORIES:Community Gathering,Event/Game/Sport Participation
ATTACH;FMTTYPE=image/jpeg:https://gottabesuperior.com/wp-content/uploads/2023/01/globe-news-sign.jpg
END:VEVENT
BEGIN:VEVENT
DTSTART;TZID=America/Chicago:20260425T130000
DTEND;TZID=America/Chicago:20260425T160000
DTSTAMP:20260425T054549
CREATED:20260405T163640Z
LAST-MODIFIED:20260405T163640Z
UID:10018992-1777122000-1777132800@gottabesuperior.com
SUMMARY:Similar Dogs @ Thirsty Pagan - Superior
DESCRIPTION:
URL:https://gottabesuperior.com/event/similar-dogs-thirsty-pagan-superior/2026-04-25/
LOCATION:The Thirsty Pagan\, 1615 Winter St\, Superior\, WI\, 54880\, United States
CATEGORIES:Live Entertainment
ATTACH;FMTTYPE=image/jpeg:https://gottabesuperior.com/wp-content/uploads/2025/02/Similar-Dogs.jpg
ORGANIZER;CN="The Thirsty Pagan":MAILTO:steve@thirstypaganbrewing.com
END:VEVENT
BEGIN:VEVENT
DTSTART;TZID=America/Chicago:20260425T130000
DTEND;TZID=America/Chicago:20260425T200000
DTSTAMP:20260425T054549
CREATED:20260401T231536Z
LAST-MODIFIED:20260401T231536Z
UID:10018952-1777122000-1777147200@gottabesuperior.com
SUMMARY:All Day Family Skate @ World of Wheels - Superior
DESCRIPTION:$9.95 plus rental
URL:https://gottabesuperior.com/event/all-day-family-skate-world-of-wheels-superior/2026-04-25/
LOCATION:World of Wheels\, 1218 Oakes Ave\, Superior\, WI\, 54880\, United States
CATEGORIES:Community Gathering,Event/Game/Sport Participation,Kids & Family
ATTACH;FMTTYPE=image/png:https://gottabesuperior.com/wp-content/uploads/2024/08/World-of-Wheels.png
END:VEVENT
END:VCALENDAR