BEGIN:VCALENDAR
VERSION:2.0
PRODID:-//Gotta Be Superior - ECPv6.15.18//NONSGML v1.0//EN
CALSCALE:GREGORIAN
METHOD:PUBLISH
X-WR-CALNAME:Gotta Be Superior
X-ORIGINAL-URL:https://gottabesuperior.com
X-WR-CALDESC:Events for Gotta Be Superior
REFRESH-INTERVAL;VALUE=DURATION:PT1H
X-Robots-Tag:noindex
X-PUBLISHED-TTL:PT1H
BEGIN:VTIMEZONE
TZID:America/Chicago
BEGIN:DAYLIGHT
TZOFFSETFROM:-0600
TZOFFSETTO:-0500
TZNAME:CDT
DTSTART:20250309T080000
END:DAYLIGHT
BEGIN:STANDARD
TZOFFSETFROM:-0500
TZOFFSETTO:-0600
TZNAME:CST
DTSTART:20251102T070000
END:STANDARD
BEGIN:DAYLIGHT
TZOFFSETFROM:-0600
TZOFFSETTO:-0500
TZNAME:CDT
DTSTART:20260308T080000
END:DAYLIGHT
BEGIN:STANDARD
TZOFFSETFROM:-0500
TZOFFSETTO:-0600
TZNAME:CST
DTSTART:20261101T070000
END:STANDARD
BEGIN:DAYLIGHT
TZOFFSETFROM:-0600
TZOFFSETTO:-0500
TZNAME:CDT
DTSTART:20270314T080000
END:DAYLIGHT
BEGIN:STANDARD
TZOFFSETFROM:-0500
TZOFFSETTO:-0600
TZNAME:CST
DTSTART:20271107T070000
END:STANDARD
BEGIN:DAYLIGHT
TZOFFSETFROM:-0600
TZOFFSETTO:-0500
TZNAME:CDT
DTSTART:20280312T080000
END:DAYLIGHT
BEGIN:STANDARD
TZOFFSETFROM:-0500
TZOFFSETTO:-0600
TZNAME:CST
DTSTART:20281105T070000
END:STANDARD
END:VTIMEZONE
BEGIN:VEVENT
DTSTART;TZID=America/Chicago:20260510T173000
DTEND;TZID=America/Chicago:20260510T183000
DTSTAMP:20260420T104255
CREATED:20251209T183025Z
LAST-MODIFIED:20251209T183025Z
UID:10017366-1778434200-1778437800@gottabesuperior.com
SUMMARY:First Sunday Suppers @ Pilgrim Lutheran Church - Superior
DESCRIPTION:Join us every first Sunday of the month for a free community supper!  All are welcome!
URL:https://gottabesuperior.com/event/first-sunday-suppers-pilgrim-lutheran-church-superior/2026-05-10/
LOCATION:Pilgrim Lutheran Church – Superior\, 820 Belknap St\, Superior\, WI\, United States
CATEGORIES:Community Gathering,Food & Drink,Free,Meal
ATTACH;FMTTYPE=image/jpeg:https://gottabesuperior.com/wp-content/uploads/2025/12/Pilgrim-Lutheran.jpg
END:VEVENT
BEGIN:VEVENT
DTSTART;TZID=America/Chicago:20260614T173000
DTEND;TZID=America/Chicago:20260614T183000
DTSTAMP:20260420T104255
CREATED:20251209T183025Z
LAST-MODIFIED:20251209T183025Z
UID:10017367-1781458200-1781461800@gottabesuperior.com
SUMMARY:First Sunday Suppers @ Pilgrim Lutheran Church - Superior
DESCRIPTION:Join us every first Sunday of the month for a free community supper!  All are welcome!
URL:https://gottabesuperior.com/event/first-sunday-suppers-pilgrim-lutheran-church-superior/2026-06-14/
LOCATION:Pilgrim Lutheran Church – Superior\, 820 Belknap St\, Superior\, WI\, United States
CATEGORIES:Community Gathering,Food & Drink,Free,Meal
ATTACH;FMTTYPE=image/jpeg:https://gottabesuperior.com/wp-content/uploads/2025/12/Pilgrim-Lutheran.jpg
END:VEVENT
BEGIN:VEVENT
DTSTART;TZID=America/Chicago:20260712T173000
DTEND;TZID=America/Chicago:20260712T183000
DTSTAMP:20260420T104255
CREATED:20251209T183025Z
LAST-MODIFIED:20251209T183025Z
UID:10017368-1783877400-1783881000@gottabesuperior.com
SUMMARY:First Sunday Suppers @ Pilgrim Lutheran Church - Superior
DESCRIPTION:Join us every first Sunday of the month for a free community supper!  All are welcome!
URL:https://gottabesuperior.com/event/first-sunday-suppers-pilgrim-lutheran-church-superior/2026-07-12/
LOCATION:Pilgrim Lutheran Church – Superior\, 820 Belknap St\, Superior\, WI\, United States
CATEGORIES:Community Gathering,Food & Drink,Free,Meal
ATTACH;FMTTYPE=image/jpeg:https://gottabesuperior.com/wp-content/uploads/2025/12/Pilgrim-Lutheran.jpg
END:VEVENT
BEGIN:VEVENT
DTSTART;TZID=America/Chicago:20260809T173000
DTEND;TZID=America/Chicago:20260809T183000
DTSTAMP:20260420T104255
CREATED:20251209T183025Z
LAST-MODIFIED:20251209T183025Z
UID:10017369-1786296600-1786300200@gottabesuperior.com
SUMMARY:First Sunday Suppers @ Pilgrim Lutheran Church - Superior
DESCRIPTION:Join us every first Sunday of the month for a free community supper!  All are welcome!
URL:https://gottabesuperior.com/event/first-sunday-suppers-pilgrim-lutheran-church-superior/2026-08-09/
LOCATION:Pilgrim Lutheran Church – Superior\, 820 Belknap St\, Superior\, WI\, United States
CATEGORIES:Community Gathering,Food & Drink,Free,Meal
ATTACH;FMTTYPE=image/jpeg:https://gottabesuperior.com/wp-content/uploads/2025/12/Pilgrim-Lutheran.jpg
END:VEVENT
BEGIN:VEVENT
DTSTART;TZID=America/Chicago:20260913T173000
DTEND;TZID=America/Chicago:20260913T183000
DTSTAMP:20260420T104255
CREATED:20251209T183025Z
LAST-MODIFIED:20251209T183025Z
UID:10017370-1789320600-1789324200@gottabesuperior.com
SUMMARY:First Sunday Suppers @ Pilgrim Lutheran Church - Superior
DESCRIPTION:Join us every first Sunday of the month for a free community supper!  All are welcome!
URL:https://gottabesuperior.com/event/first-sunday-suppers-pilgrim-lutheran-church-superior/2026-09-13/
LOCATION:Pilgrim Lutheran Church – Superior\, 820 Belknap St\, Superior\, WI\, United States
CATEGORIES:Community Gathering,Food & Drink,Free,Meal
ATTACH;FMTTYPE=image/jpeg:https://gottabesuperior.com/wp-content/uploads/2025/12/Pilgrim-Lutheran.jpg
END:VEVENT
BEGIN:VEVENT
DTSTART;TZID=America/Chicago:20261011T173000
DTEND;TZID=America/Chicago:20261011T183000
DTSTAMP:20260420T104255
CREATED:20251209T183025Z
LAST-MODIFIED:20251209T183025Z
UID:10017371-1791739800-1791743400@gottabesuperior.com
SUMMARY:First Sunday Suppers @ Pilgrim Lutheran Church - Superior
DESCRIPTION:Join us every first Sunday of the month for a free community supper!  All are welcome!
URL:https://gottabesuperior.com/event/first-sunday-suppers-pilgrim-lutheran-church-superior/2026-10-11/
LOCATION:Pilgrim Lutheran Church – Superior\, 820 Belknap St\, Superior\, WI\, United States
CATEGORIES:Community Gathering,Food & Drink,Free,Meal
ATTACH;FMTTYPE=image/jpeg:https://gottabesuperior.com/wp-content/uploads/2025/12/Pilgrim-Lutheran.jpg
END:VEVENT
BEGIN:VEVENT
DTSTART;TZID=America/Chicago:20261108T173000
DTEND;TZID=America/Chicago:20261108T183000
DTSTAMP:20260420T104255
CREATED:20251209T183025Z
LAST-MODIFIED:20251209T183025Z
UID:10017372-1794159000-1794162600@gottabesuperior.com
SUMMARY:First Sunday Suppers @ Pilgrim Lutheran Church - Superior
DESCRIPTION:Join us every first Sunday of the month for a free community supper!  All are welcome!
URL:https://gottabesuperior.com/event/first-sunday-suppers-pilgrim-lutheran-church-superior/2026-11-08/
LOCATION:Pilgrim Lutheran Church – Superior\, 820 Belknap St\, Superior\, WI\, United States
CATEGORIES:Community Gathering,Food & Drink,Free,Meal
ATTACH;FMTTYPE=image/jpeg:https://gottabesuperior.com/wp-content/uploads/2025/12/Pilgrim-Lutheran.jpg
END:VEVENT
BEGIN:VEVENT
DTSTART;TZID=America/Chicago:20261213T173000
DTEND;TZID=America/Chicago:20261213T183000
DTSTAMP:20260420T104255
CREATED:20251209T183025Z
LAST-MODIFIED:20251209T183025Z
UID:10017373-1797183000-1797186600@gottabesuperior.com
SUMMARY:First Sunday Suppers @ Pilgrim Lutheran Church - Superior
DESCRIPTION:Join us every first Sunday of the month for a free community supper!  All are welcome!
URL:https://gottabesuperior.com/event/first-sunday-suppers-pilgrim-lutheran-church-superior/2026-12-13/
LOCATION:Pilgrim Lutheran Church – Superior\, 820 Belknap St\, Superior\, WI\, United States
CATEGORIES:Community Gathering,Food & Drink,Free,Meal
ATTACH;FMTTYPE=image/jpeg:https://gottabesuperior.com/wp-content/uploads/2025/12/Pilgrim-Lutheran.jpg
END:VEVENT
BEGIN:VEVENT
DTSTART;TZID=America/Chicago:20270110T173000
DTEND;TZID=America/Chicago:20270110T183000
DTSTAMP:20260420T104255
CREATED:20251209T183025Z
LAST-MODIFIED:20251209T183025Z
UID:10017374-1799602200-1799605800@gottabesuperior.com
SUMMARY:First Sunday Suppers @ Pilgrim Lutheran Church - Superior
DESCRIPTION:Join us every first Sunday of the month for a free community supper!  All are welcome!
URL:https://gottabesuperior.com/event/first-sunday-suppers-pilgrim-lutheran-church-superior/2027-01-10/
LOCATION:Pilgrim Lutheran Church – Superior\, 820 Belknap St\, Superior\, WI\, United States
CATEGORIES:Community Gathering,Food & Drink,Free,Meal
ATTACH;FMTTYPE=image/jpeg:https://gottabesuperior.com/wp-content/uploads/2025/12/Pilgrim-Lutheran.jpg
END:VEVENT
BEGIN:VEVENT
DTSTART;TZID=America/Chicago:20270214T173000
DTEND;TZID=America/Chicago:20270214T183000
DTSTAMP:20260420T104255
CREATED:20251209T183025Z
LAST-MODIFIED:20251209T183025Z
UID:10017375-1802626200-1802629800@gottabesuperior.com
SUMMARY:First Sunday Suppers @ Pilgrim Lutheran Church - Superior
DESCRIPTION:Join us every first Sunday of the month for a free community supper!  All are welcome!
URL:https://gottabesuperior.com/event/first-sunday-suppers-pilgrim-lutheran-church-superior/2027-02-14/
LOCATION:Pilgrim Lutheran Church – Superior\, 820 Belknap St\, Superior\, WI\, United States
CATEGORIES:Community Gathering,Food & Drink,Free,Meal
ATTACH;FMTTYPE=image/jpeg:https://gottabesuperior.com/wp-content/uploads/2025/12/Pilgrim-Lutheran.jpg
END:VEVENT
BEGIN:VEVENT
DTSTART;TZID=America/Chicago:20270314T173000
DTEND;TZID=America/Chicago:20270314T183000
DTSTAMP:20260420T104255
CREATED:20251209T183025Z
LAST-MODIFIED:20251209T183025Z
UID:10017376-1805045400-1805049000@gottabesuperior.com
SUMMARY:First Sunday Suppers @ Pilgrim Lutheran Church - Superior
DESCRIPTION:Join us every first Sunday of the month for a free community supper!  All are welcome!
URL:https://gottabesuperior.com/event/first-sunday-suppers-pilgrim-lutheran-church-superior/2027-03-14/
LOCATION:Pilgrim Lutheran Church – Superior\, 820 Belknap St\, Superior\, WI\, United States
CATEGORIES:Community Gathering,Food & Drink,Free,Meal
ATTACH;FMTTYPE=image/jpeg:https://gottabesuperior.com/wp-content/uploads/2025/12/Pilgrim-Lutheran.jpg
END:VEVENT
BEGIN:VEVENT
DTSTART;TZID=America/Chicago:20270411T173000
DTEND;TZID=America/Chicago:20270411T183000
DTSTAMP:20260420T104255
CREATED:20251209T183025Z
LAST-MODIFIED:20251209T183025Z
UID:10017377-1807464600-1807468200@gottabesuperior.com
SUMMARY:First Sunday Suppers @ Pilgrim Lutheran Church - Superior
DESCRIPTION:Join us every first Sunday of the month for a free community supper!  All are welcome!
URL:https://gottabesuperior.com/event/first-sunday-suppers-pilgrim-lutheran-church-superior/2027-04-11/
LOCATION:Pilgrim Lutheran Church – Superior\, 820 Belknap St\, Superior\, WI\, United States
CATEGORIES:Community Gathering,Food & Drink,Free,Meal
ATTACH;FMTTYPE=image/jpeg:https://gottabesuperior.com/wp-content/uploads/2025/12/Pilgrim-Lutheran.jpg
END:VEVENT
BEGIN:VEVENT
DTSTART;TZID=America/Chicago:20270509T173000
DTEND;TZID=America/Chicago:20270509T183000
DTSTAMP:20260420T104255
CREATED:20251209T183025Z
LAST-MODIFIED:20251209T183025Z
UID:10017378-1809883800-1809887400@gottabesuperior.com
SUMMARY:First Sunday Suppers @ Pilgrim Lutheran Church - Superior
DESCRIPTION:Join us every first Sunday of the month for a free community supper!  All are welcome!
URL:https://gottabesuperior.com/event/first-sunday-suppers-pilgrim-lutheran-church-superior/2027-05-09/
LOCATION:Pilgrim Lutheran Church – Superior\, 820 Belknap St\, Superior\, WI\, United States
CATEGORIES:Community Gathering,Food & Drink,Free,Meal
ATTACH;FMTTYPE=image/jpeg:https://gottabesuperior.com/wp-content/uploads/2025/12/Pilgrim-Lutheran.jpg
END:VEVENT
END:VCALENDAR