BEGIN:VCALENDAR
VERSION:2.0
PRODID:-//Gotta Be Superior - ECPv6.15.18//NONSGML v1.0//EN
CALSCALE:GREGORIAN
METHOD:PUBLISH
X-WR-CALNAME:Gotta Be Superior
X-ORIGINAL-URL:https://gottabesuperior.com
X-WR-CALDESC:Events for Gotta Be Superior
REFRESH-INTERVAL;VALUE=DURATION:PT1H
X-Robots-Tag:noindex
X-PUBLISHED-TTL:PT1H
BEGIN:VTIMEZONE
TZID:America/Chicago
BEGIN:DAYLIGHT
TZOFFSETFROM:-0600
TZOFFSETTO:-0500
TZNAME:CDT
DTSTART:20250309T080000
END:DAYLIGHT
BEGIN:STANDARD
TZOFFSETFROM:-0500
TZOFFSETTO:-0600
TZNAME:CST
DTSTART:20251102T070000
END:STANDARD
BEGIN:DAYLIGHT
TZOFFSETFROM:-0600
TZOFFSETTO:-0500
TZNAME:CDT
DTSTART:20260308T080000
END:DAYLIGHT
BEGIN:STANDARD
TZOFFSETFROM:-0500
TZOFFSETTO:-0600
TZNAME:CST
DTSTART:20261101T070000
END:STANDARD
BEGIN:DAYLIGHT
TZOFFSETFROM:-0600
TZOFFSETTO:-0500
TZNAME:CDT
DTSTART:20270314T080000
END:DAYLIGHT
BEGIN:STANDARD
TZOFFSETFROM:-0500
TZOFFSETTO:-0600
TZNAME:CST
DTSTART:20271107T070000
END:STANDARD
END:VTIMEZONE
BEGIN:VEVENT
DTSTART;TZID=America/Chicago:20260429T103000
DTEND;TZID=America/Chicago:20260429T113000
DTSTAMP:20260424T135439
CREATED:20260117T181901Z
LAST-MODIFIED:20260117T181901Z
UID:10017950-1777458600-1777462200@gottabesuperior.com
SUMMARY:Memory Cafe @ Superior Public Library - Superior
DESCRIPTION:Memory cafés are held at the library the last Wednesday of each month from 10:30 a.m. – 12:30 p.m. and are a partnership with the ADRC of Douglas County\, WI. They’re designed for people experiencing memory loss and their caregivers to have a positive\, safe place to gather and enjoy a hands-on activity. No registration is required.
URL:https://gottabesuperior.com/event/memory-cafe-superior-public-library-superior/2026-04-29/
LOCATION:Superior Public Library\, 1530 Tower Ave\, Superior\, WI\, 54880\, United States
CATEGORIES:Community Gathering,Event/Game/Sport Participation
ATTACH;FMTTYPE=image/png:https://gottabesuperior.com/wp-content/uploads/2024/06/Superior-Public-Library.png
END:VEVENT
BEGIN:VEVENT
DTSTART;TZID=America/Chicago:20260527T103000
DTEND;TZID=America/Chicago:20260527T113000
DTSTAMP:20260424T135439
CREATED:20260117T181901Z
LAST-MODIFIED:20260117T181901Z
UID:10017951-1779877800-1779881400@gottabesuperior.com
SUMMARY:Memory Cafe @ Superior Public Library - Superior
DESCRIPTION:Memory cafés are held at the library the last Wednesday of each month from 10:30 a.m. – 12:30 p.m. and are a partnership with the ADRC of Douglas County\, WI. They’re designed for people experiencing memory loss and their caregivers to have a positive\, safe place to gather and enjoy a hands-on activity. No registration is required.
URL:https://gottabesuperior.com/event/memory-cafe-superior-public-library-superior/2026-05-27/
LOCATION:Superior Public Library\, 1530 Tower Ave\, Superior\, WI\, 54880\, United States
CATEGORIES:Community Gathering,Event/Game/Sport Participation
ATTACH;FMTTYPE=image/png:https://gottabesuperior.com/wp-content/uploads/2024/06/Superior-Public-Library.png
END:VEVENT
BEGIN:VEVENT
DTSTART;TZID=America/Chicago:20260624T103000
DTEND;TZID=America/Chicago:20260624T113000
DTSTAMP:20260424T135439
CREATED:20260117T181901Z
LAST-MODIFIED:20260117T181901Z
UID:10017952-1782297000-1782300600@gottabesuperior.com
SUMMARY:Memory Cafe @ Superior Public Library - Superior
DESCRIPTION:Memory cafés are held at the library the last Wednesday of each month from 10:30 a.m. – 12:30 p.m. and are a partnership with the ADRC of Douglas County\, WI. They’re designed for people experiencing memory loss and their caregivers to have a positive\, safe place to gather and enjoy a hands-on activity. No registration is required.
URL:https://gottabesuperior.com/event/memory-cafe-superior-public-library-superior/2026-06-24/
LOCATION:Superior Public Library\, 1530 Tower Ave\, Superior\, WI\, 54880\, United States
CATEGORIES:Community Gathering,Event/Game/Sport Participation
ATTACH;FMTTYPE=image/png:https://gottabesuperior.com/wp-content/uploads/2024/06/Superior-Public-Library.png
END:VEVENT
BEGIN:VEVENT
DTSTART;TZID=America/Chicago:20260729T103000
DTEND;TZID=America/Chicago:20260729T113000
DTSTAMP:20260424T135439
CREATED:20260117T181901Z
LAST-MODIFIED:20260117T181901Z
UID:10017953-1785321000-1785324600@gottabesuperior.com
SUMMARY:Memory Cafe @ Superior Public Library - Superior
DESCRIPTION:Memory cafés are held at the library the last Wednesday of each month from 10:30 a.m. – 12:30 p.m. and are a partnership with the ADRC of Douglas County\, WI. They’re designed for people experiencing memory loss and their caregivers to have a positive\, safe place to gather and enjoy a hands-on activity. No registration is required.
URL:https://gottabesuperior.com/event/memory-cafe-superior-public-library-superior/2026-07-29/
LOCATION:Superior Public Library\, 1530 Tower Ave\, Superior\, WI\, 54880\, United States
CATEGORIES:Community Gathering,Event/Game/Sport Participation
ATTACH;FMTTYPE=image/png:https://gottabesuperior.com/wp-content/uploads/2024/06/Superior-Public-Library.png
END:VEVENT
BEGIN:VEVENT
DTSTART;TZID=America/Chicago:20260826T103000
DTEND;TZID=America/Chicago:20260826T113000
DTSTAMP:20260424T135439
CREATED:20260117T181901Z
LAST-MODIFIED:20260117T181901Z
UID:10017954-1787740200-1787743800@gottabesuperior.com
SUMMARY:Memory Cafe @ Superior Public Library - Superior
DESCRIPTION:Memory cafés are held at the library the last Wednesday of each month from 10:30 a.m. – 12:30 p.m. and are a partnership with the ADRC of Douglas County\, WI. They’re designed for people experiencing memory loss and their caregivers to have a positive\, safe place to gather and enjoy a hands-on activity. No registration is required.
URL:https://gottabesuperior.com/event/memory-cafe-superior-public-library-superior/2026-08-26/
LOCATION:Superior Public Library\, 1530 Tower Ave\, Superior\, WI\, 54880\, United States
CATEGORIES:Community Gathering,Event/Game/Sport Participation
ATTACH;FMTTYPE=image/png:https://gottabesuperior.com/wp-content/uploads/2024/06/Superior-Public-Library.png
END:VEVENT
BEGIN:VEVENT
DTSTART;TZID=America/Chicago:20260930T103000
DTEND;TZID=America/Chicago:20260930T113000
DTSTAMP:20260424T135439
CREATED:20260117T181901Z
LAST-MODIFIED:20260117T181901Z
UID:10017955-1790764200-1790767800@gottabesuperior.com
SUMMARY:Memory Cafe @ Superior Public Library - Superior
DESCRIPTION:Memory cafés are held at the library the last Wednesday of each month from 10:30 a.m. – 12:30 p.m. and are a partnership with the ADRC of Douglas County\, WI. They’re designed for people experiencing memory loss and their caregivers to have a positive\, safe place to gather and enjoy a hands-on activity. No registration is required.
URL:https://gottabesuperior.com/event/memory-cafe-superior-public-library-superior/2026-09-30/
LOCATION:Superior Public Library\, 1530 Tower Ave\, Superior\, WI\, 54880\, United States
CATEGORIES:Community Gathering,Event/Game/Sport Participation
ATTACH;FMTTYPE=image/png:https://gottabesuperior.com/wp-content/uploads/2024/06/Superior-Public-Library.png
END:VEVENT
BEGIN:VEVENT
DTSTART;TZID=America/Chicago:20261028T103000
DTEND;TZID=America/Chicago:20261028T113000
DTSTAMP:20260424T135439
CREATED:20260117T181901Z
LAST-MODIFIED:20260117T181901Z
UID:10017956-1793183400-1793187000@gottabesuperior.com
SUMMARY:Memory Cafe @ Superior Public Library - Superior
DESCRIPTION:Memory cafés are held at the library the last Wednesday of each month from 10:30 a.m. – 12:30 p.m. and are a partnership with the ADRC of Douglas County\, WI. They’re designed for people experiencing memory loss and their caregivers to have a positive\, safe place to gather and enjoy a hands-on activity. No registration is required.
URL:https://gottabesuperior.com/event/memory-cafe-superior-public-library-superior/2026-10-28/
LOCATION:Superior Public Library\, 1530 Tower Ave\, Superior\, WI\, 54880\, United States
CATEGORIES:Community Gathering,Event/Game/Sport Participation
ATTACH;FMTTYPE=image/png:https://gottabesuperior.com/wp-content/uploads/2024/06/Superior-Public-Library.png
END:VEVENT
BEGIN:VEVENT
DTSTART;TZID=America/Chicago:20261125T103000
DTEND;TZID=America/Chicago:20261125T113000
DTSTAMP:20260424T135439
CREATED:20260117T181901Z
LAST-MODIFIED:20260117T181901Z
UID:10017957-1795602600-1795606200@gottabesuperior.com
SUMMARY:Memory Cafe @ Superior Public Library - Superior
DESCRIPTION:Memory cafés are held at the library the last Wednesday of each month from 10:30 a.m. – 12:30 p.m. and are a partnership with the ADRC of Douglas County\, WI. They’re designed for people experiencing memory loss and their caregivers to have a positive\, safe place to gather and enjoy a hands-on activity. No registration is required.
URL:https://gottabesuperior.com/event/memory-cafe-superior-public-library-superior/2026-11-25/
LOCATION:Superior Public Library\, 1530 Tower Ave\, Superior\, WI\, 54880\, United States
CATEGORIES:Community Gathering,Event/Game/Sport Participation
ATTACH;FMTTYPE=image/png:https://gottabesuperior.com/wp-content/uploads/2024/06/Superior-Public-Library.png
END:VEVENT
BEGIN:VEVENT
DTSTART;TZID=America/Chicago:20261230T103000
DTEND;TZID=America/Chicago:20261230T113000
DTSTAMP:20260424T135439
CREATED:20260117T181901Z
LAST-MODIFIED:20260117T181901Z
UID:10017958-1798626600-1798630200@gottabesuperior.com
SUMMARY:Memory Cafe @ Superior Public Library - Superior
DESCRIPTION:Memory cafés are held at the library the last Wednesday of each month from 10:30 a.m. – 12:30 p.m. and are a partnership with the ADRC of Douglas County\, WI. They’re designed for people experiencing memory loss and their caregivers to have a positive\, safe place to gather and enjoy a hands-on activity. No registration is required.
URL:https://gottabesuperior.com/event/memory-cafe-superior-public-library-superior/2026-12-30/
LOCATION:Superior Public Library\, 1530 Tower Ave\, Superior\, WI\, 54880\, United States
CATEGORIES:Community Gathering,Event/Game/Sport Participation
ATTACH;FMTTYPE=image/png:https://gottabesuperior.com/wp-content/uploads/2024/06/Superior-Public-Library.png
END:VEVENT
END:VCALENDAR