BEGIN:VCALENDAR
VERSION:2.0
PRODID:-//Gotta Be Superior - ECPv6.15.18//NONSGML v1.0//EN
CALSCALE:GREGORIAN
METHOD:PUBLISH
X-WR-CALNAME:Gotta Be Superior
X-ORIGINAL-URL:https://gottabesuperior.com
X-WR-CALDESC:Events for Gotta Be Superior
REFRESH-INTERVAL;VALUE=DURATION:PT1H
X-Robots-Tag:noindex
X-PUBLISHED-TTL:PT1H
BEGIN:VTIMEZONE
TZID:America/Chicago
BEGIN:DAYLIGHT
TZOFFSETFROM:-0600
TZOFFSETTO:-0500
TZNAME:CDT
DTSTART:20250309T080000
END:DAYLIGHT
BEGIN:STANDARD
TZOFFSETFROM:-0500
TZOFFSETTO:-0600
TZNAME:CST
DTSTART:20251102T070000
END:STANDARD
BEGIN:DAYLIGHT
TZOFFSETFROM:-0600
TZOFFSETTO:-0500
TZNAME:CDT
DTSTART:20260308T080000
END:DAYLIGHT
BEGIN:STANDARD
TZOFFSETFROM:-0500
TZOFFSETTO:-0600
TZNAME:CST
DTSTART:20261101T070000
END:STANDARD
BEGIN:DAYLIGHT
TZOFFSETFROM:-0600
TZOFFSETTO:-0500
TZNAME:CDT
DTSTART:20270314T080000
END:DAYLIGHT
BEGIN:STANDARD
TZOFFSETFROM:-0500
TZOFFSETTO:-0600
TZNAME:CST
DTSTART:20271107T070000
END:STANDARD
END:VTIMEZONE
BEGIN:VEVENT
DTSTART;TZID=America/Chicago:20260424T160000
DTEND;TZID=America/Chicago:20260424T173000
DTSTAMP:20260424T105153
CREATED:20260220T183053Z
LAST-MODIFIED:20260220T183053Z
UID:10018681-1777046400-1777051800@gottabesuperior.com
SUMMARY:UW Superior Softball vs. Crown @ NBC Baseball & Softball Complex - Superior
DESCRIPTION:
URL:https://gottabesuperior.com/event/uw-superior-softball-vs-crown-nbc-baseball-softball-complex-superior/2026-04-24/
LOCATION:NBC Baseball & Softball Complex\, 2319 Cypress Ave\, Superior\, WI\, United States
CATEGORIES:College Sports,Event/Game/Sports Spectator
ATTACH;FMTTYPE=image/png:https://gottabesuperior.com/wp-content/uploads/2025/03/yellowjacket-softball.png
END:VEVENT
BEGIN:VEVENT
DTSTART;TZID=America/Chicago:20260425T110000
DTEND;TZID=America/Chicago:20260425T123000
DTSTAMP:20260424T105153
CREATED:20260220T183053Z
LAST-MODIFIED:20260220T183053Z
UID:10018682-1777114800-1777120200@gottabesuperior.com
SUMMARY:UW Superior Softball vs. Crown @ NBC Baseball & Softball Complex - Superior
DESCRIPTION:
URL:https://gottabesuperior.com/event/uw-superior-softball-vs-crown-nbc-baseball-softball-complex-superior/2026-04-25/1/
LOCATION:NBC Baseball & Softball Complex\, 2319 Cypress Ave\, Superior\, WI\, United States
CATEGORIES:College Sports,Event/Game/Sports Spectator
ATTACH;FMTTYPE=image/png:https://gottabesuperior.com/wp-content/uploads/2025/03/yellowjacket-softball.png
END:VEVENT
BEGIN:VEVENT
DTSTART;TZID=America/Chicago:20260425T130000
DTEND;TZID=America/Chicago:20260425T150000
DTSTAMP:20260424T105153
CREATED:20260220T183053Z
LAST-MODIFIED:20260220T183053Z
UID:10018683-1777122000-1777129200@gottabesuperior.com
SUMMARY:UW Superior Softball vs. Crown @ NBC Baseball & Softball Complex - Superior
DESCRIPTION:
URL:https://gottabesuperior.com/event/uw-superior-softball-vs-crown-nbc-baseball-softball-complex-superior/2026-04-25/2/
LOCATION:NBC Baseball & Softball Complex\, 2319 Cypress Ave\, Superior\, WI\, United States
CATEGORIES:College Sports,Event/Game/Sports Spectator
ATTACH;FMTTYPE=image/png:https://gottabesuperior.com/wp-content/uploads/2025/03/yellowjacket-softball.png
END:VEVENT
END:VCALENDAR