BEGIN:VCALENDAR
VERSION:2.0
PRODID:-//Gotta Be Superior - ECPv6.15.18//NONSGML v1.0//EN
CALSCALE:GREGORIAN
METHOD:PUBLISH
X-WR-CALNAME:Gotta Be Superior
X-ORIGINAL-URL:https://gottabesuperior.com
X-WR-CALDESC:Events for Gotta Be Superior
REFRESH-INTERVAL;VALUE=DURATION:PT1H
X-Robots-Tag:noindex
X-PUBLISHED-TTL:PT1H
BEGIN:VTIMEZONE
TZID:America/Chicago
BEGIN:DAYLIGHT
TZOFFSETFROM:-0600
TZOFFSETTO:-0500
TZNAME:CDT
DTSTART:20250309T080000
END:DAYLIGHT
BEGIN:STANDARD
TZOFFSETFROM:-0500
TZOFFSETTO:-0600
TZNAME:CST
DTSTART:20251102T070000
END:STANDARD
BEGIN:DAYLIGHT
TZOFFSETFROM:-0600
TZOFFSETTO:-0500
TZNAME:CDT
DTSTART:20260308T080000
END:DAYLIGHT
BEGIN:STANDARD
TZOFFSETFROM:-0500
TZOFFSETTO:-0600
TZNAME:CST
DTSTART:20261101T070000
END:STANDARD
BEGIN:DAYLIGHT
TZOFFSETFROM:-0600
TZOFFSETTO:-0500
TZNAME:CDT
DTSTART:20270314T080000
END:DAYLIGHT
BEGIN:STANDARD
TZOFFSETFROM:-0500
TZOFFSETTO:-0600
TZNAME:CST
DTSTART:20271107T070000
END:STANDARD
END:VTIMEZONE
BEGIN:VEVENT
DTSTART;TZID=America/Chicago:20260425T130000
DTEND;TZID=America/Chicago:20260425T200000
DTSTAMP:20260419T090828
CREATED:20260401T231536Z
LAST-MODIFIED:20260401T231536Z
UID:10018952-1777122000-1777147200@gottabesuperior.com
SUMMARY:All Day Family Skate @ World of Wheels - Superior
DESCRIPTION:$9.95 plus rental
URL:https://gottabesuperior.com/event/all-day-family-skate-world-of-wheels-superior/2026-04-25/
LOCATION:World of Wheels\, 1218 Oakes Ave\, Superior\, WI\, 54880\, United States
CATEGORIES:Community Gathering,Event/Game/Sport Participation,Kids & Family
ATTACH;FMTTYPE=image/png:https://gottabesuperior.com/wp-content/uploads/2024/08/World-of-Wheels.png
END:VEVENT
BEGIN:VEVENT
DTSTART;TZID=America/Chicago:20260502T130000
DTEND;TZID=America/Chicago:20260502T200000
DTSTAMP:20260419T090828
CREATED:20260401T231536Z
LAST-MODIFIED:20260401T231536Z
UID:10018953-1777726800-1777752000@gottabesuperior.com
SUMMARY:All Day Family Skate @ World of Wheels - Superior
DESCRIPTION:$9.95 plus rental
URL:https://gottabesuperior.com/event/all-day-family-skate-world-of-wheels-superior/2026-05-02/
LOCATION:World of Wheels\, 1218 Oakes Ave\, Superior\, WI\, 54880\, United States
CATEGORIES:Community Gathering,Event/Game/Sport Participation,Kids & Family
ATTACH;FMTTYPE=image/png:https://gottabesuperior.com/wp-content/uploads/2024/08/World-of-Wheels.png
END:VEVENT
BEGIN:VEVENT
DTSTART;TZID=America/Chicago:20260509T130000
DTEND;TZID=America/Chicago:20260509T200000
DTSTAMP:20260419T090828
CREATED:20260401T231536Z
LAST-MODIFIED:20260401T231536Z
UID:10018954-1778331600-1778356800@gottabesuperior.com
SUMMARY:All Day Family Skate @ World of Wheels - Superior
DESCRIPTION:$9.95 plus rental
URL:https://gottabesuperior.com/event/all-day-family-skate-world-of-wheels-superior/2026-05-09/
LOCATION:World of Wheels\, 1218 Oakes Ave\, Superior\, WI\, 54880\, United States
CATEGORIES:Community Gathering,Event/Game/Sport Participation,Kids & Family
ATTACH;FMTTYPE=image/png:https://gottabesuperior.com/wp-content/uploads/2024/08/World-of-Wheels.png
END:VEVENT
BEGIN:VEVENT
DTSTART;TZID=America/Chicago:20260516T130000
DTEND;TZID=America/Chicago:20260516T200000
DTSTAMP:20260419T090828
CREATED:20260401T231536Z
LAST-MODIFIED:20260401T231536Z
UID:10018955-1778936400-1778961600@gottabesuperior.com
SUMMARY:All Day Family Skate @ World of Wheels - Superior
DESCRIPTION:$9.95 plus rental
URL:https://gottabesuperior.com/event/all-day-family-skate-world-of-wheels-superior/2026-05-16/
LOCATION:World of Wheels\, 1218 Oakes Ave\, Superior\, WI\, 54880\, United States
CATEGORIES:Community Gathering,Event/Game/Sport Participation,Kids & Family
ATTACH;FMTTYPE=image/png:https://gottabesuperior.com/wp-content/uploads/2024/08/World-of-Wheels.png
END:VEVENT
BEGIN:VEVENT
DTSTART;TZID=America/Chicago:20260523T130000
DTEND;TZID=America/Chicago:20260523T200000
DTSTAMP:20260419T090828
CREATED:20260401T231536Z
LAST-MODIFIED:20260401T231536Z
UID:10018956-1779541200-1779566400@gottabesuperior.com
SUMMARY:All Day Family Skate @ World of Wheels - Superior
DESCRIPTION:$9.95 plus rental
URL:https://gottabesuperior.com/event/all-day-family-skate-world-of-wheels-superior/2026-05-23/
LOCATION:World of Wheels\, 1218 Oakes Ave\, Superior\, WI\, 54880\, United States
CATEGORIES:Community Gathering,Event/Game/Sport Participation,Kids & Family
ATTACH;FMTTYPE=image/png:https://gottabesuperior.com/wp-content/uploads/2024/08/World-of-Wheels.png
END:VEVENT
BEGIN:VEVENT
DTSTART;TZID=America/Chicago:20260530T130000
DTEND;TZID=America/Chicago:20260530T200000
DTSTAMP:20260419T090828
CREATED:20260401T231536Z
LAST-MODIFIED:20260401T231536Z
UID:10018957-1780146000-1780171200@gottabesuperior.com
SUMMARY:All Day Family Skate @ World of Wheels - Superior
DESCRIPTION:$9.95 plus rental
URL:https://gottabesuperior.com/event/all-day-family-skate-world-of-wheels-superior/2026-05-30/
LOCATION:World of Wheels\, 1218 Oakes Ave\, Superior\, WI\, 54880\, United States
CATEGORIES:Community Gathering,Event/Game/Sport Participation,Kids & Family
ATTACH;FMTTYPE=image/png:https://gottabesuperior.com/wp-content/uploads/2024/08/World-of-Wheels.png
END:VEVENT
END:VCALENDAR