BEGIN:VCALENDAR
VERSION:2.0
PRODID:-//Gotta Be Superior - ECPv6.15.18//NONSGML v1.0//EN
CALSCALE:GREGORIAN
METHOD:PUBLISH
X-WR-CALNAME:Gotta Be Superior
X-ORIGINAL-URL:https://gottabesuperior.com
X-WR-CALDESC:Events for Gotta Be Superior
REFRESH-INTERVAL;VALUE=DURATION:PT1H
X-Robots-Tag:noindex
X-PUBLISHED-TTL:PT1H
BEGIN:VTIMEZONE
TZID:America/Chicago
BEGIN:DAYLIGHT
TZOFFSETFROM:-0600
TZOFFSETTO:-0500
TZNAME:CDT
DTSTART:20250309T080000
END:DAYLIGHT
BEGIN:STANDARD
TZOFFSETFROM:-0500
TZOFFSETTO:-0600
TZNAME:CST
DTSTART:20251102T070000
END:STANDARD
BEGIN:DAYLIGHT
TZOFFSETFROM:-0600
TZOFFSETTO:-0500
TZNAME:CDT
DTSTART:20260308T080000
END:DAYLIGHT
BEGIN:STANDARD
TZOFFSETFROM:-0500
TZOFFSETTO:-0600
TZNAME:CST
DTSTART:20261101T070000
END:STANDARD
BEGIN:DAYLIGHT
TZOFFSETFROM:-0600
TZOFFSETTO:-0500
TZNAME:CDT
DTSTART:20270314T080000
END:DAYLIGHT
BEGIN:STANDARD
TZOFFSETFROM:-0500
TZOFFSETTO:-0600
TZNAME:CST
DTSTART:20271107T070000
END:STANDARD
END:VTIMEZONE
BEGIN:VEVENT
DTSTART;TZID=America/Chicago:20260429T163000
DTEND;TZID=America/Chicago:20260429T183000
DTSTAMP:20260424T134811
CREATED:20260418T163813Z
LAST-MODIFIED:20260418T163813Z
UID:10019118-1777480200-1777487400@gottabesuperior.com
SUMMARY:Device Advice @ Superior Public Library - Superior
DESCRIPTION:Are you stumped by your smartphone\, tablet\, or laptop? Let our patient and persistent library staff help you with common device issues at our next Device Advice!\nStop by the library on Wednesday\, April 29 from 4:30-6:30 p.m. or on Thursday\, April 30 from 10:30 a.m.-12:30 p.m. and we’ll do our best to help you with your device. We’re unable to fix broken devices\, but we’ll do our best to help. No registration required.\nPatrons will be assisted on a first-come\, first-served basis. We may need to limit the amount of time we spend with you based on the number of patrons waiting for help.
URL:https://gottabesuperior.com/event/device-advice-superior-public-library-superior/2026-04-29/
LOCATION:Superior Public Library\, 1530 Tower Ave\, Superior\, WI\, 54880\, United States
CATEGORIES:Community Education,Event/Game/Sport Participation
ATTACH;FMTTYPE=image/jpeg:https://gottabesuperior.com/wp-content/uploads/2026/04/device-advice.jpg
END:VEVENT
BEGIN:VEVENT
DTSTART;TZID=America/Chicago:20260430T103000
DTEND;TZID=America/Chicago:20260430T123000
DTSTAMP:20260424T134811
CREATED:20260418T163813Z
LAST-MODIFIED:20260418T163813Z
UID:10019119-1777545000-1777552200@gottabesuperior.com
SUMMARY:Device Advice @ Superior Public Library - Superior
DESCRIPTION:Are you stumped by your smartphone\, tablet\, or laptop? Let our patient and persistent library staff help you with common device issues at our next Device Advice!\nStop by the library on Wednesday\, April 29 from 4:30-6:30 p.m. or on Thursday\, April 30 from 10:30 a.m.-12:30 p.m. and we’ll do our best to help you with your device. We’re unable to fix broken devices\, but we’ll do our best to help. No registration required.\nPatrons will be assisted on a first-come\, first-served basis. We may need to limit the amount of time we spend with you based on the number of patrons waiting for help.
URL:https://gottabesuperior.com/event/device-advice-superior-public-library-superior/2026-04-30/
LOCATION:Superior Public Library\, 1530 Tower Ave\, Superior\, WI\, 54880\, United States
CATEGORIES:Community Education,Event/Game/Sport Participation
ATTACH;FMTTYPE=image/jpeg:https://gottabesuperior.com/wp-content/uploads/2026/04/device-advice.jpg
END:VEVENT
END:VCALENDAR