BEGIN:VCALENDAR
VERSION:2.0
PRODID:-//Gotta Be Superior - ECPv6.15.18//NONSGML v1.0//EN
CALSCALE:GREGORIAN
METHOD:PUBLISH
X-WR-CALNAME:Gotta Be Superior
X-ORIGINAL-URL:https://gottabesuperior.com
X-WR-CALDESC:Events for Gotta Be Superior
REFRESH-INTERVAL;VALUE=DURATION:PT1H
X-Robots-Tag:noindex
X-PUBLISHED-TTL:PT1H
BEGIN:VTIMEZONE
TZID:America/Chicago
BEGIN:DAYLIGHT
TZOFFSETFROM:-0600
TZOFFSETTO:-0500
TZNAME:CDT
DTSTART:20250309T080000
END:DAYLIGHT
BEGIN:STANDARD
TZOFFSETFROM:-0500
TZOFFSETTO:-0600
TZNAME:CST
DTSTART:20251102T070000
END:STANDARD
BEGIN:DAYLIGHT
TZOFFSETFROM:-0600
TZOFFSETTO:-0500
TZNAME:CDT
DTSTART:20260308T080000
END:DAYLIGHT
BEGIN:STANDARD
TZOFFSETFROM:-0500
TZOFFSETTO:-0600
TZNAME:CST
DTSTART:20261101T070000
END:STANDARD
BEGIN:DAYLIGHT
TZOFFSETFROM:-0600
TZOFFSETTO:-0500
TZNAME:CDT
DTSTART:20270314T080000
END:DAYLIGHT
BEGIN:STANDARD
TZOFFSETFROM:-0500
TZOFFSETTO:-0600
TZNAME:CST
DTSTART:20271107T070000
END:STANDARD
END:VTIMEZONE
BEGIN:VEVENT
DTSTART;TZID=America/Chicago:20260426T160000
DTEND;TZID=America/Chicago:20260426T200000
DTSTAMP:20260419T131805
CREATED:20260418T181150Z
LAST-MODIFIED:20260418T181150Z
UID:10019126-1777219200-1777233600@gottabesuperior.com
SUMMARY:Twin Kingdoms Foam Fighting!@ Duluth Heights Park - Superior
DESCRIPTION:Duluth’s foam sword fighting club is back!\nOpening day is Sunday April 26th\n\n\nNew Players Welcome!\nCome Try it out\, it might be the most fun you’ve ever had. Bring a water bottle a pair of running shoes\, and a great attitude!\n\n\nWe will practice Jugger and Belegarth at Duluth Heights Park\, every Sunday from 4 to 8pm! Hope to see you there!
URL:https://gottabesuperior.com/event/twin-kingdoms-foam-fighting-duluth-heights-park-superior/2026-04-26/
LOCATION:Duluth Heights Park\, 33 W Mulberry St\, Duluth\, MN\, United States
CATEGORIES:Community Gathering,Culture,Event/Game/Sport Participation,Live Entertainment
ATTACH;FMTTYPE=image/jpeg:https://gottabesuperior.com/wp-content/uploads/2026/04/Twin-Kingdoms-Foam-Fighting.jpg
END:VEVENT
BEGIN:VEVENT
DTSTART;TZID=America/Chicago:20260503T160000
DTEND;TZID=America/Chicago:20260503T200000
DTSTAMP:20260419T131805
CREATED:20260418T181150Z
LAST-MODIFIED:20260418T181150Z
UID:10019127-1777824000-1777838400@gottabesuperior.com
SUMMARY:Twin Kingdoms Foam Fighting!@ Duluth Heights Park - Superior
DESCRIPTION:Duluth’s foam sword fighting club is back!\nOpening day is Sunday April 26th\n\n\nNew Players Welcome!\nCome Try it out\, it might be the most fun you’ve ever had. Bring a water bottle a pair of running shoes\, and a great attitude!\n\n\nWe will practice Jugger and Belegarth at Duluth Heights Park\, every Sunday from 4 to 8pm! Hope to see you there!
URL:https://gottabesuperior.com/event/twin-kingdoms-foam-fighting-duluth-heights-park-superior/2026-05-03/
LOCATION:Duluth Heights Park\, 33 W Mulberry St\, Duluth\, MN\, United States
CATEGORIES:Community Gathering,Culture,Event/Game/Sport Participation,Live Entertainment
ATTACH;FMTTYPE=image/jpeg:https://gottabesuperior.com/wp-content/uploads/2026/04/Twin-Kingdoms-Foam-Fighting.jpg
END:VEVENT
BEGIN:VEVENT
DTSTART;TZID=America/Chicago:20260510T160000
DTEND;TZID=America/Chicago:20260510T200000
DTSTAMP:20260419T131805
CREATED:20260418T181150Z
LAST-MODIFIED:20260418T181150Z
UID:10019128-1778428800-1778443200@gottabesuperior.com
SUMMARY:Twin Kingdoms Foam Fighting!@ Duluth Heights Park - Superior
DESCRIPTION:Duluth’s foam sword fighting club is back!\nOpening day is Sunday April 26th\n\n\nNew Players Welcome!\nCome Try it out\, it might be the most fun you’ve ever had. Bring a water bottle a pair of running shoes\, and a great attitude!\n\n\nWe will practice Jugger and Belegarth at Duluth Heights Park\, every Sunday from 4 to 8pm! Hope to see you there!
URL:https://gottabesuperior.com/event/twin-kingdoms-foam-fighting-duluth-heights-park-superior/2026-05-10/
LOCATION:Duluth Heights Park\, 33 W Mulberry St\, Duluth\, MN\, United States
CATEGORIES:Community Gathering,Culture,Event/Game/Sport Participation,Live Entertainment
ATTACH;FMTTYPE=image/jpeg:https://gottabesuperior.com/wp-content/uploads/2026/04/Twin-Kingdoms-Foam-Fighting.jpg
END:VEVENT
BEGIN:VEVENT
DTSTART;TZID=America/Chicago:20260517T160000
DTEND;TZID=America/Chicago:20260517T200000
DTSTAMP:20260419T131805
CREATED:20260418T181150Z
LAST-MODIFIED:20260418T181150Z
UID:10019129-1779033600-1779048000@gottabesuperior.com
SUMMARY:Twin Kingdoms Foam Fighting!@ Duluth Heights Park - Superior
DESCRIPTION:Duluth’s foam sword fighting club is back!\nOpening day is Sunday April 26th\n\n\nNew Players Welcome!\nCome Try it out\, it might be the most fun you’ve ever had. Bring a water bottle a pair of running shoes\, and a great attitude!\n\n\nWe will practice Jugger and Belegarth at Duluth Heights Park\, every Sunday from 4 to 8pm! Hope to see you there!
URL:https://gottabesuperior.com/event/twin-kingdoms-foam-fighting-duluth-heights-park-superior/2026-05-17/
LOCATION:Duluth Heights Park\, 33 W Mulberry St\, Duluth\, MN\, United States
CATEGORIES:Community Gathering,Culture,Event/Game/Sport Participation,Live Entertainment
ATTACH;FMTTYPE=image/jpeg:https://gottabesuperior.com/wp-content/uploads/2026/04/Twin-Kingdoms-Foam-Fighting.jpg
END:VEVENT
BEGIN:VEVENT
DTSTART;TZID=America/Chicago:20260524T160000
DTEND;TZID=America/Chicago:20260524T200000
DTSTAMP:20260419T131805
CREATED:20260418T181150Z
LAST-MODIFIED:20260418T181150Z
UID:10019130-1779638400-1779652800@gottabesuperior.com
SUMMARY:Twin Kingdoms Foam Fighting!@ Duluth Heights Park - Superior
DESCRIPTION:Duluth’s foam sword fighting club is back!\nOpening day is Sunday April 26th\n\n\nNew Players Welcome!\nCome Try it out\, it might be the most fun you’ve ever had. Bring a water bottle a pair of running shoes\, and a great attitude!\n\n\nWe will practice Jugger and Belegarth at Duluth Heights Park\, every Sunday from 4 to 8pm! Hope to see you there!
URL:https://gottabesuperior.com/event/twin-kingdoms-foam-fighting-duluth-heights-park-superior/2026-05-24/
LOCATION:Duluth Heights Park\, 33 W Mulberry St\, Duluth\, MN\, United States
CATEGORIES:Community Gathering,Culture,Event/Game/Sport Participation,Live Entertainment
ATTACH;FMTTYPE=image/jpeg:https://gottabesuperior.com/wp-content/uploads/2026/04/Twin-Kingdoms-Foam-Fighting.jpg
END:VEVENT
BEGIN:VEVENT
DTSTART;TZID=America/Chicago:20260531T160000
DTEND;TZID=America/Chicago:20260531T200000
DTSTAMP:20260419T131805
CREATED:20260418T181150Z
LAST-MODIFIED:20260418T181150Z
UID:10019131-1780243200-1780257600@gottabesuperior.com
SUMMARY:Twin Kingdoms Foam Fighting!@ Duluth Heights Park - Superior
DESCRIPTION:Duluth’s foam sword fighting club is back!\nOpening day is Sunday April 26th\n\n\nNew Players Welcome!\nCome Try it out\, it might be the most fun you’ve ever had. Bring a water bottle a pair of running shoes\, and a great attitude!\n\n\nWe will practice Jugger and Belegarth at Duluth Heights Park\, every Sunday from 4 to 8pm! Hope to see you there!
URL:https://gottabesuperior.com/event/twin-kingdoms-foam-fighting-duluth-heights-park-superior/2026-05-31/
LOCATION:Duluth Heights Park\, 33 W Mulberry St\, Duluth\, MN\, United States
CATEGORIES:Community Gathering,Culture,Event/Game/Sport Participation,Live Entertainment
ATTACH;FMTTYPE=image/jpeg:https://gottabesuperior.com/wp-content/uploads/2026/04/Twin-Kingdoms-Foam-Fighting.jpg
END:VEVENT
BEGIN:VEVENT
DTSTART;TZID=America/Chicago:20260607T160000
DTEND;TZID=America/Chicago:20260607T200000
DTSTAMP:20260419T131805
CREATED:20260418T181150Z
LAST-MODIFIED:20260418T181150Z
UID:10019132-1780848000-1780862400@gottabesuperior.com
SUMMARY:Twin Kingdoms Foam Fighting!@ Duluth Heights Park - Superior
DESCRIPTION:Duluth’s foam sword fighting club is back!\nOpening day is Sunday April 26th\n\n\nNew Players Welcome!\nCome Try it out\, it might be the most fun you’ve ever had. Bring a water bottle a pair of running shoes\, and a great attitude!\n\n\nWe will practice Jugger and Belegarth at Duluth Heights Park\, every Sunday from 4 to 8pm! Hope to see you there!
URL:https://gottabesuperior.com/event/twin-kingdoms-foam-fighting-duluth-heights-park-superior/2026-06-07/
LOCATION:Duluth Heights Park\, 33 W Mulberry St\, Duluth\, MN\, United States
CATEGORIES:Community Gathering,Culture,Event/Game/Sport Participation,Live Entertainment
ATTACH;FMTTYPE=image/jpeg:https://gottabesuperior.com/wp-content/uploads/2026/04/Twin-Kingdoms-Foam-Fighting.jpg
END:VEVENT
BEGIN:VEVENT
DTSTART;TZID=America/Chicago:20260614T160000
DTEND;TZID=America/Chicago:20260614T200000
DTSTAMP:20260419T131805
CREATED:20260418T181150Z
LAST-MODIFIED:20260418T181150Z
UID:10019133-1781452800-1781467200@gottabesuperior.com
SUMMARY:Twin Kingdoms Foam Fighting!@ Duluth Heights Park - Superior
DESCRIPTION:Duluth’s foam sword fighting club is back!\nOpening day is Sunday April 26th\n\n\nNew Players Welcome!\nCome Try it out\, it might be the most fun you’ve ever had. Bring a water bottle a pair of running shoes\, and a great attitude!\n\n\nWe will practice Jugger and Belegarth at Duluth Heights Park\, every Sunday from 4 to 8pm! Hope to see you there!
URL:https://gottabesuperior.com/event/twin-kingdoms-foam-fighting-duluth-heights-park-superior/2026-06-14/
LOCATION:Duluth Heights Park\, 33 W Mulberry St\, Duluth\, MN\, United States
CATEGORIES:Community Gathering,Culture,Event/Game/Sport Participation,Live Entertainment
ATTACH;FMTTYPE=image/jpeg:https://gottabesuperior.com/wp-content/uploads/2026/04/Twin-Kingdoms-Foam-Fighting.jpg
END:VEVENT
BEGIN:VEVENT
DTSTART;TZID=America/Chicago:20260621T160000
DTEND;TZID=America/Chicago:20260621T200000
DTSTAMP:20260419T131805
CREATED:20260418T181150Z
LAST-MODIFIED:20260418T181150Z
UID:10019134-1782057600-1782072000@gottabesuperior.com
SUMMARY:Twin Kingdoms Foam Fighting!@ Duluth Heights Park - Superior
DESCRIPTION:Duluth’s foam sword fighting club is back!\nOpening day is Sunday April 26th\n\n\nNew Players Welcome!\nCome Try it out\, it might be the most fun you’ve ever had. Bring a water bottle a pair of running shoes\, and a great attitude!\n\n\nWe will practice Jugger and Belegarth at Duluth Heights Park\, every Sunday from 4 to 8pm! Hope to see you there!
URL:https://gottabesuperior.com/event/twin-kingdoms-foam-fighting-duluth-heights-park-superior/2026-06-21/
LOCATION:Duluth Heights Park\, 33 W Mulberry St\, Duluth\, MN\, United States
CATEGORIES:Community Gathering,Culture,Event/Game/Sport Participation,Live Entertainment
ATTACH;FMTTYPE=image/jpeg:https://gottabesuperior.com/wp-content/uploads/2026/04/Twin-Kingdoms-Foam-Fighting.jpg
END:VEVENT
BEGIN:VEVENT
DTSTART;TZID=America/Chicago:20260628T160000
DTEND;TZID=America/Chicago:20260628T200000
DTSTAMP:20260419T131805
CREATED:20260418T181150Z
LAST-MODIFIED:20260418T181150Z
UID:10019135-1782662400-1782676800@gottabesuperior.com
SUMMARY:Twin Kingdoms Foam Fighting!@ Duluth Heights Park - Superior
DESCRIPTION:Duluth’s foam sword fighting club is back!\nOpening day is Sunday April 26th\n\n\nNew Players Welcome!\nCome Try it out\, it might be the most fun you’ve ever had. Bring a water bottle a pair of running shoes\, and a great attitude!\n\n\nWe will practice Jugger and Belegarth at Duluth Heights Park\, every Sunday from 4 to 8pm! Hope to see you there!
URL:https://gottabesuperior.com/event/twin-kingdoms-foam-fighting-duluth-heights-park-superior/2026-06-28/
LOCATION:Duluth Heights Park\, 33 W Mulberry St\, Duluth\, MN\, United States
CATEGORIES:Community Gathering,Culture,Event/Game/Sport Participation,Live Entertainment
ATTACH;FMTTYPE=image/jpeg:https://gottabesuperior.com/wp-content/uploads/2026/04/Twin-Kingdoms-Foam-Fighting.jpg
END:VEVENT
BEGIN:VEVENT
DTSTART;TZID=America/Chicago:20260705T160000
DTEND;TZID=America/Chicago:20260705T200000
DTSTAMP:20260419T131805
CREATED:20260418T181150Z
LAST-MODIFIED:20260418T181150Z
UID:10019136-1783267200-1783281600@gottabesuperior.com
SUMMARY:Twin Kingdoms Foam Fighting!@ Duluth Heights Park - Superior
DESCRIPTION:Duluth’s foam sword fighting club is back!\nOpening day is Sunday April 26th\n\n\nNew Players Welcome!\nCome Try it out\, it might be the most fun you’ve ever had. Bring a water bottle a pair of running shoes\, and a great attitude!\n\n\nWe will practice Jugger and Belegarth at Duluth Heights Park\, every Sunday from 4 to 8pm! Hope to see you there!
URL:https://gottabesuperior.com/event/twin-kingdoms-foam-fighting-duluth-heights-park-superior/2026-07-05/
LOCATION:Duluth Heights Park\, 33 W Mulberry St\, Duluth\, MN\, United States
CATEGORIES:Community Gathering,Culture,Event/Game/Sport Participation,Live Entertainment
ATTACH;FMTTYPE=image/jpeg:https://gottabesuperior.com/wp-content/uploads/2026/04/Twin-Kingdoms-Foam-Fighting.jpg
END:VEVENT
BEGIN:VEVENT
DTSTART;TZID=America/Chicago:20260712T160000
DTEND;TZID=America/Chicago:20260712T200000
DTSTAMP:20260419T131805
CREATED:20260418T181150Z
LAST-MODIFIED:20260418T181150Z
UID:10019137-1783872000-1783886400@gottabesuperior.com
SUMMARY:Twin Kingdoms Foam Fighting!@ Duluth Heights Park - Superior
DESCRIPTION:Duluth’s foam sword fighting club is back!\nOpening day is Sunday April 26th\n\n\nNew Players Welcome!\nCome Try it out\, it might be the most fun you’ve ever had. Bring a water bottle a pair of running shoes\, and a great attitude!\n\n\nWe will practice Jugger and Belegarth at Duluth Heights Park\, every Sunday from 4 to 8pm! Hope to see you there!
URL:https://gottabesuperior.com/event/twin-kingdoms-foam-fighting-duluth-heights-park-superior/2026-07-12/
LOCATION:Duluth Heights Park\, 33 W Mulberry St\, Duluth\, MN\, United States
CATEGORIES:Community Gathering,Culture,Event/Game/Sport Participation,Live Entertainment
ATTACH;FMTTYPE=image/jpeg:https://gottabesuperior.com/wp-content/uploads/2026/04/Twin-Kingdoms-Foam-Fighting.jpg
END:VEVENT
BEGIN:VEVENT
DTSTART;TZID=America/Chicago:20260719T160000
DTEND;TZID=America/Chicago:20260719T200000
DTSTAMP:20260419T131805
CREATED:20260418T181150Z
LAST-MODIFIED:20260418T181150Z
UID:10019138-1784476800-1784491200@gottabesuperior.com
SUMMARY:Twin Kingdoms Foam Fighting!@ Duluth Heights Park - Superior
DESCRIPTION:Duluth’s foam sword fighting club is back!\nOpening day is Sunday April 26th\n\n\nNew Players Welcome!\nCome Try it out\, it might be the most fun you’ve ever had. Bring a water bottle a pair of running shoes\, and a great attitude!\n\n\nWe will practice Jugger and Belegarth at Duluth Heights Park\, every Sunday from 4 to 8pm! Hope to see you there!
URL:https://gottabesuperior.com/event/twin-kingdoms-foam-fighting-duluth-heights-park-superior/2026-07-19/
LOCATION:Duluth Heights Park\, 33 W Mulberry St\, Duluth\, MN\, United States
CATEGORIES:Community Gathering,Culture,Event/Game/Sport Participation,Live Entertainment
ATTACH;FMTTYPE=image/jpeg:https://gottabesuperior.com/wp-content/uploads/2026/04/Twin-Kingdoms-Foam-Fighting.jpg
END:VEVENT
BEGIN:VEVENT
DTSTART;TZID=America/Chicago:20260726T160000
DTEND;TZID=America/Chicago:20260726T200000
DTSTAMP:20260419T131805
CREATED:20260418T181150Z
LAST-MODIFIED:20260418T181150Z
UID:10019139-1785081600-1785096000@gottabesuperior.com
SUMMARY:Twin Kingdoms Foam Fighting!@ Duluth Heights Park - Superior
DESCRIPTION:Duluth’s foam sword fighting club is back!\nOpening day is Sunday April 26th\n\n\nNew Players Welcome!\nCome Try it out\, it might be the most fun you’ve ever had. Bring a water bottle a pair of running shoes\, and a great attitude!\n\n\nWe will practice Jugger and Belegarth at Duluth Heights Park\, every Sunday from 4 to 8pm! Hope to see you there!
URL:https://gottabesuperior.com/event/twin-kingdoms-foam-fighting-duluth-heights-park-superior/2026-07-26/
LOCATION:Duluth Heights Park\, 33 W Mulberry St\, Duluth\, MN\, United States
CATEGORIES:Community Gathering,Culture,Event/Game/Sport Participation,Live Entertainment
ATTACH;FMTTYPE=image/jpeg:https://gottabesuperior.com/wp-content/uploads/2026/04/Twin-Kingdoms-Foam-Fighting.jpg
END:VEVENT
BEGIN:VEVENT
DTSTART;TZID=America/Chicago:20260802T160000
DTEND;TZID=America/Chicago:20260802T200000
DTSTAMP:20260419T131805
CREATED:20260418T181150Z
LAST-MODIFIED:20260418T181150Z
UID:10019140-1785686400-1785700800@gottabesuperior.com
SUMMARY:Twin Kingdoms Foam Fighting!@ Duluth Heights Park - Superior
DESCRIPTION:Duluth’s foam sword fighting club is back!\nOpening day is Sunday April 26th\n\n\nNew Players Welcome!\nCome Try it out\, it might be the most fun you’ve ever had. Bring a water bottle a pair of running shoes\, and a great attitude!\n\n\nWe will practice Jugger and Belegarth at Duluth Heights Park\, every Sunday from 4 to 8pm! Hope to see you there!
URL:https://gottabesuperior.com/event/twin-kingdoms-foam-fighting-duluth-heights-park-superior/2026-08-02/
LOCATION:Duluth Heights Park\, 33 W Mulberry St\, Duluth\, MN\, United States
CATEGORIES:Community Gathering,Culture,Event/Game/Sport Participation,Live Entertainment
ATTACH;FMTTYPE=image/jpeg:https://gottabesuperior.com/wp-content/uploads/2026/04/Twin-Kingdoms-Foam-Fighting.jpg
END:VEVENT
BEGIN:VEVENT
DTSTART;TZID=America/Chicago:20260809T160000
DTEND;TZID=America/Chicago:20260809T200000
DTSTAMP:20260419T131805
CREATED:20260418T181150Z
LAST-MODIFIED:20260418T181150Z
UID:10019141-1786291200-1786305600@gottabesuperior.com
SUMMARY:Twin Kingdoms Foam Fighting!@ Duluth Heights Park - Superior
DESCRIPTION:Duluth’s foam sword fighting club is back!\nOpening day is Sunday April 26th\n\n\nNew Players Welcome!\nCome Try it out\, it might be the most fun you’ve ever had. Bring a water bottle a pair of running shoes\, and a great attitude!\n\n\nWe will practice Jugger and Belegarth at Duluth Heights Park\, every Sunday from 4 to 8pm! Hope to see you there!
URL:https://gottabesuperior.com/event/twin-kingdoms-foam-fighting-duluth-heights-park-superior/2026-08-09/
LOCATION:Duluth Heights Park\, 33 W Mulberry St\, Duluth\, MN\, United States
CATEGORIES:Community Gathering,Culture,Event/Game/Sport Participation,Live Entertainment
ATTACH;FMTTYPE=image/jpeg:https://gottabesuperior.com/wp-content/uploads/2026/04/Twin-Kingdoms-Foam-Fighting.jpg
END:VEVENT
BEGIN:VEVENT
DTSTART;TZID=America/Chicago:20260816T160000
DTEND;TZID=America/Chicago:20260816T200000
DTSTAMP:20260419T131805
CREATED:20260418T181150Z
LAST-MODIFIED:20260418T181150Z
UID:10019142-1786896000-1786910400@gottabesuperior.com
SUMMARY:Twin Kingdoms Foam Fighting!@ Duluth Heights Park - Superior
DESCRIPTION:Duluth’s foam sword fighting club is back!\nOpening day is Sunday April 26th\n\n\nNew Players Welcome!\nCome Try it out\, it might be the most fun you’ve ever had. Bring a water bottle a pair of running shoes\, and a great attitude!\n\n\nWe will practice Jugger and Belegarth at Duluth Heights Park\, every Sunday from 4 to 8pm! Hope to see you there!
URL:https://gottabesuperior.com/event/twin-kingdoms-foam-fighting-duluth-heights-park-superior/2026-08-16/
LOCATION:Duluth Heights Park\, 33 W Mulberry St\, Duluth\, MN\, United States
CATEGORIES:Community Gathering,Culture,Event/Game/Sport Participation,Live Entertainment
ATTACH;FMTTYPE=image/jpeg:https://gottabesuperior.com/wp-content/uploads/2026/04/Twin-Kingdoms-Foam-Fighting.jpg
END:VEVENT
BEGIN:VEVENT
DTSTART;TZID=America/Chicago:20260823T160000
DTEND;TZID=America/Chicago:20260823T200000
DTSTAMP:20260419T131805
CREATED:20260418T181150Z
LAST-MODIFIED:20260418T181150Z
UID:10019143-1787500800-1787515200@gottabesuperior.com
SUMMARY:Twin Kingdoms Foam Fighting!@ Duluth Heights Park - Superior
DESCRIPTION:Duluth’s foam sword fighting club is back!\nOpening day is Sunday April 26th\n\n\nNew Players Welcome!\nCome Try it out\, it might be the most fun you’ve ever had. Bring a water bottle a pair of running shoes\, and a great attitude!\n\n\nWe will practice Jugger and Belegarth at Duluth Heights Park\, every Sunday from 4 to 8pm! Hope to see you there!
URL:https://gottabesuperior.com/event/twin-kingdoms-foam-fighting-duluth-heights-park-superior/2026-08-23/
LOCATION:Duluth Heights Park\, 33 W Mulberry St\, Duluth\, MN\, United States
CATEGORIES:Community Gathering,Culture,Event/Game/Sport Participation,Live Entertainment
ATTACH;FMTTYPE=image/jpeg:https://gottabesuperior.com/wp-content/uploads/2026/04/Twin-Kingdoms-Foam-Fighting.jpg
END:VEVENT
BEGIN:VEVENT
DTSTART;TZID=America/Chicago:20260830T160000
DTEND;TZID=America/Chicago:20260830T200000
DTSTAMP:20260419T131805
CREATED:20260418T181150Z
LAST-MODIFIED:20260418T181150Z
UID:10019144-1788105600-1788120000@gottabesuperior.com
SUMMARY:Twin Kingdoms Foam Fighting!@ Duluth Heights Park - Superior
DESCRIPTION:Duluth’s foam sword fighting club is back!\nOpening day is Sunday April 26th\n\n\nNew Players Welcome!\nCome Try it out\, it might be the most fun you’ve ever had. Bring a water bottle a pair of running shoes\, and a great attitude!\n\n\nWe will practice Jugger and Belegarth at Duluth Heights Park\, every Sunday from 4 to 8pm! Hope to see you there!
URL:https://gottabesuperior.com/event/twin-kingdoms-foam-fighting-duluth-heights-park-superior/2026-08-30/
LOCATION:Duluth Heights Park\, 33 W Mulberry St\, Duluth\, MN\, United States
CATEGORIES:Community Gathering,Culture,Event/Game/Sport Participation,Live Entertainment
ATTACH;FMTTYPE=image/jpeg:https://gottabesuperior.com/wp-content/uploads/2026/04/Twin-Kingdoms-Foam-Fighting.jpg
END:VEVENT
END:VCALENDAR