BEGIN:VCALENDAR
VERSION:2.0
PRODID:-//Gotta Be Superior - ECPv6.15.18//NONSGML v1.0//EN
CALSCALE:GREGORIAN
METHOD:PUBLISH
X-WR-CALNAME:Gotta Be Superior
X-ORIGINAL-URL:https://gottabesuperior.com
X-WR-CALDESC:Events for Gotta Be Superior
REFRESH-INTERVAL;VALUE=DURATION:PT1H
X-Robots-Tag:noindex
X-PUBLISHED-TTL:PT1H
BEGIN:VTIMEZONE
TZID:America/Chicago
BEGIN:DAYLIGHT
TZOFFSETFROM:-0600
TZOFFSETTO:-0500
TZNAME:CDT
DTSTART:20250309T080000
END:DAYLIGHT
BEGIN:STANDARD
TZOFFSETFROM:-0500
TZOFFSETTO:-0600
TZNAME:CST
DTSTART:20251102T070000
END:STANDARD
BEGIN:DAYLIGHT
TZOFFSETFROM:-0600
TZOFFSETTO:-0500
TZNAME:CDT
DTSTART:20260308T080000
END:DAYLIGHT
BEGIN:STANDARD
TZOFFSETFROM:-0500
TZOFFSETTO:-0600
TZNAME:CST
DTSTART:20261101T070000
END:STANDARD
BEGIN:DAYLIGHT
TZOFFSETFROM:-0600
TZOFFSETTO:-0500
TZNAME:CDT
DTSTART:20270314T080000
END:DAYLIGHT
BEGIN:STANDARD
TZOFFSETFROM:-0500
TZOFFSETTO:-0600
TZNAME:CST
DTSTART:20271107T070000
END:STANDARD
END:VTIMEZONE
BEGIN:VEVENT
DTSTART;TZID=America/Chicago:20260601T180000
DTEND;TZID=America/Chicago:20260601T200000
DTSTAMP:20260424T152545
CREATED:20260423T155716Z
LAST-MODIFIED:20260423T155716Z
UID:10019178-1780336800-1780344000@gottabesuperior.com
SUMMARY:Music in the Park Mondays @ Legion Park - Washburn WI
DESCRIPTION:MONDAYS IN WASHBURN = SUMMER MAGIC 🍔🎶\nLooking for the perfect way to spend your Monday nights this summer? We’ve got you covered 👇\n✨ Music in the Park\n🎸 Live music at Legion Park\n🕕 6–8 PM\n✨ Food Truck Mondays\n🌮 Rotating food trucks every week\n🕚 11 AM–3 PM & 5–7:30 PM\n📍 Central Ave (between The Club & Cultural Center)\n📅 Every Monday | June through September\nGrab dinner\, bring a blanket/chair\, and head to the park for an evening of incredible live music\, good food\, and even better family friendly community vibes.\nThis is what summer in Washburn is all about
URL:https://gottabesuperior.com/event/music-in-the-park-mondays-legion-park-washburn-wi/2026-06-01/
LOCATION:Legion Park\, 50 E Bayfield St\, Washburn\, United States
CATEGORIES:Art,Community Gathering,Culture,Event/Game/Sports Spectator,Free,Kids & Family,Live Entertainment
ATTACH;FMTTYPE=image/jpeg:https://gottabesuperior.com/wp-content/uploads/2026/04/671285383_1417101800459136_3235269043194472076_n.jpg
ORGANIZER;CN="Washburn Area Chamber":MAILTO:info@washburnchamber.com
END:VEVENT
BEGIN:VEVENT
DTSTART;TZID=America/Chicago:20260608T180000
DTEND;TZID=America/Chicago:20260608T200000
DTSTAMP:20260424T152545
CREATED:20260423T155716Z
LAST-MODIFIED:20260423T155716Z
UID:10019179-1780941600-1780948800@gottabesuperior.com
SUMMARY:Music in the Park Mondays @ Legion Park - Washburn WI
DESCRIPTION:MONDAYS IN WASHBURN = SUMMER MAGIC 🍔🎶\nLooking for the perfect way to spend your Monday nights this summer? We’ve got you covered 👇\n✨ Music in the Park\n🎸 Live music at Legion Park\n🕕 6–8 PM\n✨ Food Truck Mondays\n🌮 Rotating food trucks every week\n🕚 11 AM–3 PM & 5–7:30 PM\n📍 Central Ave (between The Club & Cultural Center)\n📅 Every Monday | June through September\nGrab dinner\, bring a blanket/chair\, and head to the park for an evening of incredible live music\, good food\, and even better family friendly community vibes.\nThis is what summer in Washburn is all about
URL:https://gottabesuperior.com/event/music-in-the-park-mondays-legion-park-washburn-wi/2026-06-08/
LOCATION:Legion Park\, 50 E Bayfield St\, Washburn\, United States
CATEGORIES:Art,Community Gathering,Culture,Event/Game/Sports Spectator,Free,Kids & Family,Live Entertainment
ATTACH;FMTTYPE=image/jpeg:https://gottabesuperior.com/wp-content/uploads/2026/04/671285383_1417101800459136_3235269043194472076_n.jpg
ORGANIZER;CN="Washburn Area Chamber":MAILTO:info@washburnchamber.com
END:VEVENT
BEGIN:VEVENT
DTSTART;TZID=America/Chicago:20260615T180000
DTEND;TZID=America/Chicago:20260615T200000
DTSTAMP:20260424T152545
CREATED:20260423T155716Z
LAST-MODIFIED:20260423T155716Z
UID:10019180-1781546400-1781553600@gottabesuperior.com
SUMMARY:Music in the Park Mondays @ Legion Park - Washburn WI
DESCRIPTION:MONDAYS IN WASHBURN = SUMMER MAGIC 🍔🎶\nLooking for the perfect way to spend your Monday nights this summer? We’ve got you covered 👇\n✨ Music in the Park\n🎸 Live music at Legion Park\n🕕 6–8 PM\n✨ Food Truck Mondays\n🌮 Rotating food trucks every week\n🕚 11 AM–3 PM & 5–7:30 PM\n📍 Central Ave (between The Club & Cultural Center)\n📅 Every Monday | June through September\nGrab dinner\, bring a blanket/chair\, and head to the park for an evening of incredible live music\, good food\, and even better family friendly community vibes.\nThis is what summer in Washburn is all about
URL:https://gottabesuperior.com/event/music-in-the-park-mondays-legion-park-washburn-wi/2026-06-15/
LOCATION:Legion Park\, 50 E Bayfield St\, Washburn\, United States
CATEGORIES:Art,Community Gathering,Culture,Event/Game/Sports Spectator,Free,Kids & Family,Live Entertainment
ATTACH;FMTTYPE=image/jpeg:https://gottabesuperior.com/wp-content/uploads/2026/04/671285383_1417101800459136_3235269043194472076_n.jpg
ORGANIZER;CN="Washburn Area Chamber":MAILTO:info@washburnchamber.com
END:VEVENT
BEGIN:VEVENT
DTSTART;TZID=America/Chicago:20260622T180000
DTEND;TZID=America/Chicago:20260622T200000
DTSTAMP:20260424T152545
CREATED:20260423T155716Z
LAST-MODIFIED:20260423T155716Z
UID:10019181-1782151200-1782158400@gottabesuperior.com
SUMMARY:Music in the Park Mondays @ Legion Park - Washburn WI
DESCRIPTION:MONDAYS IN WASHBURN = SUMMER MAGIC 🍔🎶\nLooking for the perfect way to spend your Monday nights this summer? We’ve got you covered 👇\n✨ Music in the Park\n🎸 Live music at Legion Park\n🕕 6–8 PM\n✨ Food Truck Mondays\n🌮 Rotating food trucks every week\n🕚 11 AM–3 PM & 5–7:30 PM\n📍 Central Ave (between The Club & Cultural Center)\n📅 Every Monday | June through September\nGrab dinner\, bring a blanket/chair\, and head to the park for an evening of incredible live music\, good food\, and even better family friendly community vibes.\nThis is what summer in Washburn is all about
URL:https://gottabesuperior.com/event/music-in-the-park-mondays-legion-park-washburn-wi/2026-06-22/
LOCATION:Legion Park\, 50 E Bayfield St\, Washburn\, United States
CATEGORIES:Art,Community Gathering,Culture,Event/Game/Sports Spectator,Free,Kids & Family,Live Entertainment
ATTACH;FMTTYPE=image/jpeg:https://gottabesuperior.com/wp-content/uploads/2026/04/671285383_1417101800459136_3235269043194472076_n.jpg
ORGANIZER;CN="Washburn Area Chamber":MAILTO:info@washburnchamber.com
END:VEVENT
BEGIN:VEVENT
DTSTART;TZID=America/Chicago:20260629T180000
DTEND;TZID=America/Chicago:20260629T200000
DTSTAMP:20260424T152545
CREATED:20260423T155716Z
LAST-MODIFIED:20260423T155716Z
UID:10019182-1782756000-1782763200@gottabesuperior.com
SUMMARY:Music in the Park Mondays @ Legion Park - Washburn WI
DESCRIPTION:MONDAYS IN WASHBURN = SUMMER MAGIC 🍔🎶\nLooking for the perfect way to spend your Monday nights this summer? We’ve got you covered 👇\n✨ Music in the Park\n🎸 Live music at Legion Park\n🕕 6–8 PM\n✨ Food Truck Mondays\n🌮 Rotating food trucks every week\n🕚 11 AM–3 PM & 5–7:30 PM\n📍 Central Ave (between The Club & Cultural Center)\n📅 Every Monday | June through September\nGrab dinner\, bring a blanket/chair\, and head to the park for an evening of incredible live music\, good food\, and even better family friendly community vibes.\nThis is what summer in Washburn is all about
URL:https://gottabesuperior.com/event/music-in-the-park-mondays-legion-park-washburn-wi/2026-06-29/
LOCATION:Legion Park\, 50 E Bayfield St\, Washburn\, United States
CATEGORIES:Art,Community Gathering,Culture,Event/Game/Sports Spectator,Free,Kids & Family,Live Entertainment
ATTACH;FMTTYPE=image/jpeg:https://gottabesuperior.com/wp-content/uploads/2026/04/671285383_1417101800459136_3235269043194472076_n.jpg
ORGANIZER;CN="Washburn Area Chamber":MAILTO:info@washburnchamber.com
END:VEVENT
BEGIN:VEVENT
DTSTART;TZID=America/Chicago:20260706T180000
DTEND;TZID=America/Chicago:20260706T200000
DTSTAMP:20260424T152545
CREATED:20260423T155716Z
LAST-MODIFIED:20260423T155716Z
UID:10019183-1783360800-1783368000@gottabesuperior.com
SUMMARY:Music in the Park Mondays @ Legion Park - Washburn WI
DESCRIPTION:MONDAYS IN WASHBURN = SUMMER MAGIC 🍔🎶\nLooking for the perfect way to spend your Monday nights this summer? We’ve got you covered 👇\n✨ Music in the Park\n🎸 Live music at Legion Park\n🕕 6–8 PM\n✨ Food Truck Mondays\n🌮 Rotating food trucks every week\n🕚 11 AM–3 PM & 5–7:30 PM\n📍 Central Ave (between The Club & Cultural Center)\n📅 Every Monday | June through September\nGrab dinner\, bring a blanket/chair\, and head to the park for an evening of incredible live music\, good food\, and even better family friendly community vibes.\nThis is what summer in Washburn is all about
URL:https://gottabesuperior.com/event/music-in-the-park-mondays-legion-park-washburn-wi/2026-07-06/
LOCATION:Legion Park\, 50 E Bayfield St\, Washburn\, United States
CATEGORIES:Art,Community Gathering,Culture,Event/Game/Sports Spectator,Free,Kids & Family,Live Entertainment
ATTACH;FMTTYPE=image/jpeg:https://gottabesuperior.com/wp-content/uploads/2026/04/671285383_1417101800459136_3235269043194472076_n.jpg
ORGANIZER;CN="Washburn Area Chamber":MAILTO:info@washburnchamber.com
END:VEVENT
BEGIN:VEVENT
DTSTART;TZID=America/Chicago:20260713T180000
DTEND;TZID=America/Chicago:20260713T200000
DTSTAMP:20260424T152545
CREATED:20260423T155716Z
LAST-MODIFIED:20260423T155716Z
UID:10019184-1783965600-1783972800@gottabesuperior.com
SUMMARY:Music in the Park Mondays @ Legion Park - Washburn WI
DESCRIPTION:MONDAYS IN WASHBURN = SUMMER MAGIC 🍔🎶\nLooking for the perfect way to spend your Monday nights this summer? We’ve got you covered 👇\n✨ Music in the Park\n🎸 Live music at Legion Park\n🕕 6–8 PM\n✨ Food Truck Mondays\n🌮 Rotating food trucks every week\n🕚 11 AM–3 PM & 5–7:30 PM\n📍 Central Ave (between The Club & Cultural Center)\n📅 Every Monday | June through September\nGrab dinner\, bring a blanket/chair\, and head to the park for an evening of incredible live music\, good food\, and even better family friendly community vibes.\nThis is what summer in Washburn is all about
URL:https://gottabesuperior.com/event/music-in-the-park-mondays-legion-park-washburn-wi/2026-07-13/
LOCATION:Legion Park\, 50 E Bayfield St\, Washburn\, United States
CATEGORIES:Art,Community Gathering,Culture,Event/Game/Sports Spectator,Free,Kids & Family,Live Entertainment
ATTACH;FMTTYPE=image/jpeg:https://gottabesuperior.com/wp-content/uploads/2026/04/671285383_1417101800459136_3235269043194472076_n.jpg
ORGANIZER;CN="Washburn Area Chamber":MAILTO:info@washburnchamber.com
END:VEVENT
BEGIN:VEVENT
DTSTART;TZID=America/Chicago:20260720T180000
DTEND;TZID=America/Chicago:20260720T200000
DTSTAMP:20260424T152545
CREATED:20260423T155716Z
LAST-MODIFIED:20260423T155716Z
UID:10019185-1784570400-1784577600@gottabesuperior.com
SUMMARY:Music in the Park Mondays @ Legion Park - Washburn WI
DESCRIPTION:MONDAYS IN WASHBURN = SUMMER MAGIC 🍔🎶\nLooking for the perfect way to spend your Monday nights this summer? We’ve got you covered 👇\n✨ Music in the Park\n🎸 Live music at Legion Park\n🕕 6–8 PM\n✨ Food Truck Mondays\n🌮 Rotating food trucks every week\n🕚 11 AM–3 PM & 5–7:30 PM\n📍 Central Ave (between The Club & Cultural Center)\n📅 Every Monday | June through September\nGrab dinner\, bring a blanket/chair\, and head to the park for an evening of incredible live music\, good food\, and even better family friendly community vibes.\nThis is what summer in Washburn is all about
URL:https://gottabesuperior.com/event/music-in-the-park-mondays-legion-park-washburn-wi/2026-07-20/
LOCATION:Legion Park\, 50 E Bayfield St\, Washburn\, United States
CATEGORIES:Art,Community Gathering,Culture,Event/Game/Sports Spectator,Free,Kids & Family,Live Entertainment
ATTACH;FMTTYPE=image/jpeg:https://gottabesuperior.com/wp-content/uploads/2026/04/671285383_1417101800459136_3235269043194472076_n.jpg
ORGANIZER;CN="Washburn Area Chamber":MAILTO:info@washburnchamber.com
END:VEVENT
BEGIN:VEVENT
DTSTART;TZID=America/Chicago:20260727T180000
DTEND;TZID=America/Chicago:20260727T200000
DTSTAMP:20260424T152545
CREATED:20260423T155716Z
LAST-MODIFIED:20260423T155716Z
UID:10019186-1785175200-1785182400@gottabesuperior.com
SUMMARY:Music in the Park Mondays @ Legion Park - Washburn WI
DESCRIPTION:MONDAYS IN WASHBURN = SUMMER MAGIC 🍔🎶\nLooking for the perfect way to spend your Monday nights this summer? We’ve got you covered 👇\n✨ Music in the Park\n🎸 Live music at Legion Park\n🕕 6–8 PM\n✨ Food Truck Mondays\n🌮 Rotating food trucks every week\n🕚 11 AM–3 PM & 5–7:30 PM\n📍 Central Ave (between The Club & Cultural Center)\n📅 Every Monday | June through September\nGrab dinner\, bring a blanket/chair\, and head to the park for an evening of incredible live music\, good food\, and even better family friendly community vibes.\nThis is what summer in Washburn is all about
URL:https://gottabesuperior.com/event/music-in-the-park-mondays-legion-park-washburn-wi/2026-07-27/
LOCATION:Legion Park\, 50 E Bayfield St\, Washburn\, United States
CATEGORIES:Art,Community Gathering,Culture,Event/Game/Sports Spectator,Free,Kids & Family,Live Entertainment
ATTACH;FMTTYPE=image/jpeg:https://gottabesuperior.com/wp-content/uploads/2026/04/671285383_1417101800459136_3235269043194472076_n.jpg
ORGANIZER;CN="Washburn Area Chamber":MAILTO:info@washburnchamber.com
END:VEVENT
BEGIN:VEVENT
DTSTART;TZID=America/Chicago:20260803T180000
DTEND;TZID=America/Chicago:20260803T200000
DTSTAMP:20260424T152545
CREATED:20260423T155716Z
LAST-MODIFIED:20260423T155716Z
UID:10019187-1785780000-1785787200@gottabesuperior.com
SUMMARY:Music in the Park Mondays @ Legion Park - Washburn WI
DESCRIPTION:MONDAYS IN WASHBURN = SUMMER MAGIC 🍔🎶\nLooking for the perfect way to spend your Monday nights this summer? We’ve got you covered 👇\n✨ Music in the Park\n🎸 Live music at Legion Park\n🕕 6–8 PM\n✨ Food Truck Mondays\n🌮 Rotating food trucks every week\n🕚 11 AM–3 PM & 5–7:30 PM\n📍 Central Ave (between The Club & Cultural Center)\n📅 Every Monday | June through September\nGrab dinner\, bring a blanket/chair\, and head to the park for an evening of incredible live music\, good food\, and even better family friendly community vibes.\nThis is what summer in Washburn is all about
URL:https://gottabesuperior.com/event/music-in-the-park-mondays-legion-park-washburn-wi/2026-08-03/
LOCATION:Legion Park\, 50 E Bayfield St\, Washburn\, United States
CATEGORIES:Art,Community Gathering,Culture,Event/Game/Sports Spectator,Free,Kids & Family,Live Entertainment
ATTACH;FMTTYPE=image/jpeg:https://gottabesuperior.com/wp-content/uploads/2026/04/671285383_1417101800459136_3235269043194472076_n.jpg
ORGANIZER;CN="Washburn Area Chamber":MAILTO:info@washburnchamber.com
END:VEVENT
BEGIN:VEVENT
DTSTART;TZID=America/Chicago:20260810T180000
DTEND;TZID=America/Chicago:20260810T200000
DTSTAMP:20260424T152545
CREATED:20260423T155716Z
LAST-MODIFIED:20260423T155716Z
UID:10019188-1786384800-1786392000@gottabesuperior.com
SUMMARY:Music in the Park Mondays @ Legion Park - Washburn WI
DESCRIPTION:MONDAYS IN WASHBURN = SUMMER MAGIC 🍔🎶\nLooking for the perfect way to spend your Monday nights this summer? We’ve got you covered 👇\n✨ Music in the Park\n🎸 Live music at Legion Park\n🕕 6–8 PM\n✨ Food Truck Mondays\n🌮 Rotating food trucks every week\n🕚 11 AM–3 PM & 5–7:30 PM\n📍 Central Ave (between The Club & Cultural Center)\n📅 Every Monday | June through September\nGrab dinner\, bring a blanket/chair\, and head to the park for an evening of incredible live music\, good food\, and even better family friendly community vibes.\nThis is what summer in Washburn is all about
URL:https://gottabesuperior.com/event/music-in-the-park-mondays-legion-park-washburn-wi/2026-08-10/
LOCATION:Legion Park\, 50 E Bayfield St\, Washburn\, United States
CATEGORIES:Art,Community Gathering,Culture,Event/Game/Sports Spectator,Free,Kids & Family,Live Entertainment
ATTACH;FMTTYPE=image/jpeg:https://gottabesuperior.com/wp-content/uploads/2026/04/671285383_1417101800459136_3235269043194472076_n.jpg
ORGANIZER;CN="Washburn Area Chamber":MAILTO:info@washburnchamber.com
END:VEVENT
BEGIN:VEVENT
DTSTART;TZID=America/Chicago:20260817T180000
DTEND;TZID=America/Chicago:20260817T200000
DTSTAMP:20260424T152545
CREATED:20260423T155716Z
LAST-MODIFIED:20260423T155716Z
UID:10019189-1786989600-1786996800@gottabesuperior.com
SUMMARY:Music in the Park Mondays @ Legion Park - Washburn WI
DESCRIPTION:MONDAYS IN WASHBURN = SUMMER MAGIC 🍔🎶\nLooking for the perfect way to spend your Monday nights this summer? We’ve got you covered 👇\n✨ Music in the Park\n🎸 Live music at Legion Park\n🕕 6–8 PM\n✨ Food Truck Mondays\n🌮 Rotating food trucks every week\n🕚 11 AM–3 PM & 5–7:30 PM\n📍 Central Ave (between The Club & Cultural Center)\n📅 Every Monday | June through September\nGrab dinner\, bring a blanket/chair\, and head to the park for an evening of incredible live music\, good food\, and even better family friendly community vibes.\nThis is what summer in Washburn is all about
URL:https://gottabesuperior.com/event/music-in-the-park-mondays-legion-park-washburn-wi/2026-08-17/
LOCATION:Legion Park\, 50 E Bayfield St\, Washburn\, United States
CATEGORIES:Art,Community Gathering,Culture,Event/Game/Sports Spectator,Free,Kids & Family,Live Entertainment
ATTACH;FMTTYPE=image/jpeg:https://gottabesuperior.com/wp-content/uploads/2026/04/671285383_1417101800459136_3235269043194472076_n.jpg
ORGANIZER;CN="Washburn Area Chamber":MAILTO:info@washburnchamber.com
END:VEVENT
BEGIN:VEVENT
DTSTART;TZID=America/Chicago:20260824T180000
DTEND;TZID=America/Chicago:20260824T200000
DTSTAMP:20260424T152545
CREATED:20260423T155716Z
LAST-MODIFIED:20260423T155716Z
UID:10019190-1787594400-1787601600@gottabesuperior.com
SUMMARY:Music in the Park Mondays @ Legion Park - Washburn WI
DESCRIPTION:MONDAYS IN WASHBURN = SUMMER MAGIC 🍔🎶\nLooking for the perfect way to spend your Monday nights this summer? We’ve got you covered 👇\n✨ Music in the Park\n🎸 Live music at Legion Park\n🕕 6–8 PM\n✨ Food Truck Mondays\n🌮 Rotating food trucks every week\n🕚 11 AM–3 PM & 5–7:30 PM\n📍 Central Ave (between The Club & Cultural Center)\n📅 Every Monday | June through September\nGrab dinner\, bring a blanket/chair\, and head to the park for an evening of incredible live music\, good food\, and even better family friendly community vibes.\nThis is what summer in Washburn is all about
URL:https://gottabesuperior.com/event/music-in-the-park-mondays-legion-park-washburn-wi/2026-08-24/
LOCATION:Legion Park\, 50 E Bayfield St\, Washburn\, United States
CATEGORIES:Art,Community Gathering,Culture,Event/Game/Sports Spectator,Free,Kids & Family,Live Entertainment
ATTACH;FMTTYPE=image/jpeg:https://gottabesuperior.com/wp-content/uploads/2026/04/671285383_1417101800459136_3235269043194472076_n.jpg
ORGANIZER;CN="Washburn Area Chamber":MAILTO:info@washburnchamber.com
END:VEVENT
BEGIN:VEVENT
DTSTART;TZID=America/Chicago:20260831T180000
DTEND;TZID=America/Chicago:20260831T200000
DTSTAMP:20260424T152545
CREATED:20260423T155716Z
LAST-MODIFIED:20260423T155716Z
UID:10019191-1788199200-1788206400@gottabesuperior.com
SUMMARY:Music in the Park Mondays @ Legion Park - Washburn WI
DESCRIPTION:MONDAYS IN WASHBURN = SUMMER MAGIC 🍔🎶\nLooking for the perfect way to spend your Monday nights this summer? We’ve got you covered 👇\n✨ Music in the Park\n🎸 Live music at Legion Park\n🕕 6–8 PM\n✨ Food Truck Mondays\n🌮 Rotating food trucks every week\n🕚 11 AM–3 PM & 5–7:30 PM\n📍 Central Ave (between The Club & Cultural Center)\n📅 Every Monday | June through September\nGrab dinner\, bring a blanket/chair\, and head to the park for an evening of incredible live music\, good food\, and even better family friendly community vibes.\nThis is what summer in Washburn is all about
URL:https://gottabesuperior.com/event/music-in-the-park-mondays-legion-park-washburn-wi/2026-08-31/
LOCATION:Legion Park\, 50 E Bayfield St\, Washburn\, United States
CATEGORIES:Art,Community Gathering,Culture,Event/Game/Sports Spectator,Free,Kids & Family,Live Entertainment
ATTACH;FMTTYPE=image/jpeg:https://gottabesuperior.com/wp-content/uploads/2026/04/671285383_1417101800459136_3235269043194472076_n.jpg
ORGANIZER;CN="Washburn Area Chamber":MAILTO:info@washburnchamber.com
END:VEVENT
END:VCALENDAR