BEGIN:VCALENDAR
VERSION:2.0
PRODID:-//Gotta Be Superior - ECPv6.15.18//NONSGML v1.0//EN
CALSCALE:GREGORIAN
METHOD:PUBLISH
X-WR-CALNAME:Gotta Be Superior
X-ORIGINAL-URL:https://gottabesuperior.com
X-WR-CALDESC:Events for Gotta Be Superior
REFRESH-INTERVAL;VALUE=DURATION:PT1H
X-Robots-Tag:noindex
X-PUBLISHED-TTL:PT1H
BEGIN:VTIMEZONE
TZID:America/Chicago
BEGIN:DAYLIGHT
TZOFFSETFROM:-0600
TZOFFSETTO:-0500
TZNAME:CDT
DTSTART:20250309T080000
END:DAYLIGHT
BEGIN:STANDARD
TZOFFSETFROM:-0500
TZOFFSETTO:-0600
TZNAME:CST
DTSTART:20251102T070000
END:STANDARD
BEGIN:DAYLIGHT
TZOFFSETFROM:-0600
TZOFFSETTO:-0500
TZNAME:CDT
DTSTART:20260308T080000
END:DAYLIGHT
BEGIN:STANDARD
TZOFFSETFROM:-0500
TZOFFSETTO:-0600
TZNAME:CST
DTSTART:20261101T070000
END:STANDARD
BEGIN:DAYLIGHT
TZOFFSETFROM:-0600
TZOFFSETTO:-0500
TZNAME:CDT
DTSTART:20270314T080000
END:DAYLIGHT
BEGIN:STANDARD
TZOFFSETFROM:-0500
TZOFFSETTO:-0600
TZNAME:CST
DTSTART:20271107T070000
END:STANDARD
END:VTIMEZONE
BEGIN:VEVENT
DTSTART;TZID=America/Chicago:20260516T083000
DTEND;TZID=America/Chicago:20260516T120000
DTSTAMP:20260425T144826
CREATED:20260425T165840Z
LAST-MODIFIED:20260425T165840Z
UID:10019210-1778920200-1778932800@gottabesuperior.com
SUMMARY:Barker's Island Farmers Market - Superior
DESCRIPTION:
URL:https://gottabesuperior.com/event/barkers-island-farmers-market-superior/2026-05-16/
LOCATION:Barkers Island
CATEGORIES:Community Gathering,Farmers Market,Free,Markets/Sales
ATTACH;FMTTYPE=image/jpeg:https://gottabesuperior.com/wp-content/uploads/2026/04/670737700_1393121785951927_1469069322032273229_n.jpg
END:VEVENT
BEGIN:VEVENT
DTSTART;TZID=America/Chicago:20260523T083000
DTEND;TZID=America/Chicago:20260523T120000
DTSTAMP:20260425T144826
CREATED:20260425T165840Z
LAST-MODIFIED:20260425T165840Z
UID:10019211-1779525000-1779537600@gottabesuperior.com
SUMMARY:Barker's Island Farmers Market - Superior
DESCRIPTION:
URL:https://gottabesuperior.com/event/barkers-island-farmers-market-superior/2026-05-23/
LOCATION:Barkers Island
CATEGORIES:Community Gathering,Farmers Market,Free,Markets/Sales
ATTACH;FMTTYPE=image/jpeg:https://gottabesuperior.com/wp-content/uploads/2026/04/670737700_1393121785951927_1469069322032273229_n.jpg
END:VEVENT
BEGIN:VEVENT
DTSTART;TZID=America/Chicago:20260530T083000
DTEND;TZID=America/Chicago:20260530T120000
DTSTAMP:20260425T144826
CREATED:20260425T165840Z
LAST-MODIFIED:20260425T165840Z
UID:10019212-1780129800-1780142400@gottabesuperior.com
SUMMARY:Barker's Island Farmers Market - Superior
DESCRIPTION:
URL:https://gottabesuperior.com/event/barkers-island-farmers-market-superior/2026-05-30/
LOCATION:Barkers Island
CATEGORIES:Community Gathering,Farmers Market,Free,Markets/Sales
ATTACH;FMTTYPE=image/jpeg:https://gottabesuperior.com/wp-content/uploads/2026/04/670737700_1393121785951927_1469069322032273229_n.jpg
END:VEVENT
BEGIN:VEVENT
DTSTART;TZID=America/Chicago:20260606T083000
DTEND;TZID=America/Chicago:20260606T120000
DTSTAMP:20260425T144826
CREATED:20260425T165840Z
LAST-MODIFIED:20260425T165840Z
UID:10019213-1780734600-1780747200@gottabesuperior.com
SUMMARY:Barker's Island Farmers Market - Superior
DESCRIPTION:
URL:https://gottabesuperior.com/event/barkers-island-farmers-market-superior/2026-06-06/
LOCATION:Barkers Island
CATEGORIES:Community Gathering,Farmers Market,Free,Markets/Sales
ATTACH;FMTTYPE=image/jpeg:https://gottabesuperior.com/wp-content/uploads/2026/04/670737700_1393121785951927_1469069322032273229_n.jpg
END:VEVENT
BEGIN:VEVENT
DTSTART;TZID=America/Chicago:20260613T083000
DTEND;TZID=America/Chicago:20260613T120000
DTSTAMP:20260425T144826
CREATED:20260425T165840Z
LAST-MODIFIED:20260425T165840Z
UID:10019214-1781339400-1781352000@gottabesuperior.com
SUMMARY:Barker's Island Farmers Market - Superior
DESCRIPTION:
URL:https://gottabesuperior.com/event/barkers-island-farmers-market-superior/2026-06-13/
LOCATION:Barkers Island
CATEGORIES:Community Gathering,Farmers Market,Free,Markets/Sales
ATTACH;FMTTYPE=image/jpeg:https://gottabesuperior.com/wp-content/uploads/2026/04/670737700_1393121785951927_1469069322032273229_n.jpg
END:VEVENT
BEGIN:VEVENT
DTSTART;TZID=America/Chicago:20260620T083000
DTEND;TZID=America/Chicago:20260620T120000
DTSTAMP:20260425T144826
CREATED:20260425T165840Z
LAST-MODIFIED:20260425T165840Z
UID:10019215-1781944200-1781956800@gottabesuperior.com
SUMMARY:Barker's Island Farmers Market - Superior
DESCRIPTION:
URL:https://gottabesuperior.com/event/barkers-island-farmers-market-superior/2026-06-20/
LOCATION:Barkers Island
CATEGORIES:Community Gathering,Farmers Market,Free,Markets/Sales
ATTACH;FMTTYPE=image/jpeg:https://gottabesuperior.com/wp-content/uploads/2026/04/670737700_1393121785951927_1469069322032273229_n.jpg
END:VEVENT
BEGIN:VEVENT
DTSTART;TZID=America/Chicago:20260627T083000
DTEND;TZID=America/Chicago:20260627T120000
DTSTAMP:20260425T144826
CREATED:20260425T165840Z
LAST-MODIFIED:20260425T165840Z
UID:10019216-1782549000-1782561600@gottabesuperior.com
SUMMARY:Barker's Island Farmers Market - Superior
DESCRIPTION:
URL:https://gottabesuperior.com/event/barkers-island-farmers-market-superior/2026-06-27/
LOCATION:Barkers Island
CATEGORIES:Community Gathering,Farmers Market,Free,Markets/Sales
ATTACH;FMTTYPE=image/jpeg:https://gottabesuperior.com/wp-content/uploads/2026/04/670737700_1393121785951927_1469069322032273229_n.jpg
END:VEVENT
BEGIN:VEVENT
DTSTART;TZID=America/Chicago:20260704T083000
DTEND;TZID=America/Chicago:20260704T120000
DTSTAMP:20260425T144826
CREATED:20260425T165840Z
LAST-MODIFIED:20260425T165840Z
UID:10019217-1783153800-1783166400@gottabesuperior.com
SUMMARY:Barker's Island Farmers Market - Superior
DESCRIPTION:
URL:https://gottabesuperior.com/event/barkers-island-farmers-market-superior/2026-07-04/
LOCATION:Barkers Island
CATEGORIES:Community Gathering,Farmers Market,Free,Markets/Sales
ATTACH;FMTTYPE=image/jpeg:https://gottabesuperior.com/wp-content/uploads/2026/04/670737700_1393121785951927_1469069322032273229_n.jpg
END:VEVENT
BEGIN:VEVENT
DTSTART;TZID=America/Chicago:20260711T083000
DTEND;TZID=America/Chicago:20260711T120000
DTSTAMP:20260425T144826
CREATED:20260425T165840Z
LAST-MODIFIED:20260425T165840Z
UID:10019218-1783758600-1783771200@gottabesuperior.com
SUMMARY:Barker's Island Farmers Market - Superior
DESCRIPTION:
URL:https://gottabesuperior.com/event/barkers-island-farmers-market-superior/2026-07-11/
LOCATION:Barkers Island
CATEGORIES:Community Gathering,Farmers Market,Free,Markets/Sales
ATTACH;FMTTYPE=image/jpeg:https://gottabesuperior.com/wp-content/uploads/2026/04/670737700_1393121785951927_1469069322032273229_n.jpg
END:VEVENT
BEGIN:VEVENT
DTSTART;TZID=America/Chicago:20260718T083000
DTEND;TZID=America/Chicago:20260718T120000
DTSTAMP:20260425T144826
CREATED:20260425T165840Z
LAST-MODIFIED:20260425T165840Z
UID:10019219-1784363400-1784376000@gottabesuperior.com
SUMMARY:Barker's Island Farmers Market - Superior
DESCRIPTION:
URL:https://gottabesuperior.com/event/barkers-island-farmers-market-superior/2026-07-18/
LOCATION:Barkers Island
CATEGORIES:Community Gathering,Farmers Market,Free,Markets/Sales
ATTACH;FMTTYPE=image/jpeg:https://gottabesuperior.com/wp-content/uploads/2026/04/670737700_1393121785951927_1469069322032273229_n.jpg
END:VEVENT
BEGIN:VEVENT
DTSTART;TZID=America/Chicago:20260725T083000
DTEND;TZID=America/Chicago:20260725T120000
DTSTAMP:20260425T144826
CREATED:20260425T165840Z
LAST-MODIFIED:20260425T165840Z
UID:10019220-1784968200-1784980800@gottabesuperior.com
SUMMARY:Barker's Island Farmers Market - Superior
DESCRIPTION:
URL:https://gottabesuperior.com/event/barkers-island-farmers-market-superior/2026-07-25/
LOCATION:Barkers Island
CATEGORIES:Community Gathering,Farmers Market,Free,Markets/Sales
ATTACH;FMTTYPE=image/jpeg:https://gottabesuperior.com/wp-content/uploads/2026/04/670737700_1393121785951927_1469069322032273229_n.jpg
END:VEVENT
BEGIN:VEVENT
DTSTART;TZID=America/Chicago:20260801T083000
DTEND;TZID=America/Chicago:20260801T120000
DTSTAMP:20260425T144826
CREATED:20260425T165840Z
LAST-MODIFIED:20260425T165840Z
UID:10019221-1785573000-1785585600@gottabesuperior.com
SUMMARY:Barker's Island Farmers Market - Superior
DESCRIPTION:
URL:https://gottabesuperior.com/event/barkers-island-farmers-market-superior/2026-08-01/
LOCATION:Barkers Island
CATEGORIES:Community Gathering,Farmers Market,Free,Markets/Sales
ATTACH;FMTTYPE=image/jpeg:https://gottabesuperior.com/wp-content/uploads/2026/04/670737700_1393121785951927_1469069322032273229_n.jpg
END:VEVENT
BEGIN:VEVENT
DTSTART;TZID=America/Chicago:20260808T083000
DTEND;TZID=America/Chicago:20260808T120000
DTSTAMP:20260425T144826
CREATED:20260425T165840Z
LAST-MODIFIED:20260425T165840Z
UID:10019222-1786177800-1786190400@gottabesuperior.com
SUMMARY:Barker's Island Farmers Market - Superior
DESCRIPTION:
URL:https://gottabesuperior.com/event/barkers-island-farmers-market-superior/2026-08-08/
LOCATION:Barkers Island
CATEGORIES:Community Gathering,Farmers Market,Free,Markets/Sales
ATTACH;FMTTYPE=image/jpeg:https://gottabesuperior.com/wp-content/uploads/2026/04/670737700_1393121785951927_1469069322032273229_n.jpg
END:VEVENT
BEGIN:VEVENT
DTSTART;TZID=America/Chicago:20260815T083000
DTEND;TZID=America/Chicago:20260815T120000
DTSTAMP:20260425T144826
CREATED:20260425T165840Z
LAST-MODIFIED:20260425T165840Z
UID:10019223-1786782600-1786795200@gottabesuperior.com
SUMMARY:Barker's Island Farmers Market - Superior
DESCRIPTION:
URL:https://gottabesuperior.com/event/barkers-island-farmers-market-superior/2026-08-15/
LOCATION:Barkers Island
CATEGORIES:Community Gathering,Farmers Market,Free,Markets/Sales
ATTACH;FMTTYPE=image/jpeg:https://gottabesuperior.com/wp-content/uploads/2026/04/670737700_1393121785951927_1469069322032273229_n.jpg
END:VEVENT
BEGIN:VEVENT
DTSTART;TZID=America/Chicago:20260822T083000
DTEND;TZID=America/Chicago:20260822T120000
DTSTAMP:20260425T144826
CREATED:20260425T165840Z
LAST-MODIFIED:20260425T165840Z
UID:10019224-1787387400-1787400000@gottabesuperior.com
SUMMARY:Barker's Island Farmers Market - Superior
DESCRIPTION:
URL:https://gottabesuperior.com/event/barkers-island-farmers-market-superior/2026-08-22/
LOCATION:Barkers Island
CATEGORIES:Community Gathering,Farmers Market,Free,Markets/Sales
ATTACH;FMTTYPE=image/jpeg:https://gottabesuperior.com/wp-content/uploads/2026/04/670737700_1393121785951927_1469069322032273229_n.jpg
END:VEVENT
BEGIN:VEVENT
DTSTART;TZID=America/Chicago:20260829T083000
DTEND;TZID=America/Chicago:20260829T120000
DTSTAMP:20260425T144826
CREATED:20260425T165840Z
LAST-MODIFIED:20260425T165840Z
UID:10019225-1787992200-1788004800@gottabesuperior.com
SUMMARY:Barker's Island Farmers Market - Superior
DESCRIPTION:
URL:https://gottabesuperior.com/event/barkers-island-farmers-market-superior/2026-08-29/
LOCATION:Barkers Island
CATEGORIES:Community Gathering,Farmers Market,Free,Markets/Sales
ATTACH;FMTTYPE=image/jpeg:https://gottabesuperior.com/wp-content/uploads/2026/04/670737700_1393121785951927_1469069322032273229_n.jpg
END:VEVENT
BEGIN:VEVENT
DTSTART;TZID=America/Chicago:20260905T083000
DTEND;TZID=America/Chicago:20260905T120000
DTSTAMP:20260425T144826
CREATED:20260425T165840Z
LAST-MODIFIED:20260425T165840Z
UID:10019226-1788597000-1788609600@gottabesuperior.com
SUMMARY:Barker's Island Farmers Market - Superior
DESCRIPTION:
URL:https://gottabesuperior.com/event/barkers-island-farmers-market-superior/2026-09-05/
LOCATION:Barkers Island
CATEGORIES:Community Gathering,Farmers Market,Free,Markets/Sales
ATTACH;FMTTYPE=image/jpeg:https://gottabesuperior.com/wp-content/uploads/2026/04/670737700_1393121785951927_1469069322032273229_n.jpg
END:VEVENT
BEGIN:VEVENT
DTSTART;TZID=America/Chicago:20260912T083000
DTEND;TZID=America/Chicago:20260912T120000
DTSTAMP:20260425T144826
CREATED:20260425T165840Z
LAST-MODIFIED:20260425T165840Z
UID:10019227-1789201800-1789214400@gottabesuperior.com
SUMMARY:Barker's Island Farmers Market - Superior
DESCRIPTION:
URL:https://gottabesuperior.com/event/barkers-island-farmers-market-superior/2026-09-12/
LOCATION:Barkers Island
CATEGORIES:Community Gathering,Farmers Market,Free,Markets/Sales
ATTACH;FMTTYPE=image/jpeg:https://gottabesuperior.com/wp-content/uploads/2026/04/670737700_1393121785951927_1469069322032273229_n.jpg
END:VEVENT
BEGIN:VEVENT
DTSTART;TZID=America/Chicago:20260919T083000
DTEND;TZID=America/Chicago:20260919T120000
DTSTAMP:20260425T144826
CREATED:20260425T165840Z
LAST-MODIFIED:20260425T165840Z
UID:10019228-1789806600-1789819200@gottabesuperior.com
SUMMARY:Barker's Island Farmers Market - Superior
DESCRIPTION:
URL:https://gottabesuperior.com/event/barkers-island-farmers-market-superior/2026-09-19/
LOCATION:Barkers Island
CATEGORIES:Community Gathering,Farmers Market,Free,Markets/Sales
ATTACH;FMTTYPE=image/jpeg:https://gottabesuperior.com/wp-content/uploads/2026/04/670737700_1393121785951927_1469069322032273229_n.jpg
END:VEVENT
BEGIN:VEVENT
DTSTART;TZID=America/Chicago:20260926T083000
DTEND;TZID=America/Chicago:20260926T120000
DTSTAMP:20260425T144826
CREATED:20260425T165840Z
LAST-MODIFIED:20260425T165840Z
UID:10019229-1790411400-1790424000@gottabesuperior.com
SUMMARY:Barker's Island Farmers Market - Superior
DESCRIPTION:
URL:https://gottabesuperior.com/event/barkers-island-farmers-market-superior/2026-09-26/
LOCATION:Barkers Island
CATEGORIES:Community Gathering,Farmers Market,Free,Markets/Sales
ATTACH;FMTTYPE=image/jpeg:https://gottabesuperior.com/wp-content/uploads/2026/04/670737700_1393121785951927_1469069322032273229_n.jpg
END:VEVENT
END:VCALENDAR