BEGIN:VCALENDAR
VERSION:2.0
PRODID:-//Gotta Be Superior - ECPv6.15.18//NONSGML v1.0//EN
CALSCALE:GREGORIAN
METHOD:PUBLISH
X-ORIGINAL-URL:https://gottabesuperior.com
X-WR-CALDESC:Events for Gotta Be Superior
REFRESH-INTERVAL;VALUE=DURATION:PT1H
X-Robots-Tag:noindex
X-PUBLISHED-TTL:PT1H
BEGIN:VTIMEZONE
TZID:America/Chicago
BEGIN:DAYLIGHT
TZOFFSETFROM:-0600
TZOFFSETTO:-0500
TZNAME:CDT
DTSTART:20250309T080000
END:DAYLIGHT
BEGIN:STANDARD
TZOFFSETFROM:-0500
TZOFFSETTO:-0600
TZNAME:CST
DTSTART:20251102T070000
END:STANDARD
BEGIN:DAYLIGHT
TZOFFSETFROM:-0600
TZOFFSETTO:-0500
TZNAME:CDT
DTSTART:20260308T080000
END:DAYLIGHT
BEGIN:STANDARD
TZOFFSETFROM:-0500
TZOFFSETTO:-0600
TZNAME:CST
DTSTART:20261101T070000
END:STANDARD
BEGIN:DAYLIGHT
TZOFFSETFROM:-0600
TZOFFSETTO:-0500
TZNAME:CDT
DTSTART:20270314T080000
END:DAYLIGHT
BEGIN:STANDARD
TZOFFSETFROM:-0500
TZOFFSETTO:-0600
TZNAME:CST
DTSTART:20271107T070000
END:STANDARD
END:VTIMEZONE
BEGIN:VEVENT
DTSTART;TZID=America/Chicago:20260417T120000
DTEND;TZID=America/Chicago:20260417T160000
DTSTAMP:20260419T110237
CREATED:20250802T213746Z
LAST-MODIFIED:20250802T213746Z
UID:10015736-1776427200-1776441600@gottabesuperior.com
SUMMARY:Tarot w/Orin @ Alchemy - Superior
DESCRIPTION:
URL:https://gottabesuperior.com/event/tarot-w-orin-alchemy-superior/2026-04-17/
LOCATION:Alchemy\, 2724 N 21st St\, Superior\, WI\, United States
CATEGORIES:Self Care
ATTACH;FMTTYPE=image/jpeg:https://gottabesuperior.com/wp-content/uploads/2025/01/Alchemy-logo.jpg
ORGANIZER;CN="Alchemy":MAILTO:anndreasart@gmail.com
END:VEVENT
BEGIN:VEVENT
DTSTART;TZID=America/Chicago:20260416T160000
DTEND;TZID=America/Chicago:20260416T180000
DTSTAMP:20260419T110237
CREATED:20250802T213204Z
LAST-MODIFIED:20250802T213204Z
UID:10015680-1776355200-1776362400@gottabesuperior.com
SUMMARY:Tarot w/ Barbi @ Alchemy - Superior
DESCRIPTION:  \n  \n 
URL:https://gottabesuperior.com/event/tarot-w-barbi-alchemy-superior/2026-04-16/
LOCATION:Alchemy\, 2724 N 21st St\, Superior\, WI\, United States
CATEGORIES:Self Care
ATTACH;FMTTYPE=image/jpeg:https://gottabesuperior.com/wp-content/uploads/2025/01/Alchemy-logo.jpg
ORGANIZER;CN="Alchemy":MAILTO:anndreasart@gmail.com
END:VEVENT
BEGIN:VEVENT
DTSTART;TZID=America/Chicago:20260410T120000
DTEND;TZID=America/Chicago:20260410T160000
DTSTAMP:20260419T110237
CREATED:20250802T213746Z
LAST-MODIFIED:20250802T213746Z
UID:10015735-1775822400-1775836800@gottabesuperior.com
SUMMARY:Tarot w/Orin @ Alchemy - Superior
DESCRIPTION:
URL:https://gottabesuperior.com/event/tarot-w-orin-alchemy-superior/2026-04-10/
LOCATION:Alchemy\, 2724 N 21st St\, Superior\, WI\, United States
CATEGORIES:Self Care
ATTACH;FMTTYPE=image/jpeg:https://gottabesuperior.com/wp-content/uploads/2025/01/Alchemy-logo.jpg
ORGANIZER;CN="Alchemy":MAILTO:anndreasart@gmail.com
END:VEVENT
BEGIN:VEVENT
DTSTART;TZID=America/Chicago:20260409T160000
DTEND;TZID=America/Chicago:20260409T180000
DTSTAMP:20260419T110237
CREATED:20250802T213204Z
LAST-MODIFIED:20250802T213204Z
UID:10015679-1775750400-1775757600@gottabesuperior.com
SUMMARY:Tarot w/ Barbi @ Alchemy - Superior
DESCRIPTION:  \n  \n 
URL:https://gottabesuperior.com/event/tarot-w-barbi-alchemy-superior/2026-04-09/
LOCATION:Alchemy\, 2724 N 21st St\, Superior\, WI\, United States
CATEGORIES:Self Care
ATTACH;FMTTYPE=image/jpeg:https://gottabesuperior.com/wp-content/uploads/2025/01/Alchemy-logo.jpg
ORGANIZER;CN="Alchemy":MAILTO:anndreasart@gmail.com
END:VEVENT
BEGIN:VEVENT
DTSTART;TZID=America/Chicago:20260405T100000
DTEND;TZID=America/Chicago:20260405T110000
DTSTAMP:20260419T110237
CREATED:20250109T023755Z
LAST-MODIFIED:20250329T183949Z
UID:10013000-1775383200-1775386800@gottabesuperior.com
SUMMARY:Tarot Club @ Alchemy
DESCRIPTION:Tarot Club is for everyone! (Newbies to Advanced Readers)  \nAnd\, FREE. \nThe club explores topics and methods together. \nNote: Your own deck is helpful to have for visuals. A tarot journal would be pretty awesome too 😉
URL:https://gottabesuperior.com/event/tarot-clubalchemy/2026-04-05/
LOCATION:Alchemy\, 2724 N 21st St\, Superior\, WI\, United States
CATEGORIES:Community Gathering,Discussion Group,Free
ATTACH;FMTTYPE=image/jpeg:https://gottabesuperior.com/wp-content/uploads/2025/01/Tarot-Club.jpg
ORGANIZER;CN="Alchemy":MAILTO:anndreasart@gmail.com
END:VEVENT
BEGIN:VEVENT
DTSTART;TZID=America/Chicago:20260403T120000
DTEND;TZID=America/Chicago:20260403T160000
DTSTAMP:20260419T110237
CREATED:20250802T213746Z
LAST-MODIFIED:20250802T213746Z
UID:10015734-1775217600-1775232000@gottabesuperior.com
SUMMARY:Tarot w/Orin @ Alchemy - Superior
DESCRIPTION:
URL:https://gottabesuperior.com/event/tarot-w-orin-alchemy-superior/2026-04-03/
LOCATION:Alchemy\, 2724 N 21st St\, Superior\, WI\, United States
CATEGORIES:Self Care
ATTACH;FMTTYPE=image/jpeg:https://gottabesuperior.com/wp-content/uploads/2025/01/Alchemy-logo.jpg
ORGANIZER;CN="Alchemy":MAILTO:anndreasart@gmail.com
END:VEVENT
BEGIN:VEVENT
DTSTART;TZID=America/Chicago:20260402T160000
DTEND;TZID=America/Chicago:20260402T180000
DTSTAMP:20260419T110237
CREATED:20250802T213204Z
LAST-MODIFIED:20250802T213204Z
UID:10015678-1775145600-1775152800@gottabesuperior.com
SUMMARY:Tarot w/ Barbi @ Alchemy - Superior
DESCRIPTION:  \n  \n 
URL:https://gottabesuperior.com/event/tarot-w-barbi-alchemy-superior/2026-04-02/
LOCATION:Alchemy\, 2724 N 21st St\, Superior\, WI\, United States
CATEGORIES:Self Care
ATTACH;FMTTYPE=image/jpeg:https://gottabesuperior.com/wp-content/uploads/2025/01/Alchemy-logo.jpg
ORGANIZER;CN="Alchemy":MAILTO:anndreasart@gmail.com
END:VEVENT
BEGIN:VEVENT
DTSTART;TZID=America/Chicago:20260327T120000
DTEND;TZID=America/Chicago:20260327T160000
DTSTAMP:20260419T110237
CREATED:20250802T213746Z
LAST-MODIFIED:20250802T213746Z
UID:10015733-1774612800-1774627200@gottabesuperior.com
SUMMARY:Tarot w/Orin @ Alchemy - Superior
DESCRIPTION:
URL:https://gottabesuperior.com/event/tarot-w-orin-alchemy-superior/2026-03-27/
LOCATION:Alchemy\, 2724 N 21st St\, Superior\, WI\, United States
CATEGORIES:Self Care
ATTACH;FMTTYPE=image/jpeg:https://gottabesuperior.com/wp-content/uploads/2025/01/Alchemy-logo.jpg
ORGANIZER;CN="Alchemy":MAILTO:anndreasart@gmail.com
END:VEVENT
BEGIN:VEVENT
DTSTART;TZID=America/Chicago:20260326T160000
DTEND;TZID=America/Chicago:20260326T180000
DTSTAMP:20260419T110237
CREATED:20250802T213204Z
LAST-MODIFIED:20250802T213204Z
UID:10015677-1774540800-1774548000@gottabesuperior.com
SUMMARY:Tarot w/ Barbi @ Alchemy - Superior
DESCRIPTION:  \n  \n 
URL:https://gottabesuperior.com/event/tarot-w-barbi-alchemy-superior/2026-03-26/
LOCATION:Alchemy\, 2724 N 21st St\, Superior\, WI\, United States
CATEGORIES:Self Care
ATTACH;FMTTYPE=image/jpeg:https://gottabesuperior.com/wp-content/uploads/2025/01/Alchemy-logo.jpg
ORGANIZER;CN="Alchemy":MAILTO:anndreasart@gmail.com
END:VEVENT
BEGIN:VEVENT
DTSTART;TZID=America/Chicago:20260320T120000
DTEND;TZID=America/Chicago:20260320T160000
DTSTAMP:20260419T110237
CREATED:20250802T213746Z
LAST-MODIFIED:20250802T213746Z
UID:10015732-1774008000-1774022400@gottabesuperior.com
SUMMARY:Tarot w/Orin @ Alchemy - Superior
DESCRIPTION:
URL:https://gottabesuperior.com/event/tarot-w-orin-alchemy-superior/2026-03-20/
LOCATION:Alchemy\, 2724 N 21st St\, Superior\, WI\, United States
CATEGORIES:Self Care
ATTACH;FMTTYPE=image/jpeg:https://gottabesuperior.com/wp-content/uploads/2025/01/Alchemy-logo.jpg
ORGANIZER;CN="Alchemy":MAILTO:anndreasart@gmail.com
END:VEVENT
BEGIN:VEVENT
DTSTART;TZID=America/Chicago:20260319T160000
DTEND;TZID=America/Chicago:20260319T180000
DTSTAMP:20260419T110237
CREATED:20250802T213204Z
LAST-MODIFIED:20250802T213204Z
UID:10015676-1773936000-1773943200@gottabesuperior.com
SUMMARY:Tarot w/ Barbi @ Alchemy - Superior
DESCRIPTION:  \n  \n 
URL:https://gottabesuperior.com/event/tarot-w-barbi-alchemy-superior/2026-03-19/
LOCATION:Alchemy\, 2724 N 21st St\, Superior\, WI\, United States
CATEGORIES:Self Care
ATTACH;FMTTYPE=image/jpeg:https://gottabesuperior.com/wp-content/uploads/2025/01/Alchemy-logo.jpg
ORGANIZER;CN="Alchemy":MAILTO:anndreasart@gmail.com
END:VEVENT
END:VCALENDAR