BEGIN:VCALENDAR
VERSION:2.0
PRODID:-//Gotta Be Superior - ECPv6.15.18//NONSGML v1.0//EN
CALSCALE:GREGORIAN
METHOD:PUBLISH
X-WR-CALNAME:Gotta Be Superior
X-ORIGINAL-URL:https://gottabesuperior.com
X-WR-CALDESC:Events for Gotta Be Superior
REFRESH-INTERVAL;VALUE=DURATION:PT1H
X-Robots-Tag:noindex
X-PUBLISHED-TTL:PT1H
BEGIN:VTIMEZONE
TZID:America/Chicago
BEGIN:DAYLIGHT
TZOFFSETFROM:-0600
TZOFFSETTO:-0500
TZNAME:CDT
DTSTART:20250309T080000
END:DAYLIGHT
BEGIN:STANDARD
TZOFFSETFROM:-0500
TZOFFSETTO:-0600
TZNAME:CST
DTSTART:20251102T070000
END:STANDARD
BEGIN:DAYLIGHT
TZOFFSETFROM:-0600
TZOFFSETTO:-0500
TZNAME:CDT
DTSTART:20260308T080000
END:DAYLIGHT
BEGIN:STANDARD
TZOFFSETFROM:-0500
TZOFFSETTO:-0600
TZNAME:CST
DTSTART:20261101T070000
END:STANDARD
BEGIN:DAYLIGHT
TZOFFSETFROM:-0600
TZOFFSETTO:-0500
TZNAME:CDT
DTSTART:20270314T080000
END:DAYLIGHT
BEGIN:STANDARD
TZOFFSETFROM:-0500
TZOFFSETTO:-0600
TZNAME:CST
DTSTART:20271107T070000
END:STANDARD
END:VTIMEZONE
BEGIN:VEVENT
DTSTART;TZID=America/Chicago:20260523T070000
DTEND;TZID=America/Chicago:20260523T153000
DTSTAMP:20260424T170356
CREATED:20260423T195457Z
LAST-MODIFIED:20260423T195457Z
UID:10019200-1779519600-1779550200@gottabesuperior.com
SUMMARY:Believers Church Rummage Sale - Duluth
DESCRIPTION:It’s that time of year again—rummage season! Join us for our Annual Rummage Sale where you can hunt for treasures\, sip an espresso\, and enjoy lunch with your neighbors. Saturday\, May 23 7 AM – 3 PM 30 N. 58th Ave W.We’ll have clothing\, books\, toys and more. Come for the deals\, stay for the coffee.  We’ll have espresso drinks\, plus lunch to keep you fueled while you browse! Bring a friend!
URL:https://gottabesuperior.com/event/believers-church-rummage-sale-duluth/
LOCATION:Believers Church – Duluth\, 30 N 58th Ave W\, Duluth\, MN\, United States
CATEGORIES:Community Gathering,Event/Game/Sport Participation,Fundraiser,Markets/Sales
ATTACH;FMTTYPE=image/jpeg:https://gottabesuperior.com/wp-content/uploads/2026/04/Believers-church-rummage.jpg
ORGANIZER;CN="Belivers Church":MAILTO:office@jfbduluth.com
END:VEVENT
END:VCALENDAR