BEGIN:VCALENDAR
VERSION:2.0
PRODID:-//Gotta Be Superior - ECPv6.15.18//NONSGML v1.0//EN
CALSCALE:GREGORIAN
METHOD:PUBLISH
X-WR-CALNAME:Gotta Be Superior
X-ORIGINAL-URL:https://gottabesuperior.com
X-WR-CALDESC:Events for Gotta Be Superior
REFRESH-INTERVAL;VALUE=DURATION:PT1H
X-Robots-Tag:noindex
X-PUBLISHED-TTL:PT1H
BEGIN:VTIMEZONE
TZID:America/Chicago
BEGIN:DAYLIGHT
TZOFFSETFROM:-0600
TZOFFSETTO:-0500
TZNAME:CDT
DTSTART:20250309T080000
END:DAYLIGHT
BEGIN:STANDARD
TZOFFSETFROM:-0500
TZOFFSETTO:-0600
TZNAME:CST
DTSTART:20251102T070000
END:STANDARD
BEGIN:DAYLIGHT
TZOFFSETFROM:-0600
TZOFFSETTO:-0500
TZNAME:CDT
DTSTART:20260308T080000
END:DAYLIGHT
BEGIN:STANDARD
TZOFFSETFROM:-0500
TZOFFSETTO:-0600
TZNAME:CST
DTSTART:20261101T070000
END:STANDARD
BEGIN:DAYLIGHT
TZOFFSETFROM:-0600
TZOFFSETTO:-0500
TZNAME:CDT
DTSTART:20270314T080000
END:DAYLIGHT
BEGIN:STANDARD
TZOFFSETFROM:-0500
TZOFFSETTO:-0600
TZNAME:CST
DTSTART:20271107T070000
END:STANDARD
END:VTIMEZONE
BEGIN:VEVENT
DTSTART;TZID=America/Chicago:20260426T113000
DTEND;TZID=America/Chicago:20260426T150000
DTSTAMP:20260424T170955
CREATED:20260423T201456Z
LAST-MODIFIED:20260423T201456Z
UID:10019201-1777203000-1777215600@gottabesuperior.com
SUMMARY: 63rd Annual Baked Chicken Dinner @ Cathedral of Christ the King -Superior
DESCRIPTION:Name: 63rd Annual Baked Chicken Dinner.\n\nDate: April 26\, 2026\nTime: 11:30 AM – 3:00 PM CDT\n\nWebsite: http://www.superiorcatholics.org\n\n\nEvent Description:\n\n\nPlease join us and enjoy some baked chicken\, stuffing\, mashed potatoes & gravy\, vegetable medley\, cranberries\, coleslaw\, dinner roll\, beverages & desserts. Dine in and take-outs will be served from 11:30 AM to 3:00 PM or until sold out. Delivery within Superior city limits – please call 715-392-1661 by 2 PM on the day of the dinner. Cost: Adults\, Take-out and Deliveries $13.00\, ages 6-12 $6.00. Kids 5 & under eat for free.
URL:https://gottabesuperior.com/event/63rd-annual-baked-chicken-dinner-cathedral-of-christ-the-king-superior/
LOCATION:Cathedral of Christ the King – Superior\, 1111 Belknap St\, Superior\, WI\, 54880\, United States
CATEGORIES:Community Gathering,Event/Game/Sport Participation,Fundraiser,Meal
ORGANIZER;CN="Cathedral of Christ the King":MAILTO:music@superiorcatholics.org
END:VEVENT
END:VCALENDAR