BEGIN:VCALENDAR
VERSION:2.0
PRODID:-//Gotta Be Superior - ECPv6.15.18//NONSGML v1.0//EN
CALSCALE:GREGORIAN
METHOD:PUBLISH
X-WR-CALNAME:Gotta Be Superior
X-ORIGINAL-URL:https://gottabesuperior.com
X-WR-CALDESC:Events for Gotta Be Superior
REFRESH-INTERVAL;VALUE=DURATION:PT1H
X-Robots-Tag:noindex
X-PUBLISHED-TTL:PT1H
BEGIN:VTIMEZONE
TZID:America/Chicago
BEGIN:DAYLIGHT
TZOFFSETFROM:-0600
TZOFFSETTO:-0500
TZNAME:CDT
DTSTART:20250309T080000
END:DAYLIGHT
BEGIN:STANDARD
TZOFFSETFROM:-0500
TZOFFSETTO:-0600
TZNAME:CST
DTSTART:20251102T070000
END:STANDARD
BEGIN:DAYLIGHT
TZOFFSETFROM:-0600
TZOFFSETTO:-0500
TZNAME:CDT
DTSTART:20260308T080000
END:DAYLIGHT
BEGIN:STANDARD
TZOFFSETFROM:-0500
TZOFFSETTO:-0600
TZNAME:CST
DTSTART:20261101T070000
END:STANDARD
BEGIN:DAYLIGHT
TZOFFSETFROM:-0600
TZOFFSETTO:-0500
TZNAME:CDT
DTSTART:20270314T080000
END:DAYLIGHT
BEGIN:STANDARD
TZOFFSETFROM:-0500
TZOFFSETTO:-0600
TZNAME:CST
DTSTART:20271107T070000
END:STANDARD
END:VTIMEZONE
BEGIN:VEVENT
DTSTART;TZID=America/Chicago:20260424T200000
DTEND;TZID=America/Chicago:20260424T230000
DTSTAMP:20260419T135759
CREATED:20260418T185410Z
LAST-MODIFIED:20260418T185410Z
UID:10019145-1777060800-1777071600@gottabesuperior.com
SUMMARY:The Old 13 String Bandits\, Cosmic Otter Club and Kyle Orla @ Cedar Lounge - Superior
DESCRIPTION:Follow link for tickets \nhttps://www.eventbrite.com/e/the-old-13-string-bandits-cosmic-otter-club-and-kyle-orla-tickets-1986460504844?aff=ebdsoporgprofile
URL:https://gottabesuperior.com/event/the-old-13-string-bandits-cosmic-otter-club-and-kyle-orla-cedar-lounge-superior/
LOCATION:Cedar Lounge\, 1715 N. 3rd St.\, Superior\, WI\, 54880\, United States
CATEGORIES:Live Entertainment
ATTACH;FMTTYPE=image/jpeg:https://gottabesuperior.com/wp-content/uploads/2024/04/cedar-lounge.jpg
END:VEVENT
BEGIN:VEVENT
DTSTART;TZID=America/Chicago:20260430T200000
DTEND;TZID=America/Chicago:20260430T220000
DTSTAMP:20260419T135759
CREATED:20260418T185810Z
LAST-MODIFIED:20260418T185810Z
UID:10019146-1777579200-1777586400@gottabesuperior.com
SUMMARY:Alan Sparhawk @ Cedar Lounge - Superior
DESCRIPTION:follow link for tickets \nhttps://www.eventbrite.com/e/alan-sparhawk-solo-band-tickets-1985471373325?aff=ebdsoporgprofile
URL:https://gottabesuperior.com/event/alan-sparhawk-cedar-lounge-superior/
LOCATION:Cedar Lounge\, 1715 N. 3rd St.\, Superior\, WI\, 54880\, United States
CATEGORIES:Live Entertainment
ATTACH;FMTTYPE=image/jpeg:https://gottabesuperior.com/wp-content/uploads/2026/02/Alan-Sparhawk.jpg
END:VEVENT
BEGIN:VEVENT
DTSTART;TZID=America/Chicago:20260505T200000
DTEND;TZID=America/Chicago:20260505T230000
DTSTAMP:20260419T135759
CREATED:20260418T190408Z
LAST-MODIFIED:20260418T190408Z
UID:10019147-1778011200-1778022000@gottabesuperior.com
SUMMARY:Lazy Lightning 420 | Grateful Dead Cover Show @ Cedar Lounge - Superior
DESCRIPTION:follow link for tickets \nhttps://www.eventbrite.com/e/lazy-lightning-420-grateful-dead-cover-show-tickets-1984094244295?aff=ebdsoporgprofile
URL:https://gottabesuperior.com/event/lazy-lightning-420-grateful-dead-cover-show-cedar-lounge-superior/
LOCATION:Cedar Lounge\, 1715 N. 3rd St.\, Superior\, WI\, 54880\, United States
CATEGORIES:Live Entertainment
ATTACH;FMTTYPE=image/jpeg:https://gottabesuperior.com/wp-content/uploads/2025/05/Lazy-Lightning.jpeg
END:VEVENT
END:VCALENDAR