BEGIN:VCALENDAR
VERSION:2.0
PRODID:-//Gotta Be Superior - ECPv6.15.18//NONSGML v1.0//EN
CALSCALE:GREGORIAN
METHOD:PUBLISH
X-ORIGINAL-URL:https://gottabesuperior.com
X-WR-CALDESC:Events for Gotta Be Superior
REFRESH-INTERVAL;VALUE=DURATION:PT1H
X-Robots-Tag:noindex
X-PUBLISHED-TTL:PT1H
BEGIN:VTIMEZONE
TZID:America/Chicago
BEGIN:DAYLIGHT
TZOFFSETFROM:-0600
TZOFFSETTO:-0500
TZNAME:CDT
DTSTART:20250309T080000
END:DAYLIGHT
BEGIN:STANDARD
TZOFFSETFROM:-0500
TZOFFSETTO:-0600
TZNAME:CST
DTSTART:20251102T070000
END:STANDARD
BEGIN:DAYLIGHT
TZOFFSETFROM:-0600
TZOFFSETTO:-0500
TZNAME:CDT
DTSTART:20260308T080000
END:DAYLIGHT
BEGIN:STANDARD
TZOFFSETFROM:-0500
TZOFFSETTO:-0600
TZNAME:CST
DTSTART:20261101T070000
END:STANDARD
BEGIN:DAYLIGHT
TZOFFSETFROM:-0600
TZOFFSETTO:-0500
TZNAME:CDT
DTSTART:20270314T080000
END:DAYLIGHT
BEGIN:STANDARD
TZOFFSETFROM:-0500
TZOFFSETTO:-0600
TZNAME:CST
DTSTART:20271107T070000
END:STANDARD
END:VTIMEZONE
BEGIN:VEVENT
DTSTART;TZID=America/Chicago:20260423T200000
DTEND;TZID=America/Chicago:20260423T213000
DTSTAMP:20260424T150525
CREATED:20260306T184103Z
LAST-MODIFIED:20260306T184103Z
UID:10018742-1776974400-1776979800@gottabesuperior.com
SUMMARY:Tracy Lawrence @ DECC - Duluth
DESCRIPTION:follow link for tickets  https://www.ticketmaster.com/event/06006435A344976E
URL:https://gottabesuperior.com/event/tracy-lawrence-decc-duluth/
LOCATION:DECC\, 350 Harbor Drive\, Duluth\, MN\, 55802\, United States
CATEGORIES:Art,Event/Game/Sports Spectator,Live Entertainment
ATTACH;FMTTYPE=image/jpeg:https://gottabesuperior.com/wp-content/uploads/2026/03/Tracy-Lawrence.jpg
END:VEVENT
BEGIN:VEVENT
DTSTART;TZID=America/Chicago:20260412T100000
DTEND;TZID=America/Chicago:20260412T160000
DTSTAMP:20260424T150525
CREATED:20260306T181151Z
LAST-MODIFIED:20260306T181151Z
UID:10018739-1775988000-1776009600@gottabesuperior.com
SUMMARY:58th Annual Arrowhead Home & Builders Show @ DECC - Duluth
DESCRIPTION:The 58th Annual Arrowhead Home & Builders Show is the largest home show in the Arrowhead Region and is your one-stop destination for building\, remodeling and home and garden products! \nThis is the place to see what’s new and to learn about the latest trends and technology for your home all under one roof! Stop by and meet the area’s top experts who can help create your dream home! \nDates/Hours\nThursday\, April 9 – 3:00 pm – 8:00 pm\nFriday\, April 10 – 10:00 am – 8:00 pm\nSaturday\, April 11 – 9:00 am – 8:00 pm\nSunday\, April 12 – 10:00 am – 4:00 pm \nFollow link for tickets    https://arrowheadhomeshow.com/
URL:https://gottabesuperior.com/event/58th-annual-arrowhead-home-builders-show-decc-duluth/2026-04-12/
LOCATION:DECC\, 350 Harbor Drive\, Duluth\, MN\, 55802\, United States
CATEGORIES:Community Gathering,Event/Game/Sport Participation,Markets/Sales
ATTACH;FMTTYPE=image/png:https://gottabesuperior.com/wp-content/uploads/2026/03/Arrowhead-home.png
END:VEVENT
BEGIN:VEVENT
DTSTART;TZID=America/Chicago:20260411T190000
DTEND;TZID=America/Chicago:20260411T210000
DTSTAMP:20260424T150525
CREATED:20260306T181756Z
LAST-MODIFIED:20260306T181756Z
UID:10018740-1775934000-1775941200@gottabesuperior.com
SUMMARY:DSSO Pops 2 – Indiana Jones: Raiders of the Lost Ark In Concert @ DECC- Duluth
DESCRIPTION:Originally released in 1981 as a collaboration between George Lucas and Steven Spielberg\, Raiders redefined the possibilities of adventure cinema and launched actor Harrison Ford to a legendary status. \nIndiana Jones is the classic hero for this adventure set in the 1930s\, as the quick-witted and hardy archaeologist goes on the hunt for the Lost Ark of the Covenant. Often facing insurmountable odds\, Indy always manages to succeed in the nick of time\, joined by endearing companions and opposed by notorious villains. \nJoin us as the DSSO performs John Williams’ famous soundtrack live while the movie shows on the big screen. \n  \nSchedule\, tickets\, and more info at DSSO.com
URL:https://gottabesuperior.com/event/dsso-pops-2-indiana-jones-raiders-of-the-lost-ark-in-concert-decc-duluth/
LOCATION:DECC\, 350 Harbor Drive\, Duluth\, MN\, 55802\, United States
CATEGORIES:Art,Culture,Event/Game/Sports Spectator,Live Entertainment
ATTACH;FMTTYPE=image/png:https://gottabesuperior.com/wp-content/uploads/2026/03/POPS2-513x640-1.png
END:VEVENT
BEGIN:VEVENT
DTSTART;TZID=America/Chicago:20260331T190000
DTEND;TZID=America/Chicago:20260331T210000
DTSTAMP:20260424T150525
CREATED:20260306T180217Z
LAST-MODIFIED:20260306T180217Z
UID:10018735-1774983600-1774990800@gottabesuperior.com
SUMMARY:World Ballet Company: Cinderella @ DECC - Duluth
DESCRIPTION:The beloved fairy tale comes to life in a spectacular Broadway-style production that delights all ages\, blending humor\, romance\, and the timeless majesty of classical ballet. \nWorld Ballet Company’s Cinderella features a dazzling cast of 40 international dancers\, over 150 radiant hand-sewn costumes\, exquisite hand-crafted sets\, and enchanting choreography by Marina Kesler. From the mischievous evil stepsisters to the breathtaking ballroom scenes\, every moment is filled with charm\, wonder and everything you’ve loved about this story for years. \nJoin us for an unforgettable journey of magic\, beauty\, and the promise of “happily ever after.” But remember\, when the clock strikes midnight\, everything will change… \nfollow link for tickets  https://www.ticketmaster.com/event/0600631579AB2FEF
URL:https://gottabesuperior.com/event/world-ballet-company-cinderella-decc-duluth/
LOCATION:DECC\, 350 Harbor Drive\, Duluth\, MN\, 55802\, United States
CATEGORIES:Art,Event/Game/Sports Spectator,Live Entertainment
ATTACH;FMTTYPE=image/jpeg:https://gottabesuperior.com/wp-content/uploads/2026/03/Cinderella.jpg
END:VEVENT
END:VCALENDAR