BEGIN:VCALENDAR
VERSION:2.0
PRODID:-//Gotta Be Superior - ECPv6.15.18//NONSGML v1.0//EN
CALSCALE:GREGORIAN
METHOD:PUBLISH
X-WR-CALNAME:Gotta Be Superior
X-ORIGINAL-URL:https://gottabesuperior.com
X-WR-CALDESC:Events for Gotta Be Superior
REFRESH-INTERVAL;VALUE=DURATION:PT1H
X-Robots-Tag:noindex
X-PUBLISHED-TTL:PT1H
BEGIN:VTIMEZONE
TZID:America/Chicago
BEGIN:DAYLIGHT
TZOFFSETFROM:-0600
TZOFFSETTO:-0500
TZNAME:CDT
DTSTART:20250309T080000
END:DAYLIGHT
BEGIN:STANDARD
TZOFFSETFROM:-0500
TZOFFSETTO:-0600
TZNAME:CST
DTSTART:20251102T070000
END:STANDARD
BEGIN:DAYLIGHT
TZOFFSETFROM:-0600
TZOFFSETTO:-0500
TZNAME:CDT
DTSTART:20260308T080000
END:DAYLIGHT
BEGIN:STANDARD
TZOFFSETFROM:-0500
TZOFFSETTO:-0600
TZNAME:CST
DTSTART:20261101T070000
END:STANDARD
BEGIN:DAYLIGHT
TZOFFSETFROM:-0600
TZOFFSETTO:-0500
TZNAME:CDT
DTSTART:20270314T080000
END:DAYLIGHT
BEGIN:STANDARD
TZOFFSETFROM:-0500
TZOFFSETTO:-0600
TZNAME:CST
DTSTART:20271107T070000
END:STANDARD
END:VTIMEZONE
BEGIN:VEVENT
DTSTART;TZID=America/Chicago:20260409T173000
DTEND;TZID=America/Chicago:20260409T190000
DTSTAMP:20260424T215143
CREATED:20260304T174112Z
LAST-MODIFIED:20260306T163556Z
UID:10018722-1775755800-1775761200@gottabesuperior.com
SUMMARY:Landlord & Tenants Rights and Responsibilities @ Superior Public Library - Superior
DESCRIPTION:The Wisconsin Bureau of Consumer Protection will present information on landlord and tenant rights and responsibilities under Wisconsin law. Many Wisconsin residents live in rental housing. As a landlord or tenant in Wisconsin\, it is important to understand your rights and responsibilities. \nAs part of the presentation\, landlord and tenant resources will be available. \nPresented by Jeff Kersten\, Outreach Specialist for the Bureau of Consumer Protection within the WI Dept. of Ag\, Trade & Consumer Protection
URL:https://gottabesuperior.com/event/landlord-tenants-rights-and-responsibilities-superior-public-library-superior/2026-04-09/
LOCATION:Superior Public Library\, 1530 Tower Ave\, Superior\, WI\, 54880\, United States
CATEGORIES:Community Education,Free
ATTACH;FMTTYPE=image/png:https://gottabesuperior.com/wp-content/uploads/2026/03/download-6.png
ORGANIZER;CN="Ellen Chicka":MAILTO:ellen.chicka@wisc.edu
END:VEVENT
BEGIN:VEVENT
DTSTART;TZID=America/Chicago:20260408T150000
DTEND;TZID=America/Chicago:20260408T163000
DTSTAMP:20260424T215143
CREATED:20260304T175300Z
LAST-MODIFIED:20260306T162833Z
UID:10018719-1775660400-1775665800@gottabesuperior.com
SUMMARY:Consumer Protection for Young Adults@ UW Superior Yellowjacket Union - Superior
DESCRIPTION:The Wisconsin Bureau of Consumer Protection will present information on identity theft\, landlord and tenant rights and responsibilities\, and motor vehicle contracts. This presentation is specifically designed for young adults who may be\, for the first time in their lives\, getting a credit card\, renting an apartment\, or dealing with a vehicle repair. \nPresented by Jeff Kersten\, Outreach Specialist for the Bureau of Consumer Protection within the WI Dept. of Ag\, Trade and Consumer Protection.
URL:https://gottabesuperior.com/event/consumer-protection-for-young-adults-uw-superior-yellowjacket-union-superior/
LOCATION:University of Wisconsin-Superior Yellowjacket Union\, 1605 Catlin Ave\, Superior\, WI\, 54880\, United States
CATEGORIES:Community Education
ATTACH;FMTTYPE=image/png:https://gottabesuperior.com/wp-content/uploads/2026/02/UWS-logo.png
ORGANIZER;CN="Ellen Chicka":MAILTO:ellen.chicka@wisc.edu
END:VEVENT
END:VCALENDAR