BEGIN:VCALENDAR
VERSION:2.0
PRODID:-//Gotta Be Superior - ECPv6.15.18//NONSGML v1.0//EN
CALSCALE:GREGORIAN
METHOD:PUBLISH
X-WR-CALNAME:Gotta Be Superior
X-ORIGINAL-URL:https://gottabesuperior.com
X-WR-CALDESC:Events for Gotta Be Superior
REFRESH-INTERVAL;VALUE=DURATION:PT1H
X-Robots-Tag:noindex
X-PUBLISHED-TTL:PT1H
BEGIN:VTIMEZONE
TZID:America/Chicago
BEGIN:DAYLIGHT
TZOFFSETFROM:-0600
TZOFFSETTO:-0500
TZNAME:CDT
DTSTART:20250309T080000
END:DAYLIGHT
BEGIN:STANDARD
TZOFFSETFROM:-0500
TZOFFSETTO:-0600
TZNAME:CST
DTSTART:20251102T070000
END:STANDARD
BEGIN:DAYLIGHT
TZOFFSETFROM:-0600
TZOFFSETTO:-0500
TZNAME:CDT
DTSTART:20260308T080000
END:DAYLIGHT
BEGIN:STANDARD
TZOFFSETFROM:-0500
TZOFFSETTO:-0600
TZNAME:CST
DTSTART:20261101T070000
END:STANDARD
BEGIN:DAYLIGHT
TZOFFSETFROM:-0600
TZOFFSETTO:-0500
TZNAME:CDT
DTSTART:20270314T080000
END:DAYLIGHT
BEGIN:STANDARD
TZOFFSETFROM:-0500
TZOFFSETTO:-0600
TZNAME:CST
DTSTART:20271107T070000
END:STANDARD
END:VTIMEZONE
BEGIN:VEVENT
DTSTART;TZID=America/Chicago:20260411T103000
DTEND;TZID=America/Chicago:20260411T153000
DTSTAMP:20260424T170354
CREATED:20260305T183434Z
LAST-MODIFIED:20260305T183434Z
UID:10018715-1775903400-1775921400@gottabesuperior.com
SUMMARY:Agate & Ore's Birthday Celebration @ Great Lakes Aquarium - Duluth
DESCRIPTION:Agate & Ore are turning 13!\n\n\n\nHelp us celebrate with otter birthday cake\, otter-themed crafts\, and special programming all day long! The celebration will also include special appearances by Splish and Splash\, the Great Lakes Aquarium otter mascots!\n\n\nSaturday\, April 11\, 2026\n10:30 a.m. – 3:30 p.m.\nat Great Lakes Aquarium\n\n\nNo reservation necessary.\n\n\nStandard admission rates apply; members are always free!\n\n\nFor more event details\, visit GLAquarium.org/OttersBirthday
URL:https://gottabesuperior.com/event/agate-ores-birthday-celebration-great-lakes-aquarium-duluth/
LOCATION:Great Lakes Aquairum\, 353 Harbor Drive\, Duluth\, MN\, United States
CATEGORIES:Community Education,Community Gathering,Event/Game/Sport Participation,Live Entertainment
ATTACH;FMTTYPE=image/jpeg:https://gottabesuperior.com/wp-content/uploads/2026/03/647335398_1244874481086609_7412453700375557875_n.jpg
END:VEVENT
END:VCALENDAR