BEGIN:VCALENDAR
VERSION:2.0
PRODID:-//Gotta Be Superior - ECPv6.15.18//NONSGML v1.0//EN
CALSCALE:GREGORIAN
METHOD:PUBLISH
X-ORIGINAL-URL:https://gottabesuperior.com
X-WR-CALDESC:Events for Gotta Be Superior
REFRESH-INTERVAL;VALUE=DURATION:PT1H
X-Robots-Tag:noindex
X-PUBLISHED-TTL:PT1H
BEGIN:VTIMEZONE
TZID:America/Chicago
BEGIN:DAYLIGHT
TZOFFSETFROM:-0600
TZOFFSETTO:-0500
TZNAME:CDT
DTSTART:20250309T080000
END:DAYLIGHT
BEGIN:STANDARD
TZOFFSETFROM:-0500
TZOFFSETTO:-0600
TZNAME:CST
DTSTART:20251102T070000
END:STANDARD
BEGIN:DAYLIGHT
TZOFFSETFROM:-0600
TZOFFSETTO:-0500
TZNAME:CDT
DTSTART:20260308T080000
END:DAYLIGHT
BEGIN:STANDARD
TZOFFSETFROM:-0500
TZOFFSETTO:-0600
TZNAME:CST
DTSTART:20261101T070000
END:STANDARD
BEGIN:DAYLIGHT
TZOFFSETFROM:-0600
TZOFFSETTO:-0500
TZNAME:CDT
DTSTART:20270314T080000
END:DAYLIGHT
BEGIN:STANDARD
TZOFFSETFROM:-0500
TZOFFSETTO:-0600
TZNAME:CST
DTSTART:20271107T070000
END:STANDARD
END:VTIMEZONE
BEGIN:VEVENT
DTSTART;TZID=America/Chicago:20260423T120000
DTEND;TZID=America/Chicago:20260423T143000
DTSTAMP:20260424T170822
CREATED:20260401T211653Z
LAST-MODIFIED:20260401T211653Z
UID:10018894-1776945600-1776954600@gottabesuperior.com
SUMMARY:Discovery Table – Brains\, Beaks\, and Bold Personalities @ Jay Cooke State Park - Carlton
DESCRIPTION:Set up in the River Inn Visitor Center \nLet’s meet the corvids! There’s Crow—the popular one; Raven—the loner;\nand Jay—the flashy favorite. Stop by to learn about some of Minnesota’s\nmost common\, intelligent\, and fascinating birds! Let’s discover what makes\nthese clever creatures so special.
URL:https://gottabesuperior.com/event/discovery-table-brains-beaks-and-bold-personalities-jay-cooke-state-park-carlton/2026-04-23/
LOCATION:Jay Cooke State Park\, 780 Highway 210\, Carlton\, MN\, 55718\, United States
CATEGORIES:Community Education,Event/Game/Sport Participation,Kids & Family
ATTACH;FMTTYPE=image/jpeg:https://gottabesuperior.com/wp-content/uploads/2024/12/jay-cooke-state-park.jpg
ORGANIZER;CN="Jay Cooke State Park":MAILTO:kris.hiller@state.mn.us
END:VEVENT
BEGIN:VEVENT
DTSTART;TZID=America/Chicago:20260422T110000
DTEND;TZID=America/Chicago:20260422T130000
DTSTAMP:20260424T170822
CREATED:20260401T221150Z
LAST-MODIFIED:20260401T221150Z
UID:10018900-1776855600-1776862800@gottabesuperior.com
SUMMARY:Earth Rocks! An Earth Day Special Geology Program @ Jay Cooke State Park - Carlton
DESCRIPTION:Meet at the River Inn Visitor Center\nCelebrate Earth Day with a geology program that truly rocks!
URL:https://gottabesuperior.com/event/earth-rocks-an-earth-day-special-geology-program-jay-cooke-state-park-carlton/
LOCATION:Jay Cooke State Park\, 780 Highway 210\, Carlton\, MN\, 55718\, United States
CATEGORIES:Community Education,Event/Game/Sport Participation,Kids & Family,Nature
ATTACH;FMTTYPE=image/jpeg:https://gottabesuperior.com/wp-content/uploads/2024/12/jay-cooke-state-park.jpg
ORGANIZER;CN="Jay Cooke State Park":MAILTO:kris.hiller@state.mn.us
END:VEVENT
BEGIN:VEVENT
DTSTART;TZID=America/Chicago:20260419T130000
DTEND;TZID=America/Chicago:20260419T140000
DTSTAMP:20260424T170822
CREATED:20260401T212632Z
LAST-MODIFIED:20260401T212632Z
UID:10018896-1776603600-1776607200@gottabesuperior.com
SUMMARY:Phenomenal Phenology: Spring Stroll @ Jay Cooke State Park - Carlton
DESCRIPTION:Meet at the River Inn Visitor Center \nSpring has sprung! Phenology is the practice of observing seasonal changes in\nplants\, animals\, and weather consistantly over time. This reoccuring program\nfocuses on observing\, journaling\, and understanding the changes going on\naround us. Join naturalist Dan on a stroll through the park as we search for signs\nof spring! \n 
URL:https://gottabesuperior.com/event/phenomenal-phenology-spring-stroll-jay-cooke-state-park-carlton/2026-04-19/
LOCATION:Jay Cooke State Park\, 780 Highway 210\, Carlton\, MN\, 55718\, United States
CATEGORIES:Community Education,Community Gathering,Event/Game/Sport Participation,Kids & Family,Nature,Outdoors
ATTACH;FMTTYPE=image/jpeg:https://gottabesuperior.com/wp-content/uploads/2024/12/jay-cooke-state-park.jpg
ORGANIZER;CN="Jay Cooke State Park":MAILTO:kris.hiller@state.mn.us
END:VEVENT
BEGIN:VEVENT
DTSTART;TZID=America/Chicago:20260418T120000
DTEND;TZID=America/Chicago:20260418T140000
DTSTAMP:20260424T170822
CREATED:20260401T220701Z
LAST-MODIFIED:20260401T220701Z
UID:10018899-1776513600-1776520800@gottabesuperior.com
SUMMARY:Discovery Table – Fun with Furs! @ Jay Cooke State Park - Carlton
DESCRIPTION:Set up in the River Inn Visitor Center\nSpring is here! While we shed our winter jackets for lighter coats\, the\nmammals of Minnesota take a different approach. Stop by The River Inn\nVisitors Center and explore soft\, fuzzy materials with a Park Naturalist and\nsee how many furs you can identify!
URL:https://gottabesuperior.com/event/discovery-table-fun-with-furs-jay-cooke-state-park-carlton/
LOCATION:Jay Cooke State Park\, 780 Highway 210\, Carlton\, MN\, 55718\, United States
CATEGORIES:Community Education,Event/Game/Sport Participation,Kids & Family,Nature
ATTACH;FMTTYPE=image/jpeg:https://gottabesuperior.com/wp-content/uploads/2024/12/jay-cooke-state-park.jpg
ORGANIZER;CN="Jay Cooke State Park":MAILTO:kris.hiller@state.mn.us
END:VEVENT
BEGIN:VEVENT
DTSTART;TZID=America/Chicago:20260417T110000
DTEND;TZID=America/Chicago:20260417T130000
DTSTAMP:20260424T170822
CREATED:20260401T213523Z
LAST-MODIFIED:20260401T213523Z
UID:10018898-1776423600-1776430800@gottabesuperior.com
SUMMARY:Discovery Table – The Bear Necessities@ Jay Cooke State Park - Carlton
DESCRIPTION:Set up near the River Inn Interpretive Center\nWhat is a black bear? Who is Smokey Bear? What is torpor? Answer these questions and\nmore with a fun trivia game! Bears are beginning to emerge from hibernation\, so let’s\nlearn how to safely coexist with our furry\, fantastic\, fascinating neighbors. Our decisions\ngreatly impact these animals’ lives and wellness\, so let’s learn how to be BEARWISE!
URL:https://gottabesuperior.com/event/discovery-table-the-bear-necessities-jay-cooke-state-park-carlton/
LOCATION:Jay Cooke State Park\, 780 Highway 210\, Carlton\, MN\, 55718\, United States
CATEGORIES:Community Education,Event/Game/Sport Participation,Kids & Family,Nature
ATTACH;FMTTYPE=image/jpeg:https://gottabesuperior.com/wp-content/uploads/2024/12/jay-cooke-state-park.jpg
ORGANIZER;CN="Jay Cooke State Park":MAILTO:kris.hiller@state.mn.us
END:VEVENT
BEGIN:VEVENT
DTSTART;TZID=America/Chicago:20260412T120000
DTEND;TZID=America/Chicago:20260412T140000
DTSTAMP:20260424T170822
CREATED:20260401T213108Z
LAST-MODIFIED:20260401T213108Z
UID:10018897-1775995200-1776002400@gottabesuperior.com
SUMMARY:Discovery Table – Take a Look at Bones @ Jay Cooke State Park - Carlton
DESCRIPTION:Set up in front of the River Inn Visitor Center\nStop by anytime to hear ongoing mini-talks about what we can learn by\nlooking at animal bones.
URL:https://gottabesuperior.com/event/discovery-table-take-a-look-at-bones-jay-cooke-state-park-carlton/
LOCATION:Jay Cooke State Park\, 780 Highway 210\, Carlton\, MN\, 55718\, United States
CATEGORIES:Community Education,Event/Game/Sport Participation,Kids & Family,Nature
ATTACH;FMTTYPE=image/jpeg:https://gottabesuperior.com/wp-content/uploads/2024/12/jay-cooke-state-park.jpg
ORGANIZER;CN="Jay Cooke State Park":MAILTO:kris.hiller@state.mn.us
END:VEVENT
BEGIN:VEVENT
DTSTART;TZID=America/Chicago:20260330T110000
DTEND;TZID=America/Chicago:20260330T130000
DTSTAMP:20260424T170822
CREATED:20260210T210845Z
LAST-MODIFIED:20260210T212130Z
UID:10018500-1774868400-1774875600@gottabesuperior.com
SUMMARY:Discovery Table: Rock Talks @ Jay Cooke State Park/River Inn Visitor Center - Carlton
DESCRIPTION:Rocks can tell you a story about Earth’s history if you know what to look for.  Stop in anytime with your rocks to have the naturalist help you identify them of to learn the stories written in rock at Jay Cooke State Park.  Remember\, rocks are protected and cannot be removed from inside State Parks.
URL:https://gottabesuperior.com/event/discovery-table-rock-talks-jay-cooke-state-park-river-inn-visitor-center-carlton/2026-03-30/
LOCATION:River Inn Visitor Center\, 780 Highway 210\, Carlton\, MN\, 55718-9702\, United States
CATEGORIES:Community Education,Event/Game/Sport Participation,Nature
ATTACH;FMTTYPE=image/jpeg:https://gottabesuperior.com/wp-content/uploads/2024/12/jay-cooke-state-park.jpg
ORGANIZER;CN="Jay Cooke State Park":MAILTO:kris.hiller@state.mn.us
END:VEVENT
BEGIN:VEVENT
DTSTART;TZID=America/Chicago:20260329T110000
DTEND;TZID=America/Chicago:20260329T130000
DTSTAMP:20260424T170822
CREATED:20260210T214516Z
LAST-MODIFIED:20260210T214516Z
UID:10018505-1774782000-1774789200@gottabesuperior.com
SUMMARY:Discovery Table: Coyotes\, American Prairie Wolves@ Jay Cooke State Park/River Inn Visitor Center - Carlton
DESCRIPTION:What’s that *yip* chorusing through the night?  A uniquely American animal\, the coyote is a persecuted character in the story of our westward expansion.  Learn the story of coyote as we explore this misjudged animal from a different perspective.
URL:https://gottabesuperior.com/event/discovery-table-coyotes-american-prairie-wolves-jay-cooke-state-park-river-inn-visitor-center-carlton/
LOCATION:River Inn Visitor Center\, 780 Highway 210\, Carlton\, MN\, 55718-9702\, United States
CATEGORIES:Community Education,Community Gathering,Discussion Group,Event/Game/Sport Participation,Kids & Family,Nature
ATTACH;FMTTYPE=image/jpeg:https://gottabesuperior.com/wp-content/uploads/2024/12/jay-cooke-state-park.jpg
ORGANIZER;CN="Jay Cooke State Park":MAILTO:kris.hiller@state.mn.us
END:VEVENT
BEGIN:VEVENT
DTSTART;TZID=America/Chicago:20260327T110000
DTEND;TZID=America/Chicago:20260327T130000
DTSTAMP:20260424T170822
CREATED:20260210T214851Z
LAST-MODIFIED:20260210T214851Z
UID:10018506-1774609200-1774616400@gottabesuperior.com
SUMMARY:Agate Adventures: Rock Painting@ Jay Cooke State Park/River Inn Visitor Center - Carlton
DESCRIPTION:Paint. Play. Discover.  Turn ordinary rocks from outside the park into extraordinary treasures!  Come to the River Inn to learn about the state gemstone and paint one to take home and keep indoors.  Natural resources are protected in the State Park\, so please do NOT take home rrocks from inside the park or leave your painted rock behind.  This activity is open to all ages.
URL:https://gottabesuperior.com/event/agate-adventures-rock-painting-jay-cooke-state-park-river-inn-visitor-center-carlton/
LOCATION:River Inn Visitor Center\, 780 Highway 210\, Carlton\, MN\, 55718-9702\, United States
CATEGORIES:Community Education,Community Gathering,Event/Game/Sport Participation,Kids & Family,Nature
ATTACH;FMTTYPE=image/jpeg:https://gottabesuperior.com/wp-content/uploads/2024/12/jay-cooke-state-park.jpg
ORGANIZER;CN="Jay Cooke State Park":MAILTO:kris.hiller@state.mn.us
END:VEVENT
BEGIN:VEVENT
DTSTART;TZID=America/Chicago:20260326T120000
DTEND;TZID=America/Chicago:20260326T140000
DTSTAMP:20260424T170822
CREATED:20260210T214125Z
LAST-MODIFIED:20260210T214125Z
UID:10018504-1774526400-1774533600@gottabesuperior.com
SUMMARY:Discovery Table: Fun with Furs! @ Jay Cooke State Park/River Inn Visitor Center - Carlton
DESCRIPTION:It’s cold outside!  Stop by and learn some frosty facts about how animals stay warm during the snowy season.  Explore soft\, fuzzy materials with a Park Naturalist and see how many furs you can identify.
URL:https://gottabesuperior.com/event/discovery-table-fun-with-furs-jay-cooke-state-park-river-inn-visitor-center-carlton/
LOCATION:River Inn Visitor Center\, 780 Highway 210\, Carlton\, MN\, 55718-9702\, United States
CATEGORIES:Community Education,Community Gathering,Event/Game/Sport Participation,Kids & Family,Nature
ATTACH;FMTTYPE=image/jpeg:https://gottabesuperior.com/wp-content/uploads/2024/12/jay-cooke-state-park.jpg
ORGANIZER;CN="Jay Cooke State Park":MAILTO:kris.hiller@state.mn.us
END:VEVENT
END:VCALENDAR