BEGIN:VCALENDAR
VERSION:2.0
PRODID:-//Gotta Be Superior - ECPv6.15.18//NONSGML v1.0//EN
CALSCALE:GREGORIAN
METHOD:PUBLISH
X-ORIGINAL-URL:https://gottabesuperior.com
X-WR-CALDESC:Events for Gotta Be Superior
REFRESH-INTERVAL;VALUE=DURATION:PT1H
X-Robots-Tag:noindex
X-PUBLISHED-TTL:PT1H
BEGIN:VTIMEZONE
TZID:America/Chicago
BEGIN:DAYLIGHT
TZOFFSETFROM:-0600
TZOFFSETTO:-0500
TZNAME:CDT
DTSTART:20260308T080000
END:DAYLIGHT
BEGIN:STANDARD
TZOFFSETFROM:-0500
TZOFFSETTO:-0600
TZNAME:CST
DTSTART:20261101T070000
END:STANDARD
BEGIN:DAYLIGHT
TZOFFSETFROM:-0600
TZOFFSETTO:-0500
TZNAME:CDT
DTSTART:20270314T080000
END:DAYLIGHT
BEGIN:STANDARD
TZOFFSETFROM:-0500
TZOFFSETTO:-0600
TZNAME:CST
DTSTART:20271107T070000
END:STANDARD
BEGIN:DAYLIGHT
TZOFFSETFROM:-0600
TZOFFSETTO:-0500
TZNAME:CDT
DTSTART:20280312T080000
END:DAYLIGHT
BEGIN:STANDARD
TZOFFSETFROM:-0500
TZOFFSETTO:-0600
TZNAME:CST
DTSTART:20281105T070000
END:STANDARD
END:VTIMEZONE
BEGIN:VEVENT
DTSTART;TZID=America/Chicago:20270212T090000
DTEND;TZID=America/Chicago:20270212T100000
DTSTAMP:20260419T142120
CREATED:20240503T153626Z
LAST-MODIFIED:20240503T153626Z
UID:10018523-1802422800-1802426400@gottabesuperior.com
SUMMARY:Richard I Bong American Legion Post #435: Flag of Honor Ceremony
DESCRIPTION:Every Friday Morning at 9am American Legion Post #435 performs a Flag of Honor Ceremony.  Each ceremony is dedicated to the memory of a veteran who has passed. \nIf you know a veteran who you think you would like to be honored please contact American Legion Post #435.  Ceremony happens rain or snow or shine.  If the weather is good\, ceremony is outside the Richard I Bong Veterans Historical Center.  If the weather is not so good\, ceremony is inside the building.
URL:https://gottabesuperior.com/event/richard-i-bong-american-legion-post-435-flag-of-honor-ceremony/2027-02-12/
LOCATION:Richard I Bong Veterans Historical Center\, 305 Harbor View Pkwy\, Superior\, WI\, 54880
CATEGORIES:Community Gathering
ATTACH;FMTTYPE=image/jpeg:https://gottabesuperior.com/wp-content/uploads/2024/05/Legion.jpg
ORGANIZER;CN="Richard I Bong American Legion Post #435":MAILTO:ALPost435@gmail.com
END:VEVENT
BEGIN:VEVENT
DTSTART;TZID=America/Chicago:20270219T090000
DTEND;TZID=America/Chicago:20270219T100000
DTSTAMP:20260419T142120
CREATED:20240503T153626Z
LAST-MODIFIED:20240503T153626Z
UID:10018686-1803027600-1803031200@gottabesuperior.com
SUMMARY:Richard I Bong American Legion Post #435: Flag of Honor Ceremony
DESCRIPTION:Every Friday Morning at 9am American Legion Post #435 performs a Flag of Honor Ceremony.  Each ceremony is dedicated to the memory of a veteran who has passed. \nIf you know a veteran who you think you would like to be honored please contact American Legion Post #435.  Ceremony happens rain or snow or shine.  If the weather is good\, ceremony is outside the Richard I Bong Veterans Historical Center.  If the weather is not so good\, ceremony is inside the building.
URL:https://gottabesuperior.com/event/richard-i-bong-american-legion-post-435-flag-of-honor-ceremony/2027-02-19/
LOCATION:Richard I Bong Veterans Historical Center\, 305 Harbor View Pkwy\, Superior\, WI\, 54880
CATEGORIES:Community Gathering
ATTACH;FMTTYPE=image/jpeg:https://gottabesuperior.com/wp-content/uploads/2024/05/Legion.jpg
ORGANIZER;CN="Richard I Bong American Legion Post #435":MAILTO:ALPost435@gmail.com
END:VEVENT
BEGIN:VEVENT
DTSTART;TZID=America/Chicago:20270226T090000
DTEND;TZID=America/Chicago:20270226T100000
DTSTAMP:20260419T142120
CREATED:20240503T153626Z
LAST-MODIFIED:20240503T153626Z
UID:10018713-1803632400-1803636000@gottabesuperior.com
SUMMARY:Richard I Bong American Legion Post #435: Flag of Honor Ceremony
DESCRIPTION:Every Friday Morning at 9am American Legion Post #435 performs a Flag of Honor Ceremony.  Each ceremony is dedicated to the memory of a veteran who has passed. \nIf you know a veteran who you think you would like to be honored please contact American Legion Post #435.  Ceremony happens rain or snow or shine.  If the weather is good\, ceremony is outside the Richard I Bong Veterans Historical Center.  If the weather is not so good\, ceremony is inside the building.
URL:https://gottabesuperior.com/event/richard-i-bong-american-legion-post-435-flag-of-honor-ceremony/2027-02-26/
LOCATION:Richard I Bong Veterans Historical Center\, 305 Harbor View Pkwy\, Superior\, WI\, 54880
CATEGORIES:Community Gathering
ATTACH;FMTTYPE=image/jpeg:https://gottabesuperior.com/wp-content/uploads/2024/05/Legion.jpg
ORGANIZER;CN="Richard I Bong American Legion Post #435":MAILTO:ALPost435@gmail.com
END:VEVENT
BEGIN:VEVENT
DTSTART;TZID=America/Chicago:20270305T090000
DTEND;TZID=America/Chicago:20270305T100000
DTSTAMP:20260419T142120
CREATED:20240503T153626Z
LAST-MODIFIED:20240503T153626Z
UID:10018720-1804237200-1804240800@gottabesuperior.com
SUMMARY:Richard I Bong American Legion Post #435: Flag of Honor Ceremony
DESCRIPTION:Every Friday Morning at 9am American Legion Post #435 performs a Flag of Honor Ceremony.  Each ceremony is dedicated to the memory of a veteran who has passed. \nIf you know a veteran who you think you would like to be honored please contact American Legion Post #435.  Ceremony happens rain or snow or shine.  If the weather is good\, ceremony is outside the Richard I Bong Veterans Historical Center.  If the weather is not so good\, ceremony is inside the building.
URL:https://gottabesuperior.com/event/richard-i-bong-american-legion-post-435-flag-of-honor-ceremony/2027-03-05/
LOCATION:Richard I Bong Veterans Historical Center\, 305 Harbor View Pkwy\, Superior\, WI\, 54880
CATEGORIES:Community Gathering
ATTACH;FMTTYPE=image/jpeg:https://gottabesuperior.com/wp-content/uploads/2024/05/Legion.jpg
ORGANIZER;CN="Richard I Bong American Legion Post #435":MAILTO:ALPost435@gmail.com
END:VEVENT
BEGIN:VEVENT
DTSTART;TZID=America/Chicago:20270312T090000
DTEND;TZID=America/Chicago:20270312T100000
DTSTAMP:20260419T142120
CREATED:20240503T153626Z
LAST-MODIFIED:20240503T153626Z
UID:10018767-1804842000-1804845600@gottabesuperior.com
SUMMARY:Richard I Bong American Legion Post #435: Flag of Honor Ceremony
DESCRIPTION:Every Friday Morning at 9am American Legion Post #435 performs a Flag of Honor Ceremony.  Each ceremony is dedicated to the memory of a veteran who has passed. \nIf you know a veteran who you think you would like to be honored please contact American Legion Post #435.  Ceremony happens rain or snow or shine.  If the weather is good\, ceremony is outside the Richard I Bong Veterans Historical Center.  If the weather is not so good\, ceremony is inside the building.
URL:https://gottabesuperior.com/event/richard-i-bong-american-legion-post-435-flag-of-honor-ceremony/2027-03-12/
LOCATION:Richard I Bong Veterans Historical Center\, 305 Harbor View Pkwy\, Superior\, WI\, 54880
CATEGORIES:Community Gathering
ATTACH;FMTTYPE=image/jpeg:https://gottabesuperior.com/wp-content/uploads/2024/05/Legion.jpg
ORGANIZER;CN="Richard I Bong American Legion Post #435":MAILTO:ALPost435@gmail.com
END:VEVENT
BEGIN:VEVENT
DTSTART;TZID=America/Chicago:20270319T090000
DTEND;TZID=America/Chicago:20270319T100000
DTSTAMP:20260419T142120
CREATED:20240503T153626Z
LAST-MODIFIED:20240503T153626Z
UID:10018858-1805446800-1805450400@gottabesuperior.com
SUMMARY:Richard I Bong American Legion Post #435: Flag of Honor Ceremony
DESCRIPTION:Every Friday Morning at 9am American Legion Post #435 performs a Flag of Honor Ceremony.  Each ceremony is dedicated to the memory of a veteran who has passed. \nIf you know a veteran who you think you would like to be honored please contact American Legion Post #435.  Ceremony happens rain or snow or shine.  If the weather is good\, ceremony is outside the Richard I Bong Veterans Historical Center.  If the weather is not so good\, ceremony is inside the building.
URL:https://gottabesuperior.com/event/richard-i-bong-american-legion-post-435-flag-of-honor-ceremony/2027-03-19/
LOCATION:Richard I Bong Veterans Historical Center\, 305 Harbor View Pkwy\, Superior\, WI\, 54880
CATEGORIES:Community Gathering
ATTACH;FMTTYPE=image/jpeg:https://gottabesuperior.com/wp-content/uploads/2024/05/Legion.jpg
ORGANIZER;CN="Richard I Bong American Legion Post #435":MAILTO:ALPost435@gmail.com
END:VEVENT
BEGIN:VEVENT
DTSTART;TZID=America/Chicago:20270326T090000
DTEND;TZID=America/Chicago:20270326T100000
DTSTAMP:20260419T142120
CREATED:20240503T153626Z
LAST-MODIFIED:20240503T153626Z
UID:10018869-1806051600-1806055200@gottabesuperior.com
SUMMARY:Richard I Bong American Legion Post #435: Flag of Honor Ceremony
DESCRIPTION:Every Friday Morning at 9am American Legion Post #435 performs a Flag of Honor Ceremony.  Each ceremony is dedicated to the memory of a veteran who has passed. \nIf you know a veteran who you think you would like to be honored please contact American Legion Post #435.  Ceremony happens rain or snow or shine.  If the weather is good\, ceremony is outside the Richard I Bong Veterans Historical Center.  If the weather is not so good\, ceremony is inside the building.
URL:https://gottabesuperior.com/event/richard-i-bong-american-legion-post-435-flag-of-honor-ceremony/2027-03-26/
LOCATION:Richard I Bong Veterans Historical Center\, 305 Harbor View Pkwy\, Superior\, WI\, 54880
CATEGORIES:Community Gathering
ATTACH;FMTTYPE=image/jpeg:https://gottabesuperior.com/wp-content/uploads/2024/05/Legion.jpg
ORGANIZER;CN="Richard I Bong American Legion Post #435":MAILTO:ALPost435@gmail.com
END:VEVENT
BEGIN:VEVENT
DTSTART;TZID=America/Chicago:20270402T090000
DTEND;TZID=America/Chicago:20270402T100000
DTSTAMP:20260419T142120
CREATED:20240503T153626Z
LAST-MODIFIED:20240503T153626Z
UID:10019015-1806656400-1806660000@gottabesuperior.com
SUMMARY:Richard I Bong American Legion Post #435: Flag of Honor Ceremony
DESCRIPTION:Every Friday Morning at 9am American Legion Post #435 performs a Flag of Honor Ceremony.  Each ceremony is dedicated to the memory of a veteran who has passed. \nIf you know a veteran who you think you would like to be honored please contact American Legion Post #435.  Ceremony happens rain or snow or shine.  If the weather is good\, ceremony is outside the Richard I Bong Veterans Historical Center.  If the weather is not so good\, ceremony is inside the building.
URL:https://gottabesuperior.com/event/richard-i-bong-american-legion-post-435-flag-of-honor-ceremony/2027-04-02/
LOCATION:Richard I Bong Veterans Historical Center\, 305 Harbor View Pkwy\, Superior\, WI\, 54880
CATEGORIES:Community Gathering
ATTACH;FMTTYPE=image/jpeg:https://gottabesuperior.com/wp-content/uploads/2024/05/Legion.jpg
ORGANIZER;CN="Richard I Bong American Legion Post #435":MAILTO:ALPost435@gmail.com
END:VEVENT
BEGIN:VEVENT
DTSTART;TZID=America/Chicago:20270409T090000
DTEND;TZID=America/Chicago:20270409T100000
DTSTAMP:20260419T142120
CREATED:20240503T153626Z
LAST-MODIFIED:20240503T153626Z
UID:10019048-1807261200-1807264800@gottabesuperior.com
SUMMARY:Richard I Bong American Legion Post #435: Flag of Honor Ceremony
DESCRIPTION:Every Friday Morning at 9am American Legion Post #435 performs a Flag of Honor Ceremony.  Each ceremony is dedicated to the memory of a veteran who has passed. \nIf you know a veteran who you think you would like to be honored please contact American Legion Post #435.  Ceremony happens rain or snow or shine.  If the weather is good\, ceremony is outside the Richard I Bong Veterans Historical Center.  If the weather is not so good\, ceremony is inside the building.
URL:https://gottabesuperior.com/event/richard-i-bong-american-legion-post-435-flag-of-honor-ceremony/2027-04-09/
LOCATION:Richard I Bong Veterans Historical Center\, 305 Harbor View Pkwy\, Superior\, WI\, 54880
CATEGORIES:Community Gathering
ATTACH;FMTTYPE=image/jpeg:https://gottabesuperior.com/wp-content/uploads/2024/05/Legion.jpg
ORGANIZER;CN="Richard I Bong American Legion Post #435":MAILTO:ALPost435@gmail.com
END:VEVENT
END:VCALENDAR