BEGIN:VCALENDAR
VERSION:2.0
PRODID:-//Gotta Be Superior - ECPv6.15.18//NONSGML v1.0//EN
CALSCALE:GREGORIAN
METHOD:PUBLISH
X-ORIGINAL-URL:https://gottabesuperior.com
X-WR-CALDESC:Events for Gotta Be Superior
REFRESH-INTERVAL;VALUE=DURATION:PT1H
X-Robots-Tag:noindex
X-PUBLISHED-TTL:PT1H
BEGIN:VTIMEZONE
TZID:America/Chicago
BEGIN:DAYLIGHT
TZOFFSETFROM:-0600
TZOFFSETTO:-0500
TZNAME:CDT
DTSTART:20250309T080000
END:DAYLIGHT
BEGIN:STANDARD
TZOFFSETFROM:-0500
TZOFFSETTO:-0600
TZNAME:CST
DTSTART:20251102T070000
END:STANDARD
BEGIN:DAYLIGHT
TZOFFSETFROM:-0600
TZOFFSETTO:-0500
TZNAME:CDT
DTSTART:20260308T080000
END:DAYLIGHT
BEGIN:STANDARD
TZOFFSETFROM:-0500
TZOFFSETTO:-0600
TZNAME:CST
DTSTART:20261101T070000
END:STANDARD
BEGIN:DAYLIGHT
TZOFFSETFROM:-0600
TZOFFSETTO:-0500
TZNAME:CDT
DTSTART:20270314T080000
END:DAYLIGHT
BEGIN:STANDARD
TZOFFSETFROM:-0500
TZOFFSETTO:-0600
TZNAME:CST
DTSTART:20271107T070000
END:STANDARD
END:VTIMEZONE
BEGIN:VEVENT
DTSTART;TZID=America/Chicago:20260516T120000
DTEND;TZID=America/Chicago:20260516T160000
DTSTAMP:20260424T200834
CREATED:20260420T133952Z
LAST-MODIFIED:20260420T133952Z
UID:10019171-1778932800-1778947200@gottabesuperior.com
SUMMARY:Old Firehouse & Police Museum 2026 Season Opener - Superior
DESCRIPTION:Join us as we reopen the Old Firehouse & Police Museum for the 2026 season! Enjoy complimentary treats and make and take crafts during the event\, and check out our brand new kids zone\, video viewing area\, and gift shop selection! \nfollow link for ticket information  https://www.superiorhistoricproperties.org/book-a-tour-event-tickets?fbclid=IwY2xjawRTCq1leHRuA2FlbQIxMABicmlkETFLZlRhNFBNTFh3ckpyckdRc3J0YwZhcHBfaWQQMjIyMDM5MTc4ODIwMDg5MgABHipkpPbhqpZwnTanqANuoc1SSiQBVPkBknp8FpDMOGc5VXn8XDOLOP130MJm_aem_b7W1MWM2eY-nQUgUz_vH-Q
URL:https://gottabesuperior.com/event/old-firehouse-police-museum-2026-season-opener-superior/
LOCATION:Old Firehouse & Police Museum\, 402 23rd. Ave.\, Superior\, WI\, 54880\, United States
CATEGORIES:Community Education,Community Gathering,Event/Game/Sport Participation,History/Museum,Kids & Family
ATTACH;FMTTYPE=image/jpeg:https://gottabesuperior.com/wp-content/uploads/2026/04/Old-Firehouse.jpg
ORGANIZER;CN="Superior Historic Properties":MAILTO:museums@superiorwi.gov
END:VEVENT
END:VCALENDAR