BEGIN:VCALENDAR
VERSION:2.0
PRODID:-//Gotta Be Superior - ECPv6.15.18//NONSGML v1.0//EN
CALSCALE:GREGORIAN
METHOD:PUBLISH
X-WR-CALNAME:Gotta Be Superior
X-ORIGINAL-URL:https://gottabesuperior.com
X-WR-CALDESC:Events for Gotta Be Superior
REFRESH-INTERVAL;VALUE=DURATION:PT1H
X-Robots-Tag:noindex
X-PUBLISHED-TTL:PT1H
BEGIN:VTIMEZONE
TZID:America/Chicago
BEGIN:DAYLIGHT
TZOFFSETFROM:-0600
TZOFFSETTO:-0500
TZNAME:CDT
DTSTART:20250309T080000
END:DAYLIGHT
BEGIN:STANDARD
TZOFFSETFROM:-0500
TZOFFSETTO:-0600
TZNAME:CST
DTSTART:20251102T070000
END:STANDARD
BEGIN:DAYLIGHT
TZOFFSETFROM:-0600
TZOFFSETTO:-0500
TZNAME:CDT
DTSTART:20260308T080000
END:DAYLIGHT
BEGIN:STANDARD
TZOFFSETFROM:-0500
TZOFFSETTO:-0600
TZNAME:CST
DTSTART:20261101T070000
END:STANDARD
BEGIN:DAYLIGHT
TZOFFSETFROM:-0600
TZOFFSETTO:-0500
TZNAME:CDT
DTSTART:20270314T080000
END:DAYLIGHT
BEGIN:STANDARD
TZOFFSETFROM:-0500
TZOFFSETTO:-0600
TZNAME:CST
DTSTART:20271107T070000
END:STANDARD
END:VTIMEZONE
BEGIN:VEVENT
DTSTART;TZID=America/Chicago:20260428T163000
DTEND;TZID=America/Chicago:20260428T180000
DTSTAMP:20260424T170414
CREATED:20260423T144106Z
LAST-MODIFIED:20260423T144106Z
UID:10019175-1777393800-1777399200@gottabesuperior.com
SUMMARY:Pruitt Center Virtual Speaker: Dacher Keltner – Awe: Meeting the Crisis of our Times
DESCRIPTION:Presentation Abstract: \nAwe is the feeling we experience when we encounter vast mysteries we don’t understand. \nWe find awe in the eight wonders of life\, from moral beauty to music to nature to spiritual epiphany. A new science finds that a brief dose of awe benefits our brains\, hearts\, and immune systems\, counters toxic selfishness and anxiety\, and encourages greater sharing\, creativity\, and sense of common humanity. \nJoin Dacher Keltner to learn about the evolution and neurophysiology of awe\, the mental and physical health benefits and practical approaches to bringing more awe into your daily life. \n\nLearning Objectives: \n\nLearn about evolution and neurophysiology of awe\nLearn about the mental health benefits of awe\nLearn about the physical health benefits of awe\nLearn practical approaches to bringing more awe into daily life\n\n\nDacher Keltner is a Professor of Psychology at the University of California\, Berkeley\, and director of the Berkeley Social Interaction Lab. He is a leading scholar in the study of emotion\, including a new project on awe around the globe\, as well as power\, class\, and inequality. Keltner also serves as the Faculty Director of the Berkeley Greater Good Science Center. He has collaborated on projects at Facebook and Google and served as scientific consultant for the Pixar films Inside Out and Inside Out 2. He is an outstanding speaker who has received several national research and teaching awards. \nfollow link to register    https://web.cvent.com/event/8d7ba38a-3b1e-4bd7-911f-9b6d22ce3b82/summary?mc_cid=0cfb5858fa&mc_eid=ec6cfd84c6
URL:https://gottabesuperior.com/event/pruitt-center-virtual-speaker-dacher-keltner-awe-meeting-the-crisis-of-our-times/
LOCATION:Online
CATEGORIES:Community Education,Event/Game/Sports Spectator,Free,Online or Radio Event,Registration Required,Self Care
ATTACH;FMTTYPE=image/jpeg:https://gottabesuperior.com/wp-content/uploads/2026/04/Dache.jpeg
ORGANIZER;CN="The Pruitt Center for Mindfulness and Well-Being":MAILTO:mindfulness@uwsuper.edu
END:VEVENT
END:VCALENDAR