BEGIN:VCALENDAR
VERSION:2.0
PRODID:-//Gotta Be Superior - ECPv6.15.18//NONSGML v1.0//EN
CALSCALE:GREGORIAN
METHOD:PUBLISH
X-WR-CALNAME:Gotta Be Superior
X-ORIGINAL-URL:https://gottabesuperior.com
X-WR-CALDESC:Events for Gotta Be Superior
REFRESH-INTERVAL;VALUE=DURATION:PT1H
X-Robots-Tag:noindex
X-PUBLISHED-TTL:PT1H
BEGIN:VTIMEZONE
TZID:America/Chicago
BEGIN:DAYLIGHT
TZOFFSETFROM:-0600
TZOFFSETTO:-0500
TZNAME:CDT
DTSTART:20250309T080000
END:DAYLIGHT
BEGIN:STANDARD
TZOFFSETFROM:-0500
TZOFFSETTO:-0600
TZNAME:CST
DTSTART:20251102T070000
END:STANDARD
BEGIN:DAYLIGHT
TZOFFSETFROM:-0600
TZOFFSETTO:-0500
TZNAME:CDT
DTSTART:20260308T080000
END:DAYLIGHT
BEGIN:STANDARD
TZOFFSETFROM:-0500
TZOFFSETTO:-0600
TZNAME:CST
DTSTART:20261101T070000
END:STANDARD
BEGIN:DAYLIGHT
TZOFFSETFROM:-0600
TZOFFSETTO:-0500
TZNAME:CDT
DTSTART:20270314T080000
END:DAYLIGHT
BEGIN:STANDARD
TZOFFSETFROM:-0500
TZOFFSETTO:-0600
TZNAME:CST
DTSTART:20271107T070000
END:STANDARD
END:VTIMEZONE
BEGIN:VEVENT
DTSTART;TZID=America/Chicago:20260419T160000
DTEND;TZID=America/Chicago:20260419T180000
DTSTAMP:20260424T121018
CREATED:20260220T180025Z
LAST-MODIFIED:20260220T180025Z
UID:10018662-1776614400-1776621600@gottabesuperior.com
SUMMARY:UW Superior Women's Tennis vs. UW-Eau Claire @ Yellowjacket Tennis Complex - Superior
DESCRIPTION:
URL:https://gottabesuperior.com/event/uw-superior-womens-tennis-vs-uw-eau-claire-yellowjacket-tennis-complex-superior/
LOCATION:Yellowjacket Outdoor Tennis Complex\, 1810 Catlin Ave\, Superior\, 54880\, United States
CATEGORIES:College Sports,Event/Game/Sports Spectator
ATTACH;FMTTYPE=image/jpeg:https://gottabesuperior.com/wp-content/uploads/2026/02/UW-Superior-Tennis.jpg
END:VEVENT
BEGIN:VEVENT
DTSTART;TZID=America/Chicago:20260419T100000
DTEND;TZID=America/Chicago:20260419T123000
DTSTAMP:20260424T121018
CREATED:20260220T175813Z
LAST-MODIFIED:20260220T175813Z
UID:10018661-1776592800-1776601800@gottabesuperior.com
SUMMARY:UW Superior Women's Tennis vs. Minnesota Morris @ Yellowjacket Tennis Complex - Superior
DESCRIPTION:
URL:https://gottabesuperior.com/event/uw-superior-womens-tennis-vs-minnesota-morris-yellowjacket-tennis-complex-superior/
LOCATION:Yellowjacket Outdoor Tennis Complex\, 1810 Catlin Ave\, Superior\, 54880\, United States
CATEGORIES:College Sports,Event/Game/Sports Spectator
ATTACH;FMTTYPE=image/jpeg:https://gottabesuperior.com/wp-content/uploads/2026/02/UW-Superior-Tennis.jpg
END:VEVENT
BEGIN:VEVENT
DTSTART;TZID=America/Chicago:20260418T153000
DTEND;TZID=America/Chicago:20260418T170000
DTSTAMP:20260424T121018
CREATED:20260220T181431Z
LAST-MODIFIED:20260220T181431Z
UID:10018669-1776526200-1776531600@gottabesuperior.com
SUMMARY:UW Superior Baseball vs. North Central (Minn.) @ NBC Baseball & Softball Complex - Superior
DESCRIPTION:
URL:https://gottabesuperior.com/event/uw-superior-baseball-vs-north-central-minn-nbc-baseball-softball-complex-superior/2026-04-18/2/
LOCATION:NBC Baseball & Softball Complex\, 2319 Cypress Ave\, Superior\, WI\, United States
CATEGORIES:College Sports,Event/Game/Sports Spectator
ATTACH;FMTTYPE=image/jpeg:https://gottabesuperior.com/wp-content/uploads/2025/03/UWS-Baseball.jpg
END:VEVENT
BEGIN:VEVENT
DTSTART;TZID=America/Chicago:20260418T140000
DTEND;TZID=America/Chicago:20260418T160000
DTSTAMP:20260424T121018
CREATED:20260405T190718Z
LAST-MODIFIED:20260405T190718Z
UID:10019006-1776520800-1776528000@gottabesuperior.com
SUMMARY:Godspell @ UWS Manion Theater @ Superior
DESCRIPTION:Follow link for tickets  https://commerce.cashnet.com/cashnetg/static/storefront/UWSTheatre/catalog/THTR-CC%20P4
URL:https://gottabesuperior.com/event/godspell-uws-manion-theater-superior/2026-04-18/
LOCATION:Manion Theatre\, 1805 Catlin Ave.\, Superior\, WI\, 54880\, United States
CATEGORIES:Art,Community Gathering,Culture,Event/Game/Sports Spectator,Theater
ATTACH;FMTTYPE=image/jpeg:https://gottabesuperior.com/wp-content/uploads/2026/04/Godspell.jpg
END:VEVENT
BEGIN:VEVENT
DTSTART;TZID=America/Chicago:20260411T130000
DTEND;TZID=America/Chicago:20260411T153000
DTSTAMP:20260424T121018
CREATED:20260220T182755Z
LAST-MODIFIED:20260220T182755Z
UID:10018680-1775912400-1775921400@gottabesuperior.com
SUMMARY:UW Superior Softball vs. Martin Luther @ NBC Baseball & Softball Complex - Superior
DESCRIPTION:
URL:https://gottabesuperior.com/event/uw-superior-softball-vs-martin-luther-nbc-baseball-softball-complex-superior/2026-04-11/2/
LOCATION:NBC Baseball & Softball Complex\, 2319 Cypress Ave\, Superior\, WI\, United States
CATEGORIES:College Sports,Event/Game/Sports Spectator
ATTACH;FMTTYPE=image/png:https://gottabesuperior.com/wp-content/uploads/2025/03/yellowjacket-softball-1.png
END:VEVENT
BEGIN:VEVENT
DTSTART;TZID=America/Chicago:20260404T153000
DTEND;TZID=America/Chicago:20260404T170000
DTSTAMP:20260424T121018
CREATED:20260220T181103Z
LAST-MODIFIED:20260220T181103Z
UID:10018666-1775316600-1775322000@gottabesuperior.com
SUMMARY:UW Superior Baseball vs. Bethany Lutheran @ NBC Baseball & Softball Complex - Superior
DESCRIPTION:
URL:https://gottabesuperior.com/event/uw-superior-baseball-vs-bethany-lutheran-nbc-baseball-softball-complex-superior/2026-04-04/2/
LOCATION:NBC Baseball & Softball Complex\, 2319 Cypress Ave\, Superior\, WI\, United States
CATEGORIES:College Sports,Event/Game/Sports Spectator
ATTACH;FMTTYPE=image/jpeg:https://gottabesuperior.com/wp-content/uploads/2025/03/UWS-Baseball.jpg
END:VEVENT
BEGIN:VEVENT
DTSTART;TZID=America/Chicago:20260328T150000
DTEND;TZID=America/Chicago:20260328T163000
DTSTAMP:20260424T121018
CREATED:20260220T182152Z
LAST-MODIFIED:20260220T182152Z
UID:10018675-1774710000-1774715400@gottabesuperior.com
SUMMARY:UW Superior Softball vs. Northwestern (Minn.)@ NBC Baseball & Softball Complex - Superior
DESCRIPTION:
URL:https://gottabesuperior.com/event/uw-superior-softball-vs-northwestern-minn-nbc-baseball-softball-complex-superior/2026-03-28/2/
LOCATION:NBC Baseball & Softball Complex\, 2319 Cypress Ave\, Superior\, WI\, United States
CATEGORIES:College Sports,Event/Game/Sports Spectator
ATTACH;FMTTYPE=image/png:https://gottabesuperior.com/wp-content/uploads/2025/03/yellowjacket-softball-1.png
END:VEVENT
BEGIN:VEVENT
DTSTART;TZID=America/Chicago:20260324T193000
DTEND;TZID=America/Chicago:20260324T203000
DTSTAMP:20260424T121018
CREATED:20260225T033250Z
LAST-MODIFIED:20260225T033250Z
UID:10018692-1774380600-1774384200@gottabesuperior.com
SUMMARY:Matinee Musicale's annual College Awards Concert @ Webb Recital Hall - Superior
DESCRIPTION:Performances of 12 highly talented students from UMD\, UWS and St. Scholastica. Matinee Musicale has supported the next generation of classical musicians for over 100 years through this annual event by providing a performance opportunity and awarding each student a scholarship.
URL:https://gottabesuperior.com/event/matinee-musicales-annual-college-awards-concert-webb-recital-hall-superior/
LOCATION:Webb Recital Hall\, 1805 Catlin Ave.\, Superior\, WI\, 54880\, United States
CATEGORIES:Art,Event/Game/Sports Spectator,Live Entertainment
ATTACH;FMTTYPE=image/png:https://gottabesuperior.com/wp-content/uploads/2026/02/UWS-logo.png
END:VEVENT
END:VCALENDAR