BEGIN:VCALENDAR
VERSION:2.0
PRODID:-//Gotta Be Superior - ECPv6.15.18//NONSGML v1.0//EN
CALSCALE:GREGORIAN
METHOD:PUBLISH
X-WR-CALNAME:Gotta Be Superior
X-ORIGINAL-URL:https://gottabesuperior.com
X-WR-CALDESC:Events for Gotta Be Superior
REFRESH-INTERVAL;VALUE=DURATION:PT1H
X-Robots-Tag:noindex
X-PUBLISHED-TTL:PT1H
BEGIN:VTIMEZONE
TZID:America/Chicago
BEGIN:DAYLIGHT
TZOFFSETFROM:-0600
TZOFFSETTO:-0500
TZNAME:CDT
DTSTART:20250309T080000
END:DAYLIGHT
BEGIN:STANDARD
TZOFFSETFROM:-0500
TZOFFSETTO:-0600
TZNAME:CST
DTSTART:20251102T070000
END:STANDARD
BEGIN:DAYLIGHT
TZOFFSETFROM:-0600
TZOFFSETTO:-0500
TZNAME:CDT
DTSTART:20260308T080000
END:DAYLIGHT
BEGIN:STANDARD
TZOFFSETFROM:-0500
TZOFFSETTO:-0600
TZNAME:CST
DTSTART:20261101T070000
END:STANDARD
BEGIN:DAYLIGHT
TZOFFSETFROM:-0600
TZOFFSETTO:-0500
TZNAME:CDT
DTSTART:20270314T080000
END:DAYLIGHT
BEGIN:STANDARD
TZOFFSETFROM:-0500
TZOFFSETTO:-0600
TZNAME:CST
DTSTART:20271107T070000
END:STANDARD
END:VTIMEZONE
BEGIN:VEVENT
DTSTART;TZID=America/Chicago:20260424T130000
DTEND;TZID=America/Chicago:20260424T150000
DTSTAMP:20260424T103418
CREATED:20260220T175350Z
LAST-MODIFIED:20260220T175350Z
UID:10018660-1777035600-1777042800@gottabesuperior.com
SUMMARY:UW Superior Men's Tennis vs. Crown @ Yellowjacket Tennis Complex - Superior
DESCRIPTION:
URL:https://gottabesuperior.com/event/uw-superior-mens-tennis-vs-crown-yellowjacket-tennis-complex-superior/
LOCATION:Yellowjacket Outdoor Tennis Complex\, 1810 Catlin Ave\, Superior\, 54880\, United States
CATEGORIES:College Sports,Event/Game/Sports Spectator
ATTACH;FMTTYPE=image/jpeg:https://gottabesuperior.com/wp-content/uploads/2026/02/UW-Superior-Tennis.jpg
END:VEVENT
BEGIN:VEVENT
DTSTART;TZID=America/Chicago:20260424T160000
DTEND;TZID=America/Chicago:20260424T180000
DTSTAMP:20260424T103418
CREATED:20260220T180238Z
LAST-MODIFIED:20260220T180238Z
UID:10018663-1777046400-1777053600@gottabesuperior.com
SUMMARY:UW Superior Women's Tennis vs. Crown @ Yellowjacket Tennis Complex - Superior
DESCRIPTION:
URL:https://gottabesuperior.com/event/uw-superior-womens-tennis-vs-crown-yellowjacket-tennis-complex-superior/
LOCATION:Yellowjacket Outdoor Tennis Complex\, 1810 Catlin Ave\, Superior\, 54880\, United States
CATEGORIES:College Sports,Event/Game/Sports Spectator
ATTACH;FMTTYPE=image/jpeg:https://gottabesuperior.com/wp-content/uploads/2026/02/UW-Superior-Tennis.jpg
END:VEVENT
BEGIN:VEVENT
DTSTART;TZID=America/Chicago:20260430T150000
DTEND;TZID=America/Chicago:20260430T190000
DTSTAMP:20260424T103418
CREATED:20260416T171019Z
LAST-MODIFIED:20260416T171019Z
UID:10019104-1777561200-1777575600@gottabesuperior.com
SUMMARY:The Senior Capstone Art Exhibition @ Holden Fine Arts Building - Superior
DESCRIPTION:Come celebrate the achievements of our graduating seniors on May 1st from 5–7pm in the Experimental Gallery! Enjoy some refreshments\, good company\, and great art!\nThe Senior Capstone Art Exhibition will be on view in the Experimental Gallery from April 30 to May 15. Gallery hours are from 3–7pm\, Monday–Friday with free admission!
URL:https://gottabesuperior.com/event/the-senior-capstone-art-exhibition-holden-fine-arts-building-superior/2026-04-30/
LOCATION:Holden Fine and Applied Arts Center\, 1805 Catlin Ave\, Superior\, WI\, 54880\, United States
CATEGORIES:Art,Community Education,Community Gathering,Culture,Event/Game/Sports Spectator,Free
ATTACH;FMTTYPE=image/jpeg:https://gottabesuperior.com/wp-content/uploads/2026/04/Capstone.jpg
END:VEVENT
BEGIN:VEVENT
DTSTART;TZID=America/Chicago:20260501T150000
DTEND;TZID=America/Chicago:20260501T170000
DTSTAMP:20260424T103418
CREATED:20260220T181732Z
LAST-MODIFIED:20260220T181732Z
UID:10018670-1777647600-1777654800@gottabesuperior.com
SUMMARY:UW Superior Baseball vs. Minnesota Morris@ NBC Baseball & Softball Complex - Superior
DESCRIPTION:
URL:https://gottabesuperior.com/event/uw-superior-baseball-vs-minnesota-morris-nbc-baseball-softball-complex-superior/2026-05-01/
LOCATION:NBC Baseball & Softball Complex\, 2319 Cypress Ave\, Superior\, WI\, United States
CATEGORIES:College Sports,Event/Game/Sports Spectator
ATTACH;FMTTYPE=image/jpeg:https://gottabesuperior.com/wp-content/uploads/2025/03/UWS-Baseball.jpg
END:VEVENT
BEGIN:VEVENT
DTSTART;TZID=America/Chicago:20260501T150000
DTEND;TZID=America/Chicago:20260501T190000
DTSTAMP:20260424T103418
CREATED:20260416T171249Z
LAST-MODIFIED:20260416T171249Z
UID:10019107-1777647600-1777662000@gottabesuperior.com
SUMMARY:The Senior Capstone Art Exhibition @ Holden Fine Arts Building - Superior
DESCRIPTION:Come celebrate the achievements of our graduating seniors on May 1st from 5–7pm in the Experimental Gallery! Enjoy some refreshments\, good company\, and great art!\nThe Senior Capstone Art Exhibition will be on view in the Experimental Gallery from April 30 to May 15. Gallery hours are from 3–7pm\, Monday–Friday with free admission!
URL:https://gottabesuperior.com/event/the-senior-capstone-art-exhibition-holden-fine-arts-building-superior-2/2026-05-01/
LOCATION:Holden Fine and Applied Arts Center\, 1805 Catlin Ave\, Superior\, WI\, 54880\, United States
CATEGORIES:Art,Community Education,Community Gathering,Culture,Event/Game/Sports Spectator,Free
ATTACH;FMTTYPE=image/jpeg:https://gottabesuperior.com/wp-content/uploads/2026/04/Capstone.jpg
END:VEVENT
BEGIN:VEVENT
DTSTART;TZID=America/Chicago:20260502T130000
DTEND;TZID=America/Chicago:20260502T190000
DTSTAMP:20260424T103418
CREATED:20260415T025024Z
LAST-MODIFIED:20260415T025024Z
UID:10019101-1777726800-1777748400@gottabesuperior.com
SUMMARY:Geteoodenaang Ziigwan ‘Old Town Spring’ Powwow @ Superior Middle School - Superior
DESCRIPTION:The University of Wisconsin‑Superior\, in partnership with the Superior School District Indian Education Committee\, will host the Geteoodenaang Ziigwan “Old Town Spring” Powwow on Saturday\, May 2\, from 1 to 7 p.m. at Superior Middle School. \nThe grand entry will begin at 1 p.m. Head dancers for the event are Giizh Agaton‑Howes and Ami Agaton‑Howes\, with Ricky White serving as emcee. \nA youth and adult hand drum contest will take place from 3 to 5 p.m.\, and food vendors will be available throughout the event. Vendors can contact Jen Willoughby at Jennifer.willoughby@superior.k.12.wi.us or Cali Quaderer at cquader2@uwsuper.edu. \nThe powwow is free and open to the public. This is an alcohol‑ and drug‑free event. Children under age 16 must be accompanied by an adult. Dancers may register by contacting Jen Willoughby at Jennifer.willoughby@superior.k.12.wi.us. For more information\, contact icrc@uwsuper.edu.
URL:https://gottabesuperior.com/event/geteoodenaang-ziigwan-old-town-spring-powwow-superior-middle-school-superior/
LOCATION:Superior Middle School\, 2626 Hammond Ave\, Superior\, 54880\, United States
CATEGORIES:Community Gathering,Culture,Dancing,Event/Game/Sport Participation,Event/Game/Sports Spectator,Free
ATTACH;FMTTYPE=image/jpeg:https://gottabesuperior.com/wp-content/uploads/2026/04/pow.jpg
END:VEVENT
BEGIN:VEVENT
DTSTART;TZID=America/Chicago:20260504T150000
DTEND;TZID=America/Chicago:20260504T190000
DTSTAMP:20260424T103418
CREATED:20260416T171421Z
LAST-MODIFIED:20260416T171421Z
UID:10019110-1777906800-1777921200@gottabesuperior.com
SUMMARY:The Senior Capstone Art Exhibition @ Holden Fine Arts Building - Superior
DESCRIPTION:Come celebrate the achievements of our graduating seniors on May 1st from 5–7pm in the Experimental Gallery! Enjoy some refreshments\, good company\, and great art!\nThe Senior Capstone Art Exhibition will be on view in the Experimental Gallery from April 30 to May 15. Gallery hours are from 3–7pm\, Monday–Friday with free admission!
URL:https://gottabesuperior.com/event/the-senior-capstone-art-exhibition-holden-fine-arts-building-superior-3/
LOCATION:Holden Fine and Applied Arts Center\, 1805 Catlin Ave\, Superior\, WI\, 54880\, United States
CATEGORIES:Art,Community Education,Community Gathering,Culture,Event/Game/Sports Spectator,Free
ATTACH;FMTTYPE=image/jpeg:https://gottabesuperior.com/wp-content/uploads/2026/04/Capstone.jpg
END:VEVENT
BEGIN:VEVENT
DTSTART;TZID=America/Chicago:20260505T150000
DTEND;TZID=America/Chicago:20260505T190000
DTSTAMP:20260424T103418
CREATED:20260416T171612Z
LAST-MODIFIED:20260416T171612Z
UID:10019111-1777993200-1778007600@gottabesuperior.com
SUMMARY:The Senior Capstone Art Exhibition @ Holden Fine Arts Building - Superior
DESCRIPTION:Come celebrate the achievements of our graduating seniors on May 1st from 5–7pm in the Experimental Gallery! Enjoy some refreshments\, good company\, and great art!\nThe Senior Capstone Art Exhibition will be on view in the Experimental Gallery from April 30 to May 15. Gallery hours are from 3–7pm\, Monday–Friday with free admission!
URL:https://gottabesuperior.com/event/the-senior-capstone-art-exhibition-holden-fine-arts-building-superior-4/2026-05-05/
LOCATION:Holden Fine and Applied Arts Center\, 1805 Catlin Ave\, Superior\, WI\, 54880\, United States
CATEGORIES:Art,Community Education,Community Gathering,Culture,Event/Game/Sports Spectator,Free
ATTACH;FMTTYPE=image/jpeg:https://gottabesuperior.com/wp-content/uploads/2026/04/Capstone.jpg
END:VEVENT
BEGIN:VEVENT
DTSTART;TZID=America/Chicago:20260506T150000
DTEND;TZID=America/Chicago:20260506T190000
DTSTAMP:20260424T103418
CREATED:20260416T172018Z
LAST-MODIFIED:20260416T172018Z
UID:10019113-1778079600-1778094000@gottabesuperior.com
SUMMARY:The Senior Capstone Art Exhibition @ Holden Fine Arts Building - Superior
DESCRIPTION:Come celebrate the achievements of our graduating seniors on May 1st from 5–7pm in the Experimental Gallery! Enjoy some refreshments\, good company\, and great art!\nThe Senior Capstone Art Exhibition will be on view in the Experimental Gallery from April 30 to May 15. Gallery hours are from 3–7pm\, Monday–Friday with free admission!
URL:https://gottabesuperior.com/event/the-senior-capstone-art-exhibition-holden-fine-arts-building-superior-5/2026-05-06/
LOCATION:Holden Fine and Applied Arts Center\, 1805 Catlin Ave\, Superior\, WI\, 54880\, United States
CATEGORIES:Art,Community Education
ATTACH;FMTTYPE=image/jpeg:https://gottabesuperior.com/wp-content/uploads/2026/04/Capstone.jpg
END:VEVENT
END:VCALENDAR